Workbook

Sheet 1. 개인 장비
A1: 부서 | B1: 팀명 | C1: 소속 | D1: 직무 | E1: 성명 | F1: 직급 | G1: 메인보드 | H1: CPU | I1: CPU 출시연도 | J1: GPU | K1: GPU 출시연도 | L1: RAM | M1: SDD1 | N1: SDD2 | O1: HDD1 | P1: HDD2 | Q1: HDD3 | R1: HDD4 | S1: 24" | T1: 27" | U1: 32" | V1: 기타
A2: 기술개발센터 | B2: 과업수행그룹 | C2: =VLOOKUP(E2, Sheet1!$A$1:$I$228, 2, FALSE) -> 삼안 | D2: 엔지니어 | E2: 김형준 | F2: 수석연구원 | G2: TUF B365M-PLUS GAMING | H2: Intel(R) Core(TM) i7-9700 | I2: 2018 | J2: NVIDIA GeForce RTX 2060 SUPER | K2: 2018 | L2: 16GB | M2: 500GB | O2: 2TB | S2: LG(2) | W2: =I2&"0"&$X$2 -> 201801 | X2: 1
A3: 기술개발센터 | B3: 구조물S/W개발팀 | C3: =VLOOKUP(E3, Sheet1!$A$1:$I$228, 2, FALSE) -> 삼안 | D3: 개발자 | E3: 정계완 | F3: 수석연구원 | G3: PRO Z790-A WIFI(MS-7E07) | H3: Intel(R) Core(TM) i9-13900K | I3: 2022 | J3: NVIDIA GeForce RTX 4080 | K3: 2022 | L3: 64GB | M3: 2TB | O3: 8TB | S3: LG(1) | T3: LG(2) | W3: =I3&"0"&$X$2 -> 202201 | X3: 개인장비 사양 확인 방법
A4: 기술개발센터 | B4: 구조물S/W개발팀 | C4: =VLOOKUP(E4, Sheet1!$A$1:$I$228, 2, FALSE) -> 바론 | D4: 개발자 | E4: 김세열 | F4: 책임연구원 | G4: Z790 Pro RS | H4: Intel(R) Core(TM) i7-13700KF | I4: 2022 | J4: NVIDIA GeForce RTX 3070 Ti | K4: 2020 | L4: 32GB | M4: 1TB | O4: 4TB | S4: LG(1) | T4: LG(2) | W4: =I4&"0"&$X$2 -> 202201 | X4: 기술개발센터 재물조사.pptx
A5: 기술개발센터 | B5: 구조물S/W개발팀 | C5: =VLOOKUP(E5, Sheet1!$A$1:$I$228, 2, FALSE) -> 한맥 | D5: 개발자 | E5: 김지웅 | F5: 책임연구원 | G5: PRO Z790-A WIFI(MS-7E07) | H5: Intel(R) Core(TM) i9-13900K | I5: 2022 | J5: NVIDIA GeForce RTX 4080 | K5: 2022 | L5: 64GB | M5: 2TB | O5: 8TB | S5: LG (3) | T5: 0 | W5: =I5&"0"&$X$2 -> 202201
A6: 기술개발센터 | B6: 구조물S/W개발팀 | C6: =VLOOKUP(E6, Sheet1!$A$1:$I$228, 2, FALSE) -> 삼안 | D6: 개발자 | E6: 이인우 | F6: 선임연구원 | G6: PRO Z790-A WIFI (MS-7E07) | H6: Intel(R) Core(TM) i9-13900K | I6: 2022 | J6: NVIDIA GeForce RTX 4080 | K6: 2022 | L6: 64GB | M6: 2TB | O6: 8TB | S6: LG(1) | T6: LG(2) | W6: =I6&"0"&$X$2 -> 202201
A7: 기술개발센터 | B7: 구조물S/W개발팀 | C7: =VLOOKUP(E7, Sheet1!$A$1:$I$228, 2, FALSE) -> 삼안 | D7: 개발자 | E7: 이연재 | F7: 선임연구원 | G7: PRO Z790-A WIFI (MS-7E07) | H7: Intel(R) Core(TM) i9-13900K | I7: 2022 | J7: NVIDIA GeForce RTX 4080 | K7: 2022 | L7: 64GB | M7: 2TB | O7: 8TB | S7: LG(2) | T7: LG(1) | W7: =I7&"0"&$X$2 -> 202201
A8: 기술개발센터 | B8: 구조물S/W개발팀 | C8: =VLOOKUP(E8, Sheet1!$A$1:$I$228, 2, FALSE) -> 삼안 | D8: 개발자 | E8: 이준호 | F8: 연구원 | G8: PRO Z790-A WIFI(MS-7E07) | H8: Intel(R) Core(TM) i9-13900K | I8: 2022 | J8: NVIDIA GeForce RTX 4080 | K8: 2022 | L8: 64GB | M8: 2TB | O8: 8TB | S8: LG(2) | T8: LG(1) | W8: =I8&"0"&$X$2 -> 202201
A9: 기술개발센터 | B9: 그래픽스 개발팀 | C9: =VLOOKUP(E9, Sheet1!$A$1:$I$228, 2, FALSE) -> 삼안 | D9: 개발자 | E9: 김민성 | F9: 수석연구원 | G9: PRIME B365M-A | H9: Intel(R) Core(TM) i7-9700K | I9: 2018 | J9: NVIDIA GeForce RTX 3060 | K9: 2020 | L9: 64GB | M9: 1TB | O9: 8TB | S9: LG (2) | T9: LG (1) | W9: =I9&"0"&$X$2 -> 201801
A10: 기술개발센터 | B10: 그래픽스 개발팀_Abut&시공통합관제셀 | C10: =VLOOKUP(E10, Sheet1!$A$1:$I$228, 2, FALSE) -> 삼안 | D10: 개발자 | E10: 한성일 | F10: 책임연구원 | G10: PRIME Z790-P | H10: Intel(R) Core(TM) i7-13700KF | I10: 2022 | J10: NVIDIA GeForce RTX 3070 Ti | K10: 2020 | L10: 64GB | M10: 1TB | O10: 4TB | S10: LG (1) | T10: LG (2) | W10: =I10&"0"&$X$2 -> 202201
A11: 기술개발센터 | B11: 그래픽스 개발팀_Abut&시공통합관제셀 | C11: =VLOOKUP(E11, Sheet1!$A$1:$I$228, 2, FALSE) -> 삼안 | D11: 개발자 | E11: 박승우 | F11: 연구원 | G11: PRIME H610M-D D4 | H11: Intel(R) Core(TM) i7-12700 | I11: 2021 | J11: NVIDIA GeForce RTX 3060 | K11: 2020 | L11: 64GB | M11: 1TB | O11: 2TB | S11: LG (2) | T11: LG (1) | W11: =I11&"0"&$X$2 -> 202101
A12: 기술개발센터 | B12: 그래픽스 개발팀_Abut&시공통합관제셀 | C12: =VLOOKUP(E12, Sheet1!$A$1:$I$228, 2, FALSE) -> 삼안 | D12: 개발자 | E12: 이민규 | F12: 연구원 | G12: B760M DS3H | H12: Intel(R) Core(TM) i7-14700F | I12: 2023 | J12: NVIDIA GeForce RTX 4060 | K12: 2022 | L12: 64GB | M12: 500GB | O12: 2TB | S12: LG (2) | T12: LG (1) | W12: =I12&"0"&$X$2 -> 202301
A13: 기술개발센터 | B13: 그래픽스 개발팀_EG-BIM Draw셀 | C13: =VLOOKUP(E13, Sheet1!$A$1:$I$228, 2, FALSE) -> 한맥 | D13: 개발자 | E13: 최준영 | F13: 책임연구원 | G13: TUF GAMING B650M-PLUS | H13: AMD Ryzen 9 7900X | I13: 2022 | J13: NVIDIA GeForce RTX 4070 Ti | K13: 2022 | L13: 32GB | M13: 1TB | O13: 2TB | S13: LG (2) | T13: LG (1) | W13: =I13&"0"&$X$2 -> 202201
A14: 기술개발센터 | B14: 그래픽스 개발팀_EG-BIM Draw셀 | C14: =VLOOKUP(E14, Sheet1!$A$1:$I$228, 2, FALSE) -> 삼안 | D14: 개발자 | E14: 엄지숙 | F14: 책임연구원 | G14: PRO B650M-A WIFI (MS-7D77) | H14: AMD Ryzen 9 7900X | I14: 2022 | J14: NVIDIA GeForce RTX 4070 Ti | K14: 2022 | L14: 32GB | M14: 2TB | O14: 2TB | S14: LG (2) | T14: LG (1) | W14: =I14&"0"&$X$2 -> 202201
A15: 기술개발센터 | B15: 그래픽스 개발팀_EG-BIM Draw셀 | C15: =VLOOKUP(E15, Sheet1!$A$1:$I$228, 2, FALSE) -> 삼안 | D15: 개발자 | E15: 강근아 | F15: 선임연구원 | G15: PRIME B460M-A | H15: Intel(R) Core(TM) i7-10700 | I15: 2020 | J15: NVIDIA GeForce RTX 2070 | K15: 2018 | L15: 32GB | M15: 1TB | N15: 500GB | O15: 2TB | S15: LG (2) | T15: LG (1) | W15: =I15&"0"&$X$2 -> 202001
A16: 기술개발센터 | B16: 그래픽스 개발팀_EG-BIM Draw셀 | C16: =VLOOKUP(E16, Sheet1!$A$1:$I$228, 2, FALSE) -> 바론 | D16: 개발자 | E16: 서동해 | F16: 선임연구원 | G16: PRIME B760M-K | H16: Intel(R) Core(TM) i7-13700F | I16: 2022 | J16: NVIDIA GeForce RTX 4060 | K16: 2022 | L16: 32GB | M16: 1TB | O16: 2TB | S16: LG (2) | T16: LG (1) | W16: =I16&"0"&$X$2 -> 202201
A17: 기술개발센터 | B17: 그래픽스 개발팀_EG-BIM Draw셀 | C17: =VLOOKUP(E17, Sheet1!$A$1:$I$228, 2, FALSE) -> 바론 | D17: 개발자 | E17: 김근형 | F17: 선임연구원 | G17: TUF GAMING B650M-PLUS | H17: AMD Ryzen 9 7900X | I17: 2022 | J17: NVIDIA GeForce RTX 4070 Ti | K17: 2022 | L17: 32GB | M17: 1TB | O17: 2TB | S17: LG (2) | T17: LG (1) | W17: =I17&"0"&$X$2 -> 202201
A18: 기술개발센터 | B18: 그래픽스 개발팀_HmEG셀 | C18: =VLOOKUP(E18, Sheet1!$A$1:$I$228, 2, FALSE) -> 삼안 | D18: 개발자 | E18: 백승민 | F18: 책임연구원 | G18: MPG Z690 FORCE WIFI (MS-7D30) | H18: Intel(R) Core(TM) i9-12900K | I18: 2021 | J18: NVIDIA GeForce RTX 3090 Ti | K18: 2020 | L18: 32GB | M18: 1TB | O18: 2TB | S18: LG(2) | T18: LG (1) | W18: =I18&"0"&$X$2 -> 202101
A19: 기술개발센터 | B19: 그래픽스 개발팀_HmEG셀 | C19: =VLOOKUP(E19, Sheet1!$A$1:$I$228, 2, FALSE) -> 삼안 | D19: 개발자 | E19: 최진영 | F19: 선임연구원 | G19: MAG B660M MORTAR WIFI DDR4 (MS-7D42) | H19: Intel(R) Core(TM) i7-13700KF | I19: 2022 | J19: NVIDIA GeForce RTX 4090 | K19: 2022 | L19: 64GB | M19: 1TB | O19: 2TB | S19: LG (2) | T19: LG (1) | W19: =I19&"0"&$X$2 -> 202201
A20: 기술개발센터 | B20: 그래픽스 개발팀_HmEG셀 | C20: =VLOOKUP(E20, Sheet1!$A$1:$I$228, 2, FALSE) -> PTC | D20: 개발자 | E20: 문영석 | F20: 선임연구원 | G20: TUF B365M-PLUS GAMING | H20: Intel(R) Core(TM) i7-9700 | I20: 2018 | J20: NVIDIA GeForce RTX 2070 | K20: 2018 | L20: 32GB | M20: 500GB | O20: 2TB | S20: LG (2) | T20: LG (1) | W20: =I20&"0"&$X$2 -> 201801
A21: 기술개발센터 | B21: 그래픽스 개발팀_HmEG셀 | C21: =VLOOKUP(E21, Sheet1!$A$1:$I$228, 2, FALSE) -> 삼안 | D21: 개발자 | E21: 김명식 | F21: 선임연구원 | G21: PRO B650M-A WIFI (MS-7D77) | H21: AMD Ryzen 9 7900X | I21: 2022 | J21: NVIDIA GeForce RTX 4070 Ti | K21: 2022 | L21: 32GB | M21: 2TB | O21: 2TB | S21: LG (2) | T21: LG (1) | W21: =I21&"0"&$X$2 -> 202201
A22: 기술개발센터 | B22: 그래픽스 개발팀_HmEG셀 | C22: =VLOOKUP(E22, Sheet1!$A$1:$I$228, 2, FALSE) -> 삼안 | D22: 개발자 | E22: 민경록 | F22: 연구원 | G22: PRIME Z790-P | H22: Intel(R) Core(TM) i7-13700KF | I22: 2022 | J22: NVIDIA GeForce RTX 3070 Ti | K22: 2020 | L22: 32GB | M22: 1TB | O22: 4TB | S22: LG (2) | T22: LG (1) | W22: =I22&"0"&$X$2 -> 202201
A23: 기술개발센터 | B23: 그래픽스 개발팀_HmEG셀 | C23: =VLOOKUP(E23, Sheet1!$A$1:$I$228, 2, FALSE) -> 삼안 | D23: 개발자 | E23: 정진우 | F23: 연구원 | G23: B760M DS3H | H23: Intel(R) Core(TM) i7-14700F | I23: 2023 | J23: NVIDIA GeForce RTX 4060 | K23: 2022 | L23: 32GB | M23: 1TB | O23: 2TB | S23: LG (2) | T23: LG (1) | W23: =I23&"0"&$X$2 -> 202301
A24: 기술개발센터 | B24: 그래픽스 개발팀_Modeler셀 | C24: =VLOOKUP(E24, Sheet1!$A$1:$I$228, 2, FALSE) -> 삼안 | D24: 개발자 | E24: 이재원 | F24: 선임연구원 | G24: PRIME B365M-A | H24: Intel(R) Core(TM) i7-9700K | I24: 2018 | J24: NVIDIA GeForce RTX 3060 SUPER | K24: 2020 | L24: 32GB | M24: 500GB | O24: 2TB | S24: LG (2) | T24: LG (1) | W24: =I24&"0"&$X$2 -> 201801
A25: 기술개발센터 | B25: 그래픽스 개발팀_Modeler셀 | C25: =VLOOKUP(E25, Sheet1!$A$1:$I$228, 2, FALSE) -> 삼안 | D25: 개발자 | E25: 홍길수 | F25: 선임연구원 | G25: PRIME Z390M-PLUS | H25: Intel(R) Core(TM) i7-9700K | I25: 2018 | J25: NVIDIA GeForce RTX 3070 Ti | K25: 2020 | L25: 32GB | M25: 500GB | O25: 2TB | S25: LG(2) | T25: LG (1) | W25: =I25&"0"&$X$2 -> 201801
A26: 기술개발센터 | B26: 그래픽스 개발팀_Modeler셀 | C26: =VLOOKUP(E26, Sheet1!$A$1:$I$228, 2, FALSE) -> 바론 | D26: 개발자 | E26: 이지율 | F26: 연구원 | G26: PRIME B760M-K | H26: Intel(R) Core(TM) i7-13700F | I26: 2022 | J26: NVIDIA GeForce RTX 3070 Ti | K26: 2020 | L26: 32GB | M26: 1TB | O26: 2TB | S26: LG (2) | T26: LG (1) | W26: =I26&"0"&$X$2 -> 202201
A27: 기술개발센터 | B27: 그래픽스 개발팀_Modeler셀 | C27: =VLOOKUP(E27, Sheet1!$A$1:$I$228, 2, FALSE) -> 삼안 | D27: 개발자 | E27: 이해랑 | F27: 연구원 | G27: PRIME B450M-K II | H27: AMD Ryzen 5 5600X | I27: 2020 | J27: NVIDIA GeForce RTX 3060 Ti | K27: 2020 | L27: 32GB | M27: 500GB | N27: 1TB | O27: 2TB | S27: LG(2) | T27: LG (1) | W27: =I27&"0"&$X$2 -> 202001
A28: 기술개발센터 | B28: 상하수도팀 | C28: =VLOOKUP(E28, Sheet1!$A$1:$I$228, 2, FALSE) -> 삼안 | D28: 엔지니어 | E28: 박현수 | F28: 책임 | G28: PRIME H610M-E D4 | H28: Intel(R) Core(TM) i7-13700F | I28: 2022 | J28: NVIDIA GeForce RTX 3060 | K28: 2020 | L28: 32GB | M28: 500GB | O28: 1.82TB | S28: LG(1) | W28: =I28&"0"&$X$2 -> 202201
A29: 기술개발센터 | B29: 상하수도팀 | C29: =VLOOKUP(E29, Sheet1!$A$1:$I$228, 2, FALSE) -> 삼안 | D29: 엔지니어 | E29: 최정우A | F29: 책임 | G29: PRIME H610M-E D4 | H29: Intel(R) Core(TM) i7-12700F | I29: 2021 | J29: NVIDIA GeForce RTX 3060 | K29: 2020 | L29: 32GB | M29: 500GB | O29: 1.8TB | S29: LG(2) | T29: DELL(1) | W29: =I29&"0"&$X$2 -> 202101
A30: 기술개발센터 | B30: 상하수도팀 | C30: =VLOOKUP(E30, Sheet1!$A$1:$I$228, 2, FALSE) -> 삼안 | D30: 엔지니어 | E30: 배상우 | F30: 선임 | G30: PRIME B365M-K | H30: Intel(R) Core(TM) i7-9700K | I30: 2018 | J30: NVIDIA GeForce RTX 2060 SUPER | K30: 2018 | L30: 32GB | M30: 500GB | O30: 1.82TB | S30: LG(2) | W30: =I30&"0"&$X$2 -> 201801
A31: 기술개발센터 | B31: 상하수도팀 | C31: =VLOOKUP(E31, Sheet1!$A$1:$I$228, 2, FALSE) -> 삼안 | D31: 엔지니어 | E31: 최지수 | F31: 연구원 | G31: PRIME B365M-K | H31: Intel(R) Core(TM) i7-9700K | I31: 2018 | J31: NVIDIA GeForce GTX 1060 | K31: 2016 | L31: 32GB | M31: 500GB | O31: 1.8TB | S31: LG(2) | W31: =I31&"0"&$X$2 -> 201801
A32: 기술개발센터 | B32: 수자원팀 | C32: =VLOOKUP(E32, Sheet1!$A$1:$I$228, 2, FALSE) -> 삼안 | D32: 엔지니어 | E32: 이은구 | F32: 책임 | G32: PRIME H610M-D D4 | H32: 12th Gen Intel(R) Core(TM) (12 CPUs) | I32: 2021 | J32: NVIDIA GeForce RTX 3060 | K32: 2020 | L32: 32GB | M32: 500GB | O32: 8TB | S32: LG (1) | T32: DELL(1) | W32: =I32&"0"&$X$2 -> 202101
A33: 기술개발센터 | B33: 수자원팀 | C33: =VLOOKUP(E33, Sheet1!$A$1:$I$228, 2, FALSE) -> 삼안 | D33: 엔지니어 | E33: 지현욱 | F33: 책임 | G33: PRIME B360M-K | H33: Intel(R) Core(TM) i7-9700K | I33: 2018 | J33: NVIDIA GeForce GTX 1070 | K33: 2016 | L33: 16GB | M33: 500GB | O33: 2TB | S33: LG (2) | W33: =I33&"0"&$X$2 -> 201801
A34: 기술개발센터 | B34: 수자원팀 | C34: =VLOOKUP(E34, Sheet1!$A$1:$I$228, 2, FALSE) -> 삼안 | D34: 엔지니어 | E34: 김희철 | F34: 연구원 | G34: PRIME B350M-A | H34: AMD Ryzen 7 1700X | I34: 2017 | J34: NVIDIA GeForce GTX 1050 Ti | K34: 2016 | L34: 16GB | M34: 250GB | O34: 2TB | S34: LG (2) | W34: =I34&"0"&$X$2 -> 201701
A35: 기술개발센터 | B35: 수자원팀 | C35: =VLOOKUP(E35, Sheet1!$A$1:$I$228, 2, FALSE) -> 삼안 | D35: 엔지니어 | E35: 황호연 | F35: 연구원 | G35: ROG STRIX B550-A GAMING | H35: AMD Ryzen 7 5800X | I35: 2020 | J35: NVIDIA GeForce RTX 3060 | K35: 2020 | L35: 32GB | M35: 500GB | O35: 2TB | S35: LG (2) | W35: =I35&"0"&$X$2 -> 202001
A36: 기술개발센터 | B36: 스마트건설팀 | C36: =VLOOKUP(E36, Sheet1!$A$1:$I$228, 2, FALSE) -> 삼안 | D36: 엔지니어 | E36: 복진훈 | F36: 수석연구원 | G36: ASUS PRIME H410M-A | H36: Intel(R) Core(TM) i5-10400 | I36: 2020 | J36: Intel(R) UHD Graphics 630 | K36: - | L36: 16GB | M36: 250GB | O36: 2TB | S36: LG(2) | W36: =I36&"0"&$X$2 -> 202001
A37: 기술개발센터 | B37: 스마트건설팀 | C37: =VLOOKUP(E37, Sheet1!$A$1:$I$228, 2, FALSE) -> 삼안 | D37: 개발자 | E37: 유석준 | F37: 수석연구원 | G37: ASUS PRIME B350M-A | H37: AMD Ryzen 7 1800X | I37: 2017 | J37: NVIDIA GeForce GTX 1050 | K37: 2016 | L37: 16GB | M37: 500GB | O37: 2TB | S37: LG(2) 삼성(1) | W37: =I37&"0"&$X$2 -> 201701
A38: 기술개발센터 | B38: 대산-당진 제2공구 파견 | C38: =VLOOKUP(E38, Sheet1!$A$1:$I$228, 2, FALSE) -> 한맥 | D38: 엔지니어 | E38: 최정균 | F38: 책임연구원 | G38: B760M DS3H | H38: Intel(R) Core(TM) i7-14700KF | I38: 2023 | J38: NVIDIA GeForce RTX 5060 | K38: 2025 | L38: 32GB | M38: 1TB | O38: 2TB | W38: =I38&"0"&$X$2 -> 202301
A39: 기술개발센터 | B39: 스마트건설팀 | C39: 삼안 | D39: 엔지니어 | E39: 김재림 | F39: 선임연구원 | G39: ASUS PRIME B365M-K | H39: Intel(R) Core(TM) i5-9400 | I39: 2018 | J39: NVIDIA GeForce GTX 1050 Ti | K39: 2016 | L39: 32GB | M39: 250GB | O39: 2TB | S39: LG(2) | W39: =I39&"0"&$X$2 -> 201801
A40: 기술개발센터 | B40: 일반구조물 Div | C40: =VLOOKUP(E40, Sheet1!$A$1:$I$228, 2, FALSE) -> 삼안 | D40: 엔지니어 | E40: 이동원 | F40: 수석 | G40: TUF GAMING Z490-PLUS | H40: Intel(R) Core(TM) i9-10900 | I40: 2020 | J40: NVIDIA GeForce RTX 3090 | K40: 2020 | L40: 32GB | M40: 500GB | O40: 2TB | P40: 1TB | S40: LG (2) | W40: =I40&"0"&$X$2 -> 202001
...

Sheet Sheet1
A1: 성명 | B1: 소속회사 | C1: 부서 | D1: 사번 | E1: 직위 | F1: 직급 | G1: 호봉 | H1: 그룹입사일자 | I1: 입사일자
A2: 정태원 | B2: 한맥 | C2: 기술개발센터 | D2: M21201 | E2: 사장 | F2: 임원 | G2: 1 | H2: 41821 | I2: 41821
A3: 양병홍 | B3: 삼안 | C3: 기술개발센터 | D3: B18202 | E3: 부사장 | F3: 임원 | G3: 1 | I3: 43117
A4: 김형준 | B4: 삼안 | C4: 기술개발센터 | D4: B16212 | E4: 수석연구원 | F4: 임원 | G4: 1 | H4: 42632 | I4: 42632
A5: 김민성 | B5: 삼안 | C5: 기술개발센터 | D5: B16213 | E5: 수석연구원 | F5: 임원 | G5: 1 | H5: 42675 | I5: 42675
A6: 유석준 | B6: 삼안 | C6: 기술개발센터 | D6: B16214 | E6: 수석연구원 | F6: 임원 | G6: 1 | H6: 42737 | I6: 42737
A7: 심영표 | B7: 삼안 | C7: 기술개발센터 | D7: B16216 | E7: 수석연구원 | F7: 임원 | G7: 1 | H7: 42719 | I7: 42719
A8: 정계완 | B8: 삼안 | C8: 기술개발센터 | D8: B17203 | E8: 수석연구원 | F8: 임원 | G8: 1 | H8: 42821 | I8: 42821
A9: 노준 | B9: 삼안 | C9: 기술개발센터 | D9: B17206 | E9: 수석연구원 | F9: 임원 | G9: 1 | I9: 43070
A10: 김일태 | B10: 삼안 | C10: 기술개발센터 | D10: B18206 | E10: 수석연구원 | F10: 임원 | G10: 1 | I10: 43117
A11: 김병조 | B11: 삼안 | C11: 기술개발센터 | D11: B18212 | E11: 수석연구원 | F11: 임원 | G11: 1 | I11: 43388
A12: 이호경 | B12: 삼안 | C12: 기술개발센터 | D12: B18215 | E12: 수석연구원 | F12: 임원 | G12: 1 | I12: 43405
A13: 김현일 | B13: 삼안 | C13: 기술개발센터 | D13: B19201 | E13: 수석연구원 | F13: 임원 | G13: 1 | I13: 43466
A14: 박현수 | B14: 삼안 | C14: 기술개발센터 | D14: B19206 | E14: 수석연구원 | F14: 임원 | G14: 1 | H14: 39391 | I14: 43619
A15: 이동원 | B15: 삼안 | C15: 기술개발센터 | D15: B19309 | E15: 수석연구원 | F15: 임원 | G15: 1 | I15: 43731
A16: 정요한 | B16: 삼안 | C16: 기술개발센터 | D16: B20326 | E16: 수석연구원 | F16: 임원 | G16: 1 | I16: 44075
A17: 장계석 | B17: 바론 | C17: 기술개발센터 | D17: B21317 | E17: 수석연구원 | F17: 임원 | G17: 1 | I17: 37895
A18: 복진훈 | B18: 삼안 | C18: 기술개발센터 | D18: B21357 | E18: 수석연구원 | F18: 임원 | G18: 1 | I18: 44445
A19: 김남걸 | B19: 삼안 | C19: 기술개발센터 | D19: B21372 | E19: 수석연구원 | F19: 임원 | G19: 1 | I19: 44564
A20: 이수문 | B20: 삼안 | C20: 기술개발센터 | D20: B22035 | E20: 수석연구원 | F20: 임원 | G20: 1 | I20: 44728
A21: 김재현 | B21: 삼안 | C21: 기술개발센터 | D21: B22051 | E21: 수석연구원 | F21: 임원 | G21: 1 | I21: 44809
A22: 조병철 | B22: 삼안 | C22: 기술개발센터 | D22: B24015 | E22: 수석연구원 | F22: 임원 | G22: 1 | I22: 45341
A23: 심재훈 | B23: 삼안 | C23: 기술개발센터 | D23: B25025 | E23: 수석연구원 | F23: 임원 | G23: 1 | H23: 45763 | I23: 45763
A24: 전상현 | B24: 한맥 | C24: 기술개발센터 | D24: J05208 | E24: 수석연구원 | F24: 임원 | G24: 1 | I24: 38869
A25: 김승호 | B25: 한맥 | C25: 기술개발센터 | D25: M02248 | E25: 수석연구원 | F25: 임원 | G25: 1 | I25: 36746
A26: 김정훈 | B26: 한맥 | C26: 기술개발센터 | D26: M04308 | E26: 수석연구원 | F26: 임원 | G26: 1 | I26: 38020
A27: 곽현석 | B27: 한맥 | C27: 기술개발센터 | D27: M06309 | E27: 수석연구원 | F27: 임원 | G27: 1 | I27: 38782
A28: 황은식 | B28: 한맥 | C28: 기술개발센터 | D28: M07302 | E28: 수석연구원 | F28: 임원 | G28: 1 | I28: 39084
A29: 표종진 | B29: 한맥 | C29: 기술개발센터 | D29: M08301 | E29: 수석연구원 | F29: 임원 | G29: 1 | I29: 39461
A30: 이호성 | B30: 한맥 | C30: 기술개발센터 | D30: M08303 | E30: 수석연구원 | F30: 임원 | G30: 1 | I30: 39479
A31: 이화영 | B31: 한맥 | C31: 기술개발센터 | D31: M12205 | E31: 수석연구원 | F31: 임원 | G31: 1 | I31: 41162
A32: 신봉진 | B32: 한맥 | C32: 기술개발센터 | D32: M17203 | E32: 수석연구원 | F32: 임원 | G32: 1 | H32: 42828 | I32: 42828
A33: 강명진 | B33: 한맥 | C33: 기술개발센터 | D33: M17205 | E33: 수석연구원 | F33: 임원 | G33: 1 | H33: 42848 | I33: 42851
A34: 오문성 | B34: 한맥 | C34: 기술개발센터 | D34: M18201 | E34: 수석연구원 | F34: 임원 | G34: 1 | H34: 43115 | I34: 43115
A35: 기윤서 | B35: 삼안 | C35: 기술개발센터 | D35: M21309 | E35: 수석연구원 | F35: 임원 | G35: 1 | I35: 44228
A36: 김상욱 | B36: PTC | C36: 기술개발센터 | D36: P11202 | E36: 수석연구원 | F36: 임원 | G36: 1 | I36: 40771
A37: 김윤하 | B37: 바론 | C37: 기술개발센터 | D37: T03225 | E37: 수석연구원 | F37: 임원 | G37: 1 | I37: 43983
A38: 문남연 | B38: 한맥 | C38: 기술개발센터 | D38: T04306 | E38: 수석연구원 | F38: 임원 | G38: 1 | I38: 38033
A39: 이인우 | B39: 삼안 | C39: 기술개발센터 | D39: B16305 | E39: 책임연구원 | F39: 1급 | G39: 1 | H39: 42492 | I39: 42492
A40: 한지아 | B40: 삼안 | C40: 기술개발센터 | D40: B22001 | E40: 책임연구원 | F40: 1급 | G40: 1 | I40: 44599
...
