Workbook

Sheet 1. 개인 장비
A1: 부서 | B1: 팀명 | C1: 소속 | D1: 직무 | E1: 성명 | F1: 직급 | G1: 메인보드 | H1: CPU | I1: CPU 출시연도 | J1: GPU | K1: GPU 출시연도 | L1: RAM | M1: SDD1 | N1: SDD2 | O1: HDD1 | P1: HDD2 | Q1: HDD3 | R1: HDD4 | S1: 24" | T1: 27" | U1: 32" | V1: 기타
A2: 기술개발센터 | B2: 과업수행그룹 | C2: =VLOOKUP(E2, Sheet1!$A$1:$I$228, 2, FALSE) -> 삼안 | D2: 엔지니어 | E2: 김형준 | F2: 수석연구원 | G2: TUF B365M-PLUS GAMING | H2: Intel(R) Core(TM) i7-9700 | I2: 2018 | J2: NVIDIA GeForce RTX 2060 SUPER | K2: 2018 | L2: 16GB | M2: 500GB | O2: 2TB | S2: LG(2) | W2: =I2&"0"&$X$2 -> 201801 | X2: 1
A3: 기술개발센터 | B3: 구조물S/W개발팀 | C3: =VLOOKUP(E3, Sheet1!$A$1:$I$228, 2, FALSE) -> 삼안 | D3: 개발자 | E3: 정계완 | F3: 수석연구원 | G3: PRO Z790-A WIFI(MS-7E07) | H3: Intel(R) Core(TM) i9-13900K | I3: 2022 | J3: NVIDIA GeForce RTX 4080 | K3: 2022 | L3: 64GB | M3: 2TB | O3: 8TB | S3: LG(1) | T3: LG(2) | W3: =I3&"0"&$X$2 -> 202201 | X3: 개인장비 사양 확인 방법
A4: 기술개발센터 | B4: 구조물S/W개발팀 | C4: =VLOOKUP(E4, Sheet1!$A$1:$I$228, 2, FALSE) -> 바론 | D4: 개발자 | E4: 김세열 | F4: 책임연구원 | G4: Z790 Pro RS | H4: Intel(R) Core(TM) i7-13700KF | I4: 2022 | J4: NVIDIA GeForce RTX 3070 Ti | K4: 2020 | L4: 32GB | M4: 1TB | O4: 4TB | S4: LG(1) | T4: LG(2) | W4: =I4&"0"&$X$2 -> 202201 | X4: 기술개발센터 재물조사.pptx
A5: 기술개발센터 | B5: 구조물S/W개발팀 | C5: =VLOOKUP(E5, Sheet1!$A$1:$I$228, 2, FALSE) -> 한맥 | D5: 개발자 | E5: 김지웅 | F5: 책임연구원 | G5: PRO Z790-A WIFI(MS-7E07) | H5: Intel(R) Core(TM) i9-13900K | I5: 2022 | J5: NVIDIA GeForce RTX 4080 | K5: 2022 | L5: 64GB | M5: 2TB | O5: 8TB | S5: LG (3) | T5: 0 | W5: =I5&"0"&$X$2 -> 202201
A6: 기술개발센터 | B6: 구조물S/W개발팀 | C6: =VLOOKUP(E6, Sheet1!$A$1:$I$228, 2, FALSE) -> 삼안 | D6: 개발자 | E6: 이인우 | F6: 선임연구원 | G6: PRO Z790-A WIFI (MS-7E07) | H6: Intel(R) Core(TM) i9-13900K | I6: 2022 | J6: NVIDIA GeForce RTX 4080 | K6: 2022 | L6: 64GB | M6: 2TB | O6: 8TB | S6: LG(1) | T6: LG(2) | W6: =I6&"0"&$X$2 -> 202201
A7: 기술개발센터 | B7: 구조물S/W개발팀 | C7: =VLOOKUP(E7, Sheet1!$A$1:$I$228, 2, FALSE) -> 삼안 | D7: 개발자 | E7: 이연재 | F7: 선임연구원 | G7: PRO Z790-A WIFI (MS-7E07) | H7: Intel(R) Core(TM) i9-13900K | I7: 2022 | J7: NVIDIA GeForce RTX 4080 | K7: 2022 | L7: 64GB | M7: 2TB | O7: 8TB | S7: LG(2) | T7: LG(1) | W7: =I7&"0"&$X$2 -> 202201
A8: 기술개발센터 | B8: 구조물S/W개발팀 | C8: =VLOOKUP(E8, Sheet1!$A$1:$I$228, 2, FALSE) -> 삼안 | D8: 개발자 | E8: 이준호 | F8: 연구원 | G8: PRO Z790-A WIFI(MS-7E07) | H8: Intel(R) Core(TM) i9-13900K | I8: 2022 | J8: NVIDIA GeForce RTX 4080 | K8: 2022 | L8: 64GB | M8: 2TB | O8: 8TB | S8: LG(2) | T8: LG(1) | W8: =I8&"0"&$X$2 -> 202201
A9: 기술개발센터 | B9: 그래픽스 개발팀 | C9: =VLOOKUP(E9, Sheet1!$A$1:$I$228, 2, FALSE) -> 삼안 | D9: 개발자 | E9: 김민성 | F9: 수석연구원 | G9: PRIME B365M-A | H9: Intel(R) Core(TM) i7-9700K | I9: 2018 | J9: NVIDIA GeForce RTX 3060 | K9: 2020 | L9: 64GB | M9: 1TB | O9: 8TB | S9: LG (2) | T9: LG (1) | W9: =I9&"0"&$X$2 -> 201801
A10: 기술개발센터 | B10: 그래픽스 개발팀_Abut&시공통합관제셀 | C10: =VLOOKUP(E10, Sheet1!$A$1:$I$228, 2, FALSE) -> 삼안 | D10: 개발자 | E10: 한성일 | F10: 책임연구원 | G10: PRIME Z790-P | H10: Intel(R) Core(TM) i7-13700KF | I10: 2022 | J10: NVIDIA GeForce RTX 3070 Ti | K10: 2020 | L10: 64GB | M10: 1TB | O10: 4TB | S10: LG (1) | T10: LG (2) | W10: =I10&"0"&$X$2 -> 202201
A11: 기술개발센터 | B11: 그래픽스 개발팀_Abut&시공통합관제셀 | C11: =VLOOKUP(E11, Sheet1!$A$1:$I$228, 2, FALSE) -> 삼안 | D11: 개발자 | E11: 박승우 | F11: 연구원 | G11: PRIME H610M-D D4 | H11: Intel(R) Core(TM) i7-12700 | I11: 2021 | J11: NVIDIA GeForce RTX 3060 | K11: 2020 | L11: 64GB | M11: 1TB | O11: 2TB | S11: LG (2) | T11: LG (1) | W11: =I11&"0"&$X$2 -> 202101
A12: 기술개발센터 | B12: 그래픽스 개발팀_Abut&시공통합관제셀 | C12: =VLOOKUP(E12, Sheet1!$A$1:$I$228, 2, FALSE) -> 삼안 | D12: 개발자 | E12: 이민규 | F12: 연구원 | G12: B760M DS3H | H12: Intel(R) Core(TM) i7-14700F | I12: 2023 | J12: NVIDIA GeForce RTX 4060 | K12: 2022 | L12: 64GB | M12: 500GB | O12: 2TB | S12: LG (2) | T12: LG (1) | W12: =I12&"0"&$X$2 -> 202301
A13: 기술개발센터 | B13: 그래픽스 개발팀_EG-BIM Draw셀 | C13: =VLOOKUP(E13, Sheet1!$A$1:$I$228, 2, FALSE) -> 한맥 | D13: 개발자 | E13: 최준영 | F13: 책임연구원 | G13: TUF GAMING B650M-PLUS | H13: AMD Ryzen 9 7900X | I13: 2022 | J13: NVIDIA GeForce RTX 4070 Ti | K13: 2022 | L13: 32GB | M13: 1TB | O13: 2TB | S13: LG (2) | T13: LG (1) | W13: =I13&"0"&$X$2 -> 202201
A14: 기술개발센터 | B14: 그래픽스 개발팀_EG-BIM Draw셀 | C14: =VLOOKUP(E14, Sheet1!$A$1:$I$228, 2, FALSE) -> 삼안 | D14: 개발자 | E14: 엄지숙 | F14: 책임연구원 | G14: PRO B650M-A WIFI (MS-7D77) | H14: AMD Ryzen 9 7900X | I14: 2022 | J14: NVIDIA GeForce RTX 4070 Ti | K14: 2022 | L14: 32GB | M14: 2TB | O14: 2TB | S14: LG (2) | T14: LG (1) | W14: =I14&"0"&$X$2 -> 202201
A15: 기술개발센터 | B15: 그래픽스 개발팀_EG-BIM Draw셀 | C15: =VLOOKUP(E15, Sheet1!$A$1:$I$228, 2, FALSE) -> 삼안 | D15: 개발자 | E15: 강근아 | F15: 선임연구원 | G15: PRIME B460M-A | H15: Intel(R) Core(TM) i7-10700 | I15: 2020 | J15: NVIDIA GeForce RTX 2070 | K15: 2018 | L15: 32GB | M15: 1TB | N15: 500GB | O15: 2TB | S15: LG (2) | T15: LG (1) | W15: =I15&"0"&$X$2 -> 202001
A16: 기술개발센터 | B16: 그래픽스 개발팀_EG-BIM Draw셀 | C16: =VLOOKUP(E16, Sheet1!$A$1:$I$228, 2, FALSE) -> 바론 | D16: 개발자 | E16: 서동해 | F16: 선임연구원 | G16: PRIME B760M-K | H16: Intel(R) Core(TM) i7-13700F | I16: 2022 | J16: NVIDIA GeForce RTX 4060 | K16: 2022 | L16: 32GB | M16: 1TB | O16: 2TB | S16: LG (2) | T16: LG (1) | W16: =I16&"0"&$X$2 -> 202201
A17: 기술개발센터 | B17: 그래픽스 개발팀_EG-BIM Draw셀 | C17: =VLOOKUP(E17, Sheet1!$A$1:$I$228, 2, FALSE) -> 바론 | D17: 개발자 | E17: 김근형 | F17: 선임연구원 | G17: TUF GAMING B650M-PLUS | H17: AMD Ryzen 9 7900X | I17: 2022 | J17: NVIDIA GeForce RTX 4070 Ti | K17: 2022 | L17: 32GB | M17: 1TB | O17: 2TB | S17: LG (2) | T17: LG (1) | W17: =I17&"0"&$X$2 -> 202201
A18: 기술개발센터 | B18: 그래픽스 개발팀_HmEG셀 | C18: =VLOOKUP(E18, Sheet1!$A$1:$I$228, 2, FALSE) -> 삼안 | D18: 개발자 | E18: 백승민 | F18: 책임연구원 | G18: MPG Z690 FORCE WIFI (MS-7D30) | H18: Intel(R) Core(TM) i9-12900K | I18: 2021 | J18: NVIDIA GeForce RTX 3090 Ti | K18: 2020 | L18: 32GB | M18: 1TB | O18: 2TB | S18: LG(2) | T18: LG (1) | W18: =I18&"0"&$X$2 -> 202101
A19: 기술개발센터 | B19: 그래픽스 개발팀_HmEG셀 | C19: =VLOOKUP(E19, Sheet1!$A$1:$I$228, 2, FALSE) -> 삼안 | D19: 개발자 | E19: 최진영 | F19: 선임연구원 | G19: MAG B660M MORTAR WIFI DDR4 (MS-7D42) | H19: Intel(R) Core(TM) i7-13700KF | I19: 2022 | J19: NVIDIA GeForce RTX 4090 | K19: 2022 | L19: 64GB | M19: 1TB | O19: 2TB | S19: LG (2) | T19: LG (1) | W19: =I19&"0"&$X$2 -> 202201
A20: 기술개발센터 | B20: 그래픽스 개발팀_HmEG셀 | C20: =VLOOKUP(E20, Sheet1!$A$1:$I$228, 2, FALSE) -> PTC | D20: 개발자 | E20: 문영석 | F20: 선임연구원 | G20: TUF B365M-PLUS GAMING | H20: Intel(R) Core(TM) i7-9700 | I20: 2018 | J20: NVIDIA GeForce RTX 2070 | K20: 2018 | L20: 32GB | M20: 500GB | O20: 2TB | S20: LG (2) | T20: LG (1) | W20: =I20&"0"&$X$2 -> 201801
A21: 기술개발센터 | B21: 그래픽스 개발팀_HmEG셀 | C21: =VLOOKUP(E21, Sheet1!$A$1:$I$228, 2, FALSE) -> 삼안 | D21: 개발자 | E21: 김명식 | F21: 선임연구원 | G21: PRO B650M-A WIFI (MS-7D77) | H21: AMD Ryzen 9 7900X | I21: 2022 | J21: NVIDIA GeForce RTX 4070 Ti | K21: 2022 | L21: 32GB | M21: 2TB | O21: 2TB | S21: LG (2) | T21: LG (1) | W21: =I21&"0"&$X$2 -> 202201
A22: 기술개발센터 | B22: 그래픽스 개발팀_HmEG셀 | C22: =VLOOKUP(E22, Sheet1!$A$1:$I$228, 2, FALSE) -> 삼안 | D22: 개발자 | E22: 민경록 | F22: 연구원 | G22: PRIME Z790-P | H22: Intel(R) Core(TM) i7-13700KF | I22: 2022 | J22: NVIDIA GeForce RTX 3070 Ti | K22: 2020 | L22: 32GB | M22: 1TB | O22: 4TB | S22: LG (2) | T22: LG (1) | W22: =I22&"0"&$X$2 -> 202201
A23: 기술개발센터 | B23: 그래픽스 개발팀_HmEG셀 | C23: =VLOOKUP(E23, Sheet1!$A$1:$I$228, 2, FALSE) -> 삼안 | D23: 개발자 | E23: 정진우 | F23: 연구원 | G23: B760M DS3H | H23: Intel(R) Core(TM) i7-14700F | I23: 2023 | J23: NVIDIA GeForce RTX 4060 | K23: 2022 | L23: 32GB | M23: 1TB | O23: 2TB | S23: LG (2) | T23: LG (1) | W23: =I23&"0"&$X$2 -> 202301
A24: 기술개발센터 | B24: 그래픽스 개발팀_Modeler셀 | C24: =VLOOKUP(E24, Sheet1!$A$1:$I$228, 2, FALSE) -> 삼안 | D24: 개발자 | E24: 이재원 | F24: 선임연구원 | G24: PRIME B365M-A | H24: Intel(R) Core(TM) i7-9700K | I24: 2018 | J24: NVIDIA GeForce RTX 3060 SUPER | K24: 2020 | L24: 32GB | M24: 500GB | O24: 2TB | S24: LG (2) | T24: LG (1) | W24: =I24&"0"&$X$2 -> 201801
A25: 기술개발센터 | B25: 그래픽스 개발팀_Modeler셀 | C25: =VLOOKUP(E25, Sheet1!$A$1:$I$228, 2, FALSE) -> 삼안 | D25: 개발자 | E25: 홍길수 | F25: 선임연구원 | G25: PRIME Z390M-PLUS | H25: Intel(R) Core(TM) i7-9700K | I25: 2018 | J25: NVIDIA GeForce RTX 3070 Ti | K25: 2020 | L25: 32GB | M25: 500GB | O25: 2TB | S25: LG(2) | T25: LG (1) | W25: =I25&"0"&$X$2 -> 201801
A26: 기술개발센터 | B26: 그래픽스 개발팀_Modeler셀 | C26: =VLOOKUP(E26, Sheet1!$A$1:$I$228, 2, FALSE) -> 바론 | D26: 개발자 | E26: 이지율 | F26: 연구원 | G26: PRIME B760M-K | H26: Intel(R) Core(TM) i7-13700F | I26: 2022 | J26: NVIDIA GeForce RTX 3070 Ti | K26: 2020 | L26: 32GB | M26: 1TB | O26: 2TB | S26: LG (2) | T26: LG (1) | W26: =I26&"0"&$X$2 -> 202201
A27: 기술개발센터 | B27: 그래픽스 개발팀_Modeler셀 | C27: =VLOOKUP(E27, Sheet1!$A$1:$I$228, 2, FALSE) -> 삼안 | D27: 개발자 | E27: 이해랑 | F27: 연구원 | G27: PRIME B450M-K II | H27: AMD Ryzen 5 5600X | I27: 2020 | J27: NVIDIA GeForce RTX 3060 Ti | K27: 2020 | L27: 32GB | M27: 500GB | N27: 1TB | O27: 2TB | S27: LG(2) | T27: LG (1) | W27: =I27&"0"&$X$2 -> 202001
A28: 기술개발센터 | B28: 상하수도팀 | C28: =VLOOKUP(E28, Sheet1!$A$1:$I$228, 2, FALSE) -> 삼안 | D28: 엔지니어 | E28: 박현수 | F28: 책임 | G28: PRIME H610M-E D4 | H28: Intel(R) Core(TM) i7-13700F | I28: 2022 | J28: NVIDIA GeForce RTX 3060 | K28: 2020 | L28: 32GB | M28: 500GB | O28: 1.82TB | S28: LG(1) | W28: =I28&"0"&$X$2 -> 202201
A29: 기술개발센터 | B29: 상하수도팀 | C29: =VLOOKUP(E29, Sheet1!$A$1:$I$228, 2, FALSE) -> 삼안 | D29: 엔지니어 | E29: 최정우A | F29: 책임 | G29: PRIME H610M-E D4 | H29: Intel(R) Core(TM) i7-12700F | I29: 2021 | J29: NVIDIA GeForce RTX 3060 | K29: 2020 | L29: 32GB | M29: 500GB | O29: 1.8TB | S29: LG(2) | T29: DELL(1) | W29: =I29&"0"&$X$2 -> 202101
A30: 기술개발센터 | B30: 상하수도팀 | C30: =VLOOKUP(E30, Sheet1!$A$1:$I$228, 2, FALSE) -> 삼안 | D30: 엔지니어 | E30: 배상우 | F30: 선임 | G30: PRIME B365M-K | H30: Intel(R) Core(TM) i7-9700K | I30: 2018 | J30: NVIDIA GeForce RTX 2060 SUPER | K30: 2018 | L30: 32GB | M30: 500GB | O30: 1.82TB | S30: LG(2) | W30: =I30&"0"&$X$2 -> 201801
A31: 기술개발센터 | B31: 상하수도팀 | C31: =VLOOKUP(E31, Sheet1!$A$1:$I$228, 2, FALSE) -> 삼안 | D31: 엔지니어 | E31: 최지수 | F31: 연구원 | G31: PRIME B365M-K | H31: Intel(R) Core(TM) i7-9700K | I31: 2018 | J31: NVIDIA GeForce GTX 1060 | K31: 2016 | L31: 32GB | M31: 500GB | O31: 1.8TB | S31: LG(2) | W31: =I31&"0"&$X$2 -> 201801
A32: 기술개발센터 | B32: 수자원팀 | C32: =VLOOKUP(E32, Sheet1!$A$1:$I$228, 2, FALSE) -> 삼안 | D32: 엔지니어 | E32: 이은구 | F32: 책임 | G32: PRIME H610M-D D4 | H32: 12th Gen Intel(R) Core(TM) (12 CPUs) | I32: 2021 | J32: NVIDIA GeForce RTX 3060 | K32: 2020 | L32: 32GB | M32: 500GB | O32: 8TB | S32: LG (1) | T32: DELL(1) | W32: =I32&"0"&$X$2 -> 202101
A33: 기술개발센터 | B33: 수자원팀 | C33: =VLOOKUP(E33, Sheet1!$A$1:$I$228, 2, FALSE) -> 삼안 | D33: 엔지니어 | E33: 지현욱 | F33: 책임 | G33: PRIME B360M-K | H33: Intel(R) Core(TM) i7-9700K | I33: 2018 | J33: NVIDIA GeForce GTX 1070 | K33: 2016 | L33: 16GB | M33: 500GB | O33: 2TB | S33: LG (2) | W33: =I33&"0"&$X$2 -> 201801
A34: 기술개발센터 | B34: 수자원팀 | C34: =VLOOKUP(E34, Sheet1!$A$1:$I$228, 2, FALSE) -> 삼안 | D34: 엔지니어 | E34: 김희철 | F34: 연구원 | G34: PRIME B350M-A | H34: AMD Ryzen 7 1700X | I34: 2017 | J34: NVIDIA GeForce GTX 1050 Ti | K34: 2016 | L34: 16GB | M34: 250GB | O34: 2TB | S34: LG (2) | W34: =I34&"0"&$X$2 -> 201701
A35: 기술개발센터 | B35: 수자원팀 | C35: =VLOOKUP(E35, Sheet1!$A$1:$I$228, 2, FALSE) -> 삼안 | D35: 엔지니어 | E35: 황호연 | F35: 연구원 | G35: ROG STRIX B550-A GAMING | H35: AMD Ryzen 7 5800X | I35: 2020 | J35: NVIDIA GeForce RTX 3060 | K35: 2020 | L35: 32GB | M35: 500GB | O35: 2TB | S35: LG (2) | W35: =I35&"0"&$X$2 -> 202001
A36: 기술개발센터 | B36: 스마트건설팀 | C36: =VLOOKUP(E36, Sheet1!$A$1:$I$228, 2, FALSE) -> 삼안 | D36: 엔지니어 | E36: 복진훈 | F36: 수석연구원 | G36: ASUS PRIME H410M-A | H36: Intel(R) Core(TM) i5-10400 | I36: 2020 | J36: Intel(R) UHD Graphics 630 | K36: - | L36: 16GB | M36: 250GB | O36: 2TB | S36: LG(2) | W36: =I36&"0"&$X$2 -> 202001
A37: 기술개발센터 | B37: 스마트건설팀 | C37: =VLOOKUP(E37, Sheet1!$A$1:$I$228, 2, FALSE) -> 삼안 | D37: 개발자 | E37: 유석준 | F37: 수석연구원 | G37: ASUS PRIME B350M-A | H37: AMD Ryzen 7 1800X | I37: 2017 | J37: NVIDIA GeForce GTX 1050 | K37: 2016 | L37: 16GB | M37: 500GB | O37: 2TB | S37: LG(2) 삼성(1) | W37: =I37&"0"&$X$2 -> 201701
A38: 기술개발센터 | B38: 대산-당진 제2공구 파견 | C38: =VLOOKUP(E38, Sheet1!$A$1:$I$228, 2, FALSE) -> 한맥 | D38: 엔지니어 | E38: 최정균 | F38: 책임연구원 | G38: B760M DS3H | H38: Intel(R) Core(TM) i7-14700KF | I38: 2023 | J38: NVIDIA GeForce RTX 5060 | K38: 2025 | L38: 32GB | M38: 1TB | O38: 2TB | W38: =I38&"0"&$X$2 -> 202301
A39: 기술개발센터 | B39: 스마트건설팀 | C39: 삼안 | D39: 엔지니어 | E39: 김재림 | F39: 선임연구원 | G39: ASUS PRIME B365M-K | H39: Intel(R) Core(TM) i5-9400 | I39: 2018 | J39: NVIDIA GeForce GTX 1050 Ti | K39: 2016 | L39: 32GB | M39: 250GB | O39: 2TB | S39: LG(2) | W39: =I39&"0"&$X$2 -> 201801
A40: 기술개발센터 | B40: 일반구조물 Div | C40: =VLOOKUP(E40, Sheet1!$A$1:$I$228, 2, FALSE) -> 삼안 | D40: 엔지니어 | E40: 이동원 | F40: 수석 | G40: TUF GAMING Z490-PLUS | H40: Intel(R) Core(TM) i9-10900 | I40: 2020 | J40: NVIDIA GeForce RTX 3090 | K40: 2020 | L40: 32GB | M40: 500GB | O40: 2TB | P40: 1TB | S40: LG (2) | W40: =I40&"0"&$X$2 -> 202001
A41: 기술개발센터 | B41: 일반구조물 Div_구조물계획팀 | C41: =VLOOKUP(E41, Sheet1!$A$1:$I$228, 2, FALSE) -> 삼안 | D41: 엔지니어 | E41: 김일태 | F41: 수석 | G41: ASUSTeK B85M-G | H41: Intel(R) Core(TM) i5-4690 | I41: 2013 | J41: NVIDIA GeForce GTX 1030 | K41: 2017 | L41: 16GB | M41: 250GB | N41: 250GB | O41: 2TB | S41: LG (2) | W41: =I41&"0"&$X$2 -> 201301
A42: 기술개발센터 | B42: 일반구조물 Div_구조물계획팀 | C42: =VLOOKUP(E42, Sheet1!$A$1:$I$228, 2, FALSE) -> 한맥 | D42: 엔지니어 | E42: 곽현석 | F42: 수석 | G42: PRIME A620M-A | H42: AMD Ryzen 5 7500F | I42: 2022 | J42: AMD Radeon RX 580 2048SP | K42: 2017 | L42: 16GB | M42: 500GB | O42: 2TB | S42: LG (2) | W42: =I42&"0"&$X$2 -> 202201
A43: 기술개발센터 | B43: 일반구조물 Div_구조물계획팀 | C43: =VLOOKUP(E43, Sheet1!$A$1:$I$228, 2, FALSE) -> 삼안 | D43: 엔지니어 | E43: 윤현경 | F43: 선임 | G43: PRIME A320M-K | H43: AMD Ryzen 5 5600X | I43: 2020 | J43: NVIDIA GeForce GTX 1650 | K43: 2018 | L43: 16GB | M43: 250GB | N43: 250GB | O43: 2TB | S43: LG (2) | W43: =I43&"0"&$X$2 -> 202001
A44: 기술개발센터 | B44: 일반구조물 Div_구조물계획팀 | C44: =VLOOKUP(E44, Sheet1!$A$1:$I$228, 2, FALSE) -> 삼안 | D44: 엔지니어 | E44: 정미정 | F44: 연구원 | G44: PRIME H410M-A | H44: Intel(R) Core(TM) i5-10400 | I44: 2020 | J44: NVIDIA GeForce GTX 1050 Ti | K44: 2016 | L44: 16GB | M44: 250GB | O44: 2TB | S44: LG (2) | W44: =I44&"0"&$X$2 -> 202001
A45: 기술개발센터 | B45: 일반구조물 Div_구조물계획팀 | C45: =VLOOKUP(E45, Sheet1!$A$1:$I$228, 2, FALSE) -> 삼안 | D45: 엔지니어 | E45: 최용혁 | F45: 연구원 | G45: PRIME B550M-A | H45: AMD Ryzen 5 5600G | I45: 2020 | J45: NVIDIA GeForce GTX 1050 | K45: 2016 | L45: 16GB | M45: 250GB | O45: 2TB | S45: LG(2), 삼성(1) | W45: =I45&"0"&$X$2 -> 202001
A46: 기술개발센터 | B46: 일반구조물 Div_일반구조물팀 | C46: =VLOOKUP(E46, Sheet1!$A$1:$I$228, 2, FALSE) -> PTC | D46: 엔지니어 | E46: 김상욱 | F46: 수석 | G46: EX-A320M-GAMING | H46: AMD Ryzen 5 5600X | I46: 2020 | J46: NVIDIA GeForce GTX 1050 Ti | K46: 2016 | L46: 16GB | M46: 250GB | O46: 2TB | S46: LG(2) 삼성(1) | W46: =I46&"0"&$X$2 -> 202001
A47: 기술개발센터 | B47: 일반구조물 Div_일반구조물팀 | C47: =VLOOKUP(E47, Sheet1!$A$1:$I$228, 2, FALSE) -> 삼안 | D47: 엔지니어 | E47: 김재환 | F47: 책임 | G47: PRIME B365M-A | H47: Intel(R) Core(TM) i5-9400F | I47: 2018 | J47: NVIDIA GeForce GTX 1070 | K47: 2016 | L47: 16GB | M47: 250GB | O47: 2TB | S47: LG(2) | W47: =I47&"0"&$X$2 -> 201801
A48: 기술개발센터 | B48: 일반구조물 Div_일반구조물팀 | C48: 한맥 | D48: 엔지니어 | E48: 양준열 | F48: 책임 | G48: ASUSTeK B85M-G | H48: Intel(R) Core(TM) i5-4690 | I48: 2013 | J48: NVIDIA GeForce GT 1030 | K48: 2017 | L48: 16GB | M48: 250GB | O48: 2TB | S48: LG(2) | W48: =I48&"0"&$X$2 -> 201301
A49: 기술개발센터 | B49: 일반구조물 Div_일반구조물팀 | C49: =VLOOKUP(E49, Sheet1!$A$1:$I$228, 2, FALSE) -> 삼안 | D49: 엔지니어 | E49: 김주영 | F49: 선임 | G49: PRIME B660M-A D4 | H49: Intel(R) Core(TM) i9-12900KF | I49: 2021 | J49: NVIDIA GeForce RTX 3070 | K49: 2020 | L49: 32GB | M49: 500GB | O49: 2TB | S49: LG(2) | W49: =I49&"0"&$X$2 -> 202101
A50: 기술개발센터 | B50: 일반구조물 Div_일반구조물팀 | C50: =VLOOKUP(E50, Sheet1!$A$1:$I$228, 2, FALSE) -> 삼안 | D50: 엔지니어 | E50: 홍덕현 | F50: 연구원 | G50: TUF B365M-PLUS GAMING | H50: Intel(R) Core(TM) i7-9700F | I50: 2018 | J50: NVIDIA GeForce RTX 2060 | K50: 2018 | L50: 16GB | M50: 250GB | O50: 2TB | S50: LG(2) | W50: =I50&"0"&$X$2 -> 201801
A51: 기술개발센터 | B51: 일반구조물 Div_하부구조팀 | C51: =VLOOKUP(E51, Sheet1!$A$1:$I$228, 2, FALSE) -> 한맥 | D51: 엔지니어 | E51: 김승호 | F51: 수석 | G51: PRIME B365M-K | H51: Intel(R) Core(TM) i7-9700 | I51: 2018 | J51: NVIDIA GeForce GTX 2060 SUPER | K51: 2018 | L51: 32GB | M51: 500GB | O51: 4TB | S51: LG(2) | U51: LG(1) | W51: =I51&"0"&$X$2 -> 201801
A52: 기술개발센터 | B52: 일반구조물 Div_하부구조팀 | C52: =VLOOKUP(E52, Sheet1!$A$1:$I$228, 2, FALSE) -> 삼안 | D52: 엔지니어 | E52: 최창인 | F52: 책임 | G52: TUF GAMING B460M-PLUS | H52: Intel(R) Core(TM) i5-10400 | I52: 2020 | J52: NVIDIA GeForce GTX 1050 Ti | K52: 2016 | L52: 32GB | M52: 250GB | O52: 2TB | S52: LG(2), 삼성(1) | W52: =I52&"0"&$X$2 -> 202001
A53: 기술개발센터 | B53: 일반구조물 Div_하부구조팀 | C53: =VLOOKUP(E53, Sheet1!$A$1:$I$228, 2, FALSE) -> 삼안 | D53: 엔지니어 | E53: 김현일 | F53: 수석 | G53: PRIME B250M-K | H53: Intel(R) Core(TM) i5-7500F | I53: 2017 | J53: NVIDIA GeForce GTX 1050 | K53: 2016 | L53: 16GB | M53: 250 GB | O53: 1.0TB | S53: LG(2) | W53: =I53&"0"&$X$2 -> 201701
A54: 기술개발센터 | B54: 일반구조물 Div_CM기획팀 | C54: =VLOOKUP(E54, Sheet1!$A$1:$I$228, 2, FALSE) -> 삼안 | D54: 엔지니어 | E54: 강지영 | F54: 선임 | G54: TUF GAMING B460m-PLUS | H54: Intel(R) Core(TM) i5-10400 | I54: 2020 | J54: NVIDIA GeForce GTX 1050 Ti | K54: 2016 | L54: 16GB | M54: 250GB | O54: 2TB | S54: LG(2) | W54: =I54&"0"&$X$2 -> 202001
A55: 기술개발센터 | B55: 일반구조물 Div_CM기획팀 | C55: =VLOOKUP(E55, Sheet1!$A$1:$I$228, 2, FALSE) -> 삼안 | D55: 엔지니어 | E55: 조선두 | F55: 책임 | G55: PRIME B365M-K | H55: Intel(R) Core(TM) i7-9700KF | I55: 2018 | J55: NVIDIA GeForce GTX 2060 | K55: 2018 | L55: 16GB | M55: 500GB | O55: 2TB | S55: LG(2), 삼성(1) | W55: =I55&"0"&$X$2 -> 201801
A56: 기술개발센터 | B56: 일반구조물 Div_CM기획팀 | C56: =VLOOKUP(E56, Sheet1!$A$1:$I$228, 2, FALSE) -> 삼안 | D56: 엔지니어 | E56: 황선필 | F56: 선임 | G56: PRIME H510M-A | H56: Intel(R) Core(TM) i5-11400 | I56: 2021 | J56: NVIDIA GeForce GTX 1050 Ti | K56: 2016 | L56: 16GB | M56: 250GB | O56: 2TB | S56: LG(2) | W56: =I56&"0"&$X$2 -> 202101
A57: 기술개발센터 | B57: 일반구조물 Div_CM기획팀 | C57: =VLOOKUP(E57, Sheet1!$A$1:$I$228, 2, FALSE) -> 삼안 | D57: 엔지니어 | E57: 강상구 | F57: 연구원 | G57: PRIME B460M-K | H57: Intel(R) Core(TM) i7-10700 | I57: 2020 | J57: NVIDIA GeForce RTX 3090 | K57: 2020 | L57: 16GB | M57: 500GB | O57: 2TB | P57: 2TB | S57: LG(2) | W57: =I57&"0"&$X$2 -> 202001
A58: 기술개발센터 | B58: 일반구조물 Div_CM기획팀 | C58: =VLOOKUP(E58, Sheet1!$A$1:$I$228, 2, FALSE) -> 삼안 | D58: 엔지니어 | E58: 박상원 | F58: 연구원 | G58: PRIME B250M-K | H58: Intel(R) Core(TM) i7-7700K | I58: 2017 | J58: NVIDIA GeForce GTX 1050 | K58: 2016 | L58: 16GB | M58: 500GB | O58: 2TB | S58: LG(2) | W58: =I58&"0"&$X$2 -> 201701
A59: 기술개발센터 | B59: 일반구조물 Div_DfMA팀 | C59: =VLOOKUP(E59, Sheet1!$A$1:$I$228, 2, FALSE) -> 삼안 | D59: 엔지니어 | E59: 이창효 | F59: 선임 | G59: TUF GAMING B460M-PLUS | H59: Intel(R) Core(TM) i5-10400 | I59: 2020 | J59: NVIDIA GeForce GTX 1050 Ti | K59: 2016 | L59: 16GB | M59: 250GB | O59: 2TB | S59: LG(2) | W59: =I59&"0"&$X$2 -> 202001
A60: 기술개발센터 | B60: 일반구조물 Div_DfMA팀 | C60: =VLOOKUP(E60, Sheet1!$A$1:$I$228, 2, FALSE) -> 삼안 | D60: 엔지니어 | E60: 심영표 | F60: 수석 | G60: B360M-K | H60: Intel(R) Core(TM) i7-9700K | I60: 2018 | J60: NVIDIA GeForce RTX 1070 | K60: 2016 | L60: 16GB | M60: 500 GB | O60: 2TB | S60: LG(2) | W60: =I60&"0"&$X$2 -> 201801
A61: 기술개발센터 | B61: 일반구조물 Div_DfMA팀 | C61: =VLOOKUP(E61, Sheet1!$A$1:$I$228, 2, FALSE) -> 삼안 | D61: 엔지니어 | E61: 이수문 | F61: 수석 | G61: PRIME H410M-A | H61: Intel(R) Core(TM) i5-10400F | I61: 2020 | J61: NVIDIA GeForce GTX 1050 Ti | K61: 2016 | L61: 16GB | M61: 250 GB | S61: LG(2) | W61: =I61&"0"&$X$2 -> 202001
A62: 기술개발센터 | B62: 일반구조물 Div_DfMA팀 | C62: =VLOOKUP(E62, Sheet1!$A$1:$I$228, 2, FALSE) -> 삼안 | D62: 엔지니어 | E62: 장한규 | F62: 연구원 | G62: PRIME B360M-K | H62: Intel(R) Core(TM) i7-8700 | I62: 2017 | J62: NVIDIA GeForce RTX 3060 | K62: 2020 | L62: 32GB | M62: 466 GB | O62: 1.8TB | S62: LG(2) | W62: =I62&"0"&$X$2 -> 201701
A63: 기술개발센터 | B63: 일반구조물 Div_DfMA팀 | C63: =VLOOKUP(E63, Sheet1!$A$1:$I$228, 2, FALSE) -> 삼안 | D63: 엔지니어 | E63: 변정안 | F63: 연구원 | G63: Gigabyte B250M-DS3H-CF | H63: Intel(R) Core(TM) i5-7500 | I63: 2017 | J63: NVIDIA GeForce GTX 1050 | K63: 2016 | L63: 16GB | M63: 250 GB | O63: 1.0TB | S63: LG(2) | W63: =I63&"0"&$X$2 -> 201701
A64: 기술개발센터 | B64: 천지인팀 | C64: =VLOOKUP(E64, Sheet1!$A$1:$I$228, 2, FALSE) -> 한맥 | D64: 개발자 | E64: 강명진 | F64: 수석연구원 | G64: PRIME B250M-A | H64: Intel(R) Core(TM) i7-7700 | I64: 2017 | J64: NVIDIA GeForce RTX 3060 | K64: 2020 | L64: 32GB | M64: 500GB | O64: 1.8TB | S64: LG (2) | U64: LG (1) | W64: =I64&"0"&$X$2 -> 201701
A65: 기술개발센터 | B65: 천지인팀_단지설계개발셀 | C65: =VLOOKUP(E65, Sheet1!$A$1:$I$228, 2, FALSE) -> 삼안 | D65: 개발자 | E65: 손원일 | F65: 책임연구원 | G65: ASUS TUF B365M-PLUS GAMING | H65: Intel(R) Core(TM) i7-9700 | I65: 2018 | J65: NVIDIA GeForce RTX 2060 SUPER | K65: 2018 | L65: 32GB | M65: 500GB | O65: 2TB | S65: LG (2) | T65: LG1 | W65: =I65&"0"&$X$2 -> 201801
A66: 기술개발센터 | B66: 천지인팀_단지설계개발셀 | C66: =VLOOKUP(E66, Sheet1!$A$1:$I$228, 2, FALSE) -> 삼안 | D66: 개발자 | E66: 김종석 | F66: 연구원 | G66: ASUS PRIME B365M-K | H66: Intel(R) Core(TM) i7-9700KF | I66: 2018 | J66: NVIDIA GeForce RTX 2060 SUPER | K66: 2018 | L66: 32GB | M66: 500GB | O66: 1.8TB | S66: LG (2) | U66: LG (1) | W66: =I66&"0"&$X$2 -> 201801
A67: 기술개발센터 | B67: 천지인팀_단지설계개발셀 | C67: =VLOOKUP(E67, Sheet1!$A$1:$I$228, 2, FALSE) -> 삼안 | D67: 개발자 | E67: 이현경 | F67: 연구원 | G67: PRIME B450M-A | H67: AMD Ryzen 7 2700X | I67: 2018 | J67: NVIDIA GeForce GTX 1070 | K67: 2016 | L67: 32GB | M67: 500GB | O67: 1.8TB | S67: LG (2) | U67: LG (1) | W67: =I67&"0"&$X$2 -> 201801
A68: 기술개발센터 | B68: 천지인팀_단지설계개발셀 | C68: =VLOOKUP(E68, Sheet1!$A$1:$I$228, 2, FALSE) -> 삼안 | D68: 개발자 | E68: 김근아 | F68: 연구원 | G68: PRIME B460M-A | H68: Intel(R) Core(TM) i7-10700 | I68: 2020 | J68: NVIDIA GeForce GTX 1660 SUPER | K68: 2018 | L68: 32GB | M68: 1TB | N68: 500GB | O68: 1.8TB | S68: LG (2) | U68: LG (1) | W68: =I68&"0"&$X$2 -> 202001
A69: 기술개발센터 | B69: 천지인팀_용지도셀 | C69: =VLOOKUP(E69, Sheet1!$A$1:$I$228, 2, FALSE) -> 삼안 | D69: 개발자 | E69: 김규범 | F69: 선임연구원 | G69: PRIME B250M-A | H69: Intel(R) Core(TM) i7-7700 | I69: 2017 | J69: NVIDIA GeForce GTX 1060 | K69: 2016 | L69: 32GB | M69: 500GB | O69: 2TB | S69: LG (2) | U69: LG (1) | W69: =I69&"0"&$X$2 -> 201701
A70: 기술개발센터 | B70: 천지인팀_용지도셀 | C70: =VLOOKUP(E70, Sheet1!$A$1:$I$228, 2, FALSE) -> 삼안 | D70: 개발자 | E70: 이진수 | F70: 선임연구원 | G70: ASUS PRIME B365M-K | H70: Intel(R) Core(TM) i7-9700 | I70: 2018 | J70: NVIDIA GeForce RTX 2060 | K70: 2018 | L70: 48GB | M70: 500GB | O70: 2TB | S70: LG (2) | U70: LG (1) | W70: =I70&"0"&$X$2 -> 201801
A71: 기술개발센터 | B71: 천지인팀_용지도셀 | C71: =VLOOKUP(E71, Sheet1!$A$1:$I$228, 2, FALSE) -> 삼안 | D71: 개발자 | E71: 임성엽 | F71: 연구원 | G71: ASUS PRIME H610M-E D4 | H71: Intel(R) Core(TM) i7-12700F | I71: 2021 | J71: NVIDIA GeForce RTX 3060 | K71: 2020 | L71: 32GB | M71: 500GB | O71: 2TB | S71: LG (2) | U71: LG (1) | W71: =I71&"0"&$X$2 -> 202101
A72: 기술개발센터 | B72: 천지인팀_용지도셀 | C72: =VLOOKUP(E72, Sheet1!$A$1:$I$228, 2, FALSE) -> 삼안 | D72: 개발자 | E72: 김예서 | F72: 연구원 | G72: ASUS PRIME B365M-K | H72: Intel(R) Core(TM) i7-9700 | I72: 2018 | J72: NVIDIA GeForce RTX 3090 | K72: 2020 | L72: 32GB | M72: 500GB | O72: 2TB | S72: LG (2) | U72: LG (1) | W72: =I72&"0"&$X$2 -> 201801
A73: 기술개발센터 | B73: 천지인팀_천지인셀 | C73: =VLOOKUP(E73, Sheet1!$A$1:$I$228, 2, FALSE) -> 한맥 | D73: 개발자 | E73: 신봉진 | F73: 수석연구원 | G73: ASUS PRIME Z370-P | H73: Intel(R) Core(TM) i7-8700K | I73: 2017 | J73: NVIDIA GeForce GTX 1070 Ti | K73: 2016 | L73: 32GB | M73: 500GB | O73: 2TB | S73: LG (2) | U73: LG (1) | W73: =I73&"0"&$X$2 -> 201701
A74: 기술개발센터 | B74: 천지인팀_천지인셀 | C74: =VLOOKUP(E74, Sheet1!$A$1:$I$228, 2, FALSE) -> 삼안 | D74: 개발자 | E74: 안대욱 | F74: 책임연구원 | G74: ASUS TUF B365M-PLUS GAMING | H74: Intel(R) Core(TM) i7-9700 | I74: 2018 | J74: NVIDIA GeForce RTX 2060 SUPER | K74: 2018 | L74: 32GB | M74: 500GB | O74: 1.8TB | S74: LG (3) | W74: =I74&"0"&$X$2 -> 201801
A75: 기술개발센터 | B75: 천지인팀_천지인셀 | C75: =VLOOKUP(E75, Sheet1!$A$1:$I$228, 2, FALSE) -> 삼안 | D75: 개발자 | E75: 정주현 | F75: 연구원 | G75: ASUS PRIME H670-PLUS D4 | H75: Intel(R) Core(TM) i7-12700F | I75: 2021 | J75: NVIDIA GeForce RTX 2060 SUPER | K75: 2018 | L75: 32GB | M75: 500GB | O75: 2TB | S75: LG (2) | U75: LG (1) | W75: =I75&"0"&$X$2 -> 202101
A76: 기술개발센터 | B76: 천지인팀_천지인셀 | C76: =VLOOKUP(E76, Sheet1!$A$1:$I$228, 2, FALSE) -> 삼안 | D76: 개발자 | E76: 백순철 | F76: 연구원 | G76: ASUS PRIME H610M-E D4 | H76: Intel(R) Core(TM) i7-12700F | I76: 2021 | J76: NVIDIA GeForce RTX 3060 | K76: 2020 | L76: 64GB | M76: 1 TB | O76: 2 TB | S76: LG (2) | U76: LG (1) | W76: =I76&"0"&$X$2 -> 202101
A77: 기술개발센터 | B77: 천지인팀_천지인셀 | C77: =VLOOKUP(E77, Sheet1!$A$1:$I$228, 2, FALSE) -> 삼안 | D77: 개발자 | E77: 전제경 | F77: 연구원 | G77: ASUS PRIME H610M-D D4 | H77: Intel(R) Core(TM) i7-12700F | I77: 2021 | J77: NVIDIA GeForce RTX 3060 | K77: 2020 | L77: 32GB | M77: 500 GB | O77: 2 TB | S77: LG (2) | U77: LG (1) | W77: =I77&"0"&$X$2 -> 202101
A78: 기술개발센터 | B78: 터널팀 | C78: =VLOOKUP(E78, Sheet1!$A$1:$I$228, 2, FALSE) -> 한맥 | D78: 엔지니어 | E78: 이화영 | F78: 수석연구원 | G78: PRIME B365M-A | H78: Intel(R) Core(TM) i7-9700K | I78: 2018 | J78: NVIDIA GeForce GTX 2060 SUPER | K78: 2018 | L78: 16GB | M78: 500GB | O78: 2TB | S78: LG(2) 삼성(1) | W78: =I78&"0"&$X$2 -> 201801
A79: 기술개발센터 | B79: 터널팀 | C79: =VLOOKUP(E79, Sheet1!$A$1:$I$228, 2, FALSE) -> 삼안 | D79: 엔지니어 | E79: 심재훈 | F79: 수석연구원 | G79: B365M DS3H | H79: Intel(R) Core(TM) i5-9400F | I79: 2018 | J79: NVIDIA GeForce GTX 1050 Ti | K79: 2016 | L79: 16GB | M79: 233GB | O79: 2TB | S79: LG(2) | W79: =I79&"0"&$X$2 -> 201801
A80: 기술개발센터 | B80: 터널팀 | C80: =VLOOKUP(E80, Sheet1!$A$1:$I$228, 2, FALSE) -> 한맥 | D80: 엔지니어 | E80: 최정혁 | F80: 선임연구원 | G80: PRIME B365M-K | H80: Intel(R) Core(TM) i7-9700 | I80: 2018 | J80: NVIDIA GeForce GTX 1660 SUPER | K80: 2018 | L80: 16GB | M80: 500GB | O80: 2TB | S80: LG(2) | W80: =I80&"0"&$X$2 -> 201801
A81: 기술개발센터 | B81: 터널팀 | C81: =VLOOKUP(E81, Sheet1!$A$1:$I$228, 2, FALSE) -> 삼안 | D81: 엔지니어 | E81: 박민선 | F81: 연구원 | G81: PRIME B365M-K | H81: Intel(R) Core(TM) i7-9700K | I81: 2018 | J81: NVIDIA GeForce RTX 2060 SUPER | K81: 2018 | L81: 32GB | M81: 500GB | O81: 1.8TB | S81: LG(3) | W81: =I81&"0"&$X$2 -> 201801
A82: 기술개발센터 | B82: 터널팀 | C82: =VLOOKUP(E82, Sheet1!$A$1:$I$228, 2, FALSE) -> 삼안 | D82: 엔지니어 | E82: 이상목 | F82: 연구원 | G82: PRIME B360M-K | H82: Intel(R) Core(TM) i7-9700K | I82: 2018 | J82: NVIDIA GeForce GTX 1070 | K82: 2016 | L82: 16GB | M82: 500GB | O82: 2TB | S82: LG(3) | W82: =I82&"0"&$X$2 -> 201801
A83: 기술개발센터 | B83: 일반구조물 Div_하부구조팀 | C83: =VLOOKUP(E83, Sheet1!$A$1:$I$228, 2, FALSE) -> 삼안 | D83: 엔지니어 | E83: 이민지 | F83: 연구원 | G83: TUF GAMING B460M-PLUS | H83: Intel(R) Core(TM) i5-10400F | I83: 2020 | J83: NVIDIA GeForce GTX 1050 Ti | K83: 2016 | L83: 16GB | M83: 233GB | O83: 1.8TB | S83: LG(2) | W83: =I83&"0"&$X$2 -> 202001
A84: 기술개발센터 | B84: Construction Control팀 | C84: =VLOOKUP(E84, Sheet1!$A$1:$I$228, 2, FALSE) -> 삼안 | D84: 엔지니어 | E84: 정요한 | F84: 수석 | G84: B250M-DS3H-CF | H84: Intel(R) Core(TM) i5-7500 | I84: 2017 | J84: NVIDIA GeForce GTX 1050 | K84: 2016 | L84: 16GB | M84: 250GB | O84: 1TB | S84: LG(2) 삼성(1) | T84: - | U84: - | W84: =I84&"0"&$X$2 -> 201701
A85: 기술개발센터 | B85: Construction Control팀_공정관리셀 | C85: =VLOOKUP(E85, Sheet1!$A$1:$I$228, 2, FALSE) -> 삼안 | D85: 엔지니어 | E85: 김남걸 | F85: 수석 | G85: PRIME B460M-A R2.0 | H85: Intel(R) Core(TM) i5-11400 | I85: 2021 | J85: NVIDIA GeForce GTX 1050 Ti | K85: 2016 | L85: 16GB | M85: 250GB | O85: 1.8TB | S85: LG(2) | W85: =I85&"0"&$X$2 -> 202101
A86: 기술개발센터 | B86: Construction Control팀_공정관리셀 | C86: =VLOOKUP(E86, Sheet1!$A$1:$I$228, 2, FALSE) -> 삼안 | D86: 엔지니어 | E86: 신원태 | F86: 책임 | G86: PRIME Z390M-PLUS | H86: Intel(R) Core(TM) i7-9700 | I86: 2018 | J86: NVIDIA GeForce GTX 1070 | K86: 2016 | L86: 32GB | M86: 500GB | O86: 1.8TB | S86: LG(2) | W86: =I86&"0"&$X$2 -> 201801
A87: 기술개발센터 | B87: Construction Control팀_공정관리셀 | C87: =VLOOKUP(E87, Sheet1!$A$1:$I$228, 2, FALSE) -> 삼안 | D87: 엔지니어 | E87: 유효식 | F87: 책임 | G87: PRIME B250M-K | H87: Intel(R) Core(TM) i5-7500 | I87: 2017 | J87: NVIDIA GeForce GTX 1050 | K87: 2016 | L87: 16GB | M87: 250GB | O87: 1TB | P87: 1TB | S87: LG(2) | T87: - | U87: - | W87: =I87&"0"&$X$2 -> 201701
A88: 기술개발센터 | B88: Construction Control팀_공정관리셀 | C88: =VLOOKUP(E88, Sheet1!$A$1:$I$228, 2, FALSE) -> 삼안 | D88: 엔지니어 | E88: 김윤권 | F88: 책임 | G88: PRIME B365M-K | H88: Intel(R) Core(TM) i5-9400F | I88: 2018 | J88: NVIDIA GeForce GTX 1050 Ti | K88: 2016 | L88: 16GB | M88: 250GB | O88: 1.8TB | S88: LG(2) 삼성(1) | T88: - | U88: - | W88: =I88&"0"&$X$2 -> 201801
A89: 기술개발센터 | B89: Construction Control팀_단가산출셀 | C89: =VLOOKUP(E89, Sheet1!$A$1:$I$228, 2, FALSE) -> 한맥 | D89: 엔지니어 | E89: 오문성 | F89: 수석 | G89: PRIME H610M-D D4 | H89: Intel(R) Core(TM) i7-12700F | I89: 2021 | J89: NVIDIA GeForce RTX 2060 | K89: 2018 | L89: 16GB | M89: 500GB | O89: 1.8TB | S89: LG(2) | T89: - | U89: - | W89: =I89&"0"&$X$2 -> 202101
A90: 기술개발센터 | B90: Construction Control팀_단가산출셀 | C90: =VLOOKUP(E90, Sheet1!$A$1:$I$228, 2, FALSE) -> 삼안 | D90: 엔지니어 | E90: 이정곤 | F90: 책임 | G90: PRIME H410M-A | H90: Intel(R) Core(TM) i5-10400F | I90: 2020 | J90: NVIDIA GeForce GTX 1050 Ti | K90: 2016 | L90: 16GB | M90: 250GB | O90: 1.8TB | S90: LG(2) | T90: - | U90: - | W90: =I90&"0"&$X$2 -> 202001
A91: 기술개발센터 | B91: Construction Control팀_단가산출셀 | C91: =VLOOKUP(E91, Sheet1!$A$1:$I$228, 2, FALSE) -> 삼안 | D91: 엔지니어 | E91: 김도우 | F91: 연구원 | G91: PRIME H410M-A | H91: Intel(R) Core(TM) i5-10400F | I91: 2020 | J91: NVIDIA GeForce GTX 1050 Ti | K91: 2016 | L91: 16GB | M91: 250GB | O91: 1.8TB | S91: LG(2) | W91: =I91&"0"&$X$2 -> 202001
A92: 기술개발센터 | B92: GSIM 개발팀 | C92: =VLOOKUP(E92, Sheet1!$A$1:$I$228, 2, FALSE) -> 한맥 | D92: 개발자 | E92: 이호성 | F92: 수석연구원 | G92: PRIME H610M-D D4 | H92: Intel(R) Core(TM) i7-12700F | I92: 2021 | J92: NVIDIA GeForce RTX 3060 | K92: 2020 | L92: 32GB | M92: 2TB | O92: 2TB | P92: 2TB | S92: LG(1) | U92: LG(2) | W92: =I92&"0"&$X$2 -> 202101
A93: 기술개발센터 | B93: GSIM 개발팀 | C93: =VLOOKUP(E93, Sheet1!$A$1:$I$228, 2, FALSE) -> 삼안 | D93: 개발자 | E93: 기윤서 | F93: 수석연구원 | G93: PRIME B460M-K | H93: Intel(R) Core(TM) i7-10700 | I93: 2020 | J93: NVIDIA GeForce GTX 1050 Ti | K93: 2016 | L93: 16GB | M93: 500GB | O93: 2TB | S93: LG(2) | T93: LG(1) | W93: =I93&"0"&$X$2 -> 202001
A94: 기술개발센터 | B94: GSIM 개발팀 | C94: =VLOOKUP(E94, Sheet1!$A$1:$I$228, 2, FALSE) -> 삼안 | D94: 개발자 | E94: 박정우 | F94: 선임연구원 | G94: Gigabyte B760M DS3H | H94: Intel(R) Core(TM) i7-14700 | I94: 2023 | J94: NVIDIA GeForce RTX 4060 | K94: 2022 | L94: 32GB | M94: 2TB | O94: 2TB | S94: LG(2) | T94: LG(1) | W94: =I94&"0"&$X$2 -> 202301
A95: 기술개발센터 | B95: GSIM 개발팀 | C95: =VLOOKUP(E95, Sheet1!$A$1:$I$228, 2, FALSE) -> 삼안 | D95: 개발자 | E95: 민홍 | F95: 선임연구원 | G95: MPG Z690 Force wifi | H95: Intel(R) Core(TM) i9-12900K | I95: 2021 | J95: NVIDIA GeForce RTX 3090 Ti | K95: 2020 | L95: 32GB | M95: 2TB | O95: 4TB | S95: LG(2) | T95: LG(1) | W95: =I95&"0"&$X$2 -> 202101
A96: 기술개발센터 | B96: GSIM 개발팀 | C96: =VLOOKUP(E96, Sheet1!$A$1:$I$228, 2, FALSE) -> 삼안 | D96: 개발자 | E96: 김도현 | F96: 선임연구원 | G96: PRIME B460M-K | H96: Intel(R) Core(TM) i7-10700 | I96: 2020 | J96: NVIDIA GeForce RTX 3060 | K96: 2020 | L96: 32GB | M96: 500GB | O96: 2TB | S96: LG(2) | T96: LG(1) | W96: =I96&"0"&$X$2 -> 202001
A97: 기술개발센터 | B97: GSIM 개발팀 | C97: =VLOOKUP(E97, Sheet1!$A$1:$I$228, 2, FALSE) -> 바론 | D97: 개발자 | E97: 손제근 | F97: 연구원 | G97: PRIME B760M-K | H97: Intel(R) Core(TM) i7-13700F | I97: 2022 | J97: NVIDIA GeForce RTX 4060 | K97: 2022 | L97: 32GB | M97: 2TB | O97: 2TB | S97: LG(2) | T97: LG(1) | W97: =I97&"0"&$X$2 -> 202201
A98: 기술개발센터 | B98: GSIM 개발팀 | C98: =VLOOKUP(E98, Sheet1!$A$1:$I$228, 2, FALSE) -> 삼안 | D98: 개발자 | E98: 박지은 | F98: 연구원 | G98: PRIME B760M-K | H98: Intel(R) Core(TM) i7-13700F | I98: 2022 | J98: NVIDIA GeForce RTX 3060 | K98: 2020 | L98: 32GB | M98: 2TB | O98: 2TB | S98: LG(2) | T98: LG(1) | W98: =I98&"0"&$X$2 -> 202201
A99: 기술개발센터 | B99: GSIM 개발팀 | C99: =VLOOKUP(E99, Sheet1!$A$1:$I$228, 2, FALSE) -> 삼안 | D99: 개발자 | E99: 최준호 | F99: 연구원 | G99: PRIME B760M-K | H99: Intel(R) Core(TM) i7-13700F | I99: 2022 | J99: NVIDIA GeForce RTX 4060 | K99: 2022 | L99: 32GB | M99: 500GB | O99: 2TB | S99: LG(2) | T99: LG(1) | W99: =I99&"0"&$X$2 -> 202201
A100: 기술개발센터 | B100: GSIM 개발팀 | C100: =VLOOKUP(E100, Sheet1!$A$1:$I$228, 2, FALSE) -> 삼안 | D100: 개발자 | E100: 김건우A | F100: 연구원 | G100: Gigabyte B760M DS3H | H100: Intel(R) Core(TM) i7-14700F | I100: 2023 | J100: NVIDIA GeForce RTX 4060 | K100: 2022 | L100: 32GB | M100: 500GB | O100: 2TB | S100: LG(2) | T100: LG(1) | W100: =I100&"0"&$X$2 -> 202301
...

Sheet Sheet1
A1: 성명 | B1: 소속회사 | C1: 부서 | D1: 사번 | E1: 직위 | F1: 직급 | G1: 호봉 | H1: 그룹입사일자 | I1: 입사일자
A2: 정태원 | B2: 한맥 | C2: 기술개발센터 | D2: M21201 | E2: 사장 | F2: 임원 | G2: 1 | H2: 41821 | I2: 41821
A3: 양병홍 | B3: 삼안 | C3: 기술개발센터 | D3: B18202 | E3: 부사장 | F3: 임원 | G3: 1 | I3: 43117
A4: 김형준 | B4: 삼안 | C4: 기술개발센터 | D4: B16212 | E4: 수석연구원 | F4: 임원 | G4: 1 | H4: 42632 | I4: 42632
A5: 김민성 | B5: 삼안 | C5: 기술개발센터 | D5: B16213 | E5: 수석연구원 | F5: 임원 | G5: 1 | H5: 42675 | I5: 42675
A6: 유석준 | B6: 삼안 | C6: 기술개발센터 | D6: B16214 | E6: 수석연구원 | F6: 임원 | G6: 1 | H6: 42737 | I6: 42737
A7: 심영표 | B7: 삼안 | C7: 기술개발센터 | D7: B16216 | E7: 수석연구원 | F7: 임원 | G7: 1 | H7: 42719 | I7: 42719
A8: 정계완 | B8: 삼안 | C8: 기술개발센터 | D8: B17203 | E8: 수석연구원 | F8: 임원 | G8: 1 | H8: 42821 | I8: 42821
A9: 노준 | B9: 삼안 | C9: 기술개발센터 | D9: B17206 | E9: 수석연구원 | F9: 임원 | G9: 1 | I9: 43070
A10: 김일태 | B10: 삼안 | C10: 기술개발센터 | D10: B18206 | E10: 수석연구원 | F10: 임원 | G10: 1 | I10: 43117
A11: 김병조 | B11: 삼안 | C11: 기술개발센터 | D11: B18212 | E11: 수석연구원 | F11: 임원 | G11: 1 | I11: 43388
A12: 이호경 | B12: 삼안 | C12: 기술개발센터 | D12: B18215 | E12: 수석연구원 | F12: 임원 | G12: 1 | I12: 43405
A13: 김현일 | B13: 삼안 | C13: 기술개발센터 | D13: B19201 | E13: 수석연구원 | F13: 임원 | G13: 1 | I13: 43466
A14: 박현수 | B14: 삼안 | C14: 기술개발센터 | D14: B19206 | E14: 수석연구원 | F14: 임원 | G14: 1 | H14: 39391 | I14: 43619
A15: 이동원 | B15: 삼안 | C15: 기술개발센터 | D15: B19309 | E15: 수석연구원 | F15: 임원 | G15: 1 | I15: 43731
A16: 정요한 | B16: 삼안 | C16: 기술개발센터 | D16: B20326 | E16: 수석연구원 | F16: 임원 | G16: 1 | I16: 44075
A17: 장계석 | B17: 바론 | C17: 기술개발센터 | D17: B21317 | E17: 수석연구원 | F17: 임원 | G17: 1 | I17: 37895
A18: 복진훈 | B18: 삼안 | C18: 기술개발센터 | D18: B21357 | E18: 수석연구원 | F18: 임원 | G18: 1 | I18: 44445
A19: 김남걸 | B19: 삼안 | C19: 기술개발센터 | D19: B21372 | E19: 수석연구원 | F19: 임원 | G19: 1 | I19: 44564
A20: 이수문 | B20: 삼안 | C20: 기술개발센터 | D20: B22035 | E20: 수석연구원 | F20: 임원 | G20: 1 | I20: 44728
A21: 김재현 | B21: 삼안 | C21: 기술개발센터 | D21: B22051 | E21: 수석연구원 | F21: 임원 | G21: 1 | I21: 44809
A22: 조병철 | B22: 삼안 | C22: 기술개발센터 | D22: B24015 | E22: 수석연구원 | F22: 임원 | G22: 1 | I22: 45341
A23: 심재훈 | B23: 삼안 | C23: 기술개발센터 | D23: B25025 | E23: 수석연구원 | F23: 임원 | G23: 1 | H23: 45763 | I23: 45763
A24: 전상현 | B24: 한맥 | C24: 기술개발센터 | D24: J05208 | E24: 수석연구원 | F24: 임원 | G24: 1 | I24: 38869
A25: 김승호 | B25: 한맥 | C25: 기술개발센터 | D25: M02248 | E25: 수석연구원 | F25: 임원 | G25: 1 | I25: 36746
A26: 김정훈 | B26: 한맥 | C26: 기술개발센터 | D26: M04308 | E26: 수석연구원 | F26: 임원 | G26: 1 | I26: 38020
A27: 곽현석 | B27: 한맥 | C27: 기술개발센터 | D27: M06309 | E27: 수석연구원 | F27: 임원 | G27: 1 | I27: 38782
A28: 황은식 | B28: 한맥 | C28: 기술개발센터 | D28: M07302 | E28: 수석연구원 | F28: 임원 | G28: 1 | I28: 39084
A29: 표종진 | B29: 한맥 | C29: 기술개발센터 | D29: M08301 | E29: 수석연구원 | F29: 임원 | G29: 1 | I29: 39461
A30: 이호성 | B30: 한맥 | C30: 기술개발센터 | D30: M08303 | E30: 수석연구원 | F30: 임원 | G30: 1 | I30: 39479
A31: 이화영 | B31: 한맥 | C31: 기술개발센터 | D31: M12205 | E31: 수석연구원 | F31: 임원 | G31: 1 | I31: 41162
A32: 신봉진 | B32: 한맥 | C32: 기술개발센터 | D32: M17203 | E32: 수석연구원 | F32: 임원 | G32: 1 | H32: 42828 | I32: 42828
A33: 강명진 | B33: 한맥 | C33: 기술개발센터 | D33: M17205 | E33: 수석연구원 | F33: 임원 | G33: 1 | H33: 42848 | I33: 42851
A34: 오문성 | B34: 한맥 | C34: 기술개발센터 | D34: M18201 | E34: 수석연구원 | F34: 임원 | G34: 1 | H34: 43115 | I34: 43115
A35: 기윤서 | B35: 삼안 | C35: 기술개발센터 | D35: M21309 | E35: 수석연구원 | F35: 임원 | G35: 1 | I35: 44228
A36: 김상욱 | B36: PTC | C36: 기술개발센터 | D36: P11202 | E36: 수석연구원 | F36: 임원 | G36: 1 | I36: 40771
A37: 김윤하 | B37: 바론 | C37: 기술개발센터 | D37: T03225 | E37: 수석연구원 | F37: 임원 | G37: 1 | I37: 43983
A38: 문남연 | B38: 한맥 | C38: 기술개발센터 | D38: T04306 | E38: 수석연구원 | F38: 임원 | G38: 1 | I38: 38033
A39: 이인우 | B39: 삼안 | C39: 기술개발센터 | D39: B16305 | E39: 책임연구원 | F39: 1급 | G39: 1 | H39: 42492 | I39: 42492
A40: 한지아 | B40: 삼안 | C40: 기술개발센터 | D40: B22001 | E40: 책임연구원 | F40: 1급 | G40: 1 | I40: 44599
A41: 정명준 | B41: 삼안 | C41: 기술개발센터 | D41: M20330 | E41: 책임연구원 | F41: 1급 | G41: 1 | H41: 42522 | I41: 43497
A42: 최정균 | B42: 한맥 | C42: 기술개발센터 | D42: M26013 | E42: 책임연구원 | F42: 1급 | G42: 1 | I42: 46082
A43: 안용주 | B43: 삼안 | C43: 기술개발센터 | D43: B22037 | E43: 책임연구원 | F43: 1급 | G43: 1 | I43: 44728
A44: 이정곤 | B44: 삼안 | C44: 기술개발센터 | D44: B23036 | E44: 책임연구원 | F44: 1급 | G44: 1 | I44: 45078
A45: 김지웅 | B45: 한맥 | C45: 기술개발센터 | D45: B13301 | E45: 책임연구원 | F45: 1급 | G45: 1 | H45: 41365 | I45: 43070
A46: 유달리 | B46: 삼안 | C46: 기술개발센터 | D46: B20205 | E46: 책임연구원 | F46: 1급 | G46: 1 | I46: 44081
A47: 지현욱 | B47: 삼안 | C47: 기술개발센터 | D47: B23025 | E47: 책임연구원 | F47: 1급 | G47: 1 | I47: 45026
A48: 엄지숙 | B48: 삼안 | C48: 기술개발센터 | D48: B23072 | E48: 책임연구원 | F48: 1급 | G48: 1 | I48: 45300
A49: 백승민 | B49: 삼안 | C49: 기술개발센터 | D49: B25035 | E49: 책임연구원 | F49: 1급 | G49: 1 | H49: 45915 | I49: 45915
A50: 안대욱 | B50: 삼안 | C50: 기술개발센터 | D50: B10201 | E50: 책임연구원 | F50: 1급 | G50: 1 | H50: 41708 | I50: 43070
A51: 최준영 | B51: 한맥 | C51: 기술개발센터 | D51: B17314 | E51: 책임연구원 | F51: 1급 | G51: 1 | I51: 42975
A52: 조선두 | B52: 삼안 | C52: 기술개발센터 | D52: B22042 | E52: 책임연구원 | F52: 1급 | G52: 1 | I52: 44743
A53: 김원기A | B53: 삼안 | C53: 기술개발센터 | D53: B22057 | E53: 책임연구원 | F53: 1급 | G53: 1 | I53: 44823
A54: 김민수 | B54: 삼안 | C54: 기술개발센터 | D54: B22074 | E54: 책임연구원 | F54: 1급 | G54: 1 | I54: 44928
A55: 김세열 | B55: 바론 | C55: 기술개발센터 | D55: J15306 | E55: 책임연구원 | F55: 1급 | G55: 1 | H55: 42282 | I55: 46023
A56: 이광태 | B56: 한맥 | C56: 기술개발센터 | D56: M13301 | E56: 책임연구원 | F56: 1급 | G56: 1 | I56: 41276
A57: 김지영 | B57: PTC | C57: 기술개발센터 | D57: M17208 | E57: 책임연구원 | F57: 1급 | G57: 1 | H57: 42905 | I57: 42905
A58: 김윤권 | B58: 삼안 | C58: 기술개발센터 | D58: B20333 | E58: 책임연구원 | F58: 1급 | G58: 1 | I58: 44137
A59: 최창인 | B59: 삼안 | C59: 기술개발센터 | D59: B22016 | E59: 책임연구원 | F59: 1급 | G59: 1 | I59: 44627
A60: 김재환 | B60: 삼안 | C60: 기술개발센터 | D60: B23041 | E60: 책임연구원 | F60: 1급 | G60: 1 | I60: 45117
A61: 한성일 | B61: 삼안 | C61: 기술개발센터 | D61: B23042 | E61: 책임연구원 | F61: 1급 | G61: 1 | I61: 45117
A62: 유효식 | B62: 삼안 | C62: 기술개발센터 | D62: B18313 | E62: 책임연구원 | F62: 1급 | G62: 1 | I62: 43425
A63: 이은구 | B63: 삼안 | C63: 기술개발센터 | D63: B19203 | E63: 책임연구원 | F63: 1급 | G63: 1 | I63: 43577
A64: 신원태 | B64: 삼안 | C64: 기술개발센터 | D64: B19204 | E64: 책임연구원 | F64: 1급 | G64: 1 | I64: 43586
A65: 장용섭 | B65: 삼안 | C65: 기술개발센터 | D65: B20202 | E65: 책임연구원 | F65: 1급 | G65: 1 | I65: 44004
A66: 신지호 | B66: 삼안 | C66: 기술개발센터 | D66: M20329 | E66: 책임연구원 | F66: 1급 | G66: 1 | H66: 40000 | I66: 43497
A67: 류한솔 | B67: 삼안 | C67: 기술개발센터 | D67: B18213 | E67: 책임연구원 | F67: 1급 | G67: 1 | I67: 43405
A68: 손원일 | B68: 삼안 | C68: 기술개발센터 | D68: B19311 | E68: 책임연구원 | F68: 1급 | G68: 1 | I68: 43745
A69: 최정우A | B69: 삼안 | C69: 기술개발센터 | D69: B22055 | E69: 책임연구원 | F69: 1급 | G69: 1 | H69: 44557 | I69: 44817
A70: 문영석 | B70: PTC | C70: 기술개발센터 | D70: B20309 | E70: 선임연구원 | F70: 3급 | G70: 1 | I70: 43976
A71: 김근형 | B71: 바론 | C71: 기술개발센터 | D71: B20311 | E71: 선임연구원 | F71: 3급 | G71: 1 | H71: 43983 | I71: 46023
A72: 김병철 | B72: 삼안 | C72: 기술개발센터 | D72: B21319 | E72: 선임연구원 | F72: 3급 | G72: 1 | I72: 44263
A73: 최용혁 | B73: 삼안 | C73: 기술개발센터 | D73: B21370 | E73: 선임연구원 | F73: 3급 | G73: 1 | I73: 44564
A74: 강상구 | B74: 삼안 | C74: 기술개발센터 | D74: B22004 | E74: 선임연구원 | F74: 3급 | G74: 1 | I74: 44599
A75: 서승완 | B75: 삼안 | C75: 기술개발센터 | D75: B23030 | E75: 선임연구원 | F75: 3급 | G75: 1 | I75: 45026
A76: 김진선 | B76: 삼안 | C76: 기술개발센터 | D76: B23033 | E76: 선임연구원 | F76: 3급 | G76: 1 | I76: 45054
A77: 민홍 | B77: 삼안 | C77: 기술개발센터 | D77: B23055 | E77: 선임연구원 | F77: 3급 | G77: 1 | I77: 45180
A78: 윤현경 | B78: 삼안 | C78: 기술개발센터 | D78: B24005 | E78: 선임연구원 | F78: 3급 | G78: 1 | I78: 45313
A79: 임성엽 | B79: 삼안 | C79: 기술개발센터 | D79: B24011 | E79: 선임연구원 | F79: 3급 | G79: 1 | I79: 45323
A80: 손제근 | B80: 바론 | C80: 기술개발센터 | D80: B24022 | E80: 선임연구원 | F80: 3급 | G80: 1 | I80: 45414
A81: 변정안 | B81: 삼안 | C81: 기술개발센터 | D81: B24046 | E81: 선임연구원 | F81: 3급 | G81: 1 | I81: 45607
A82: 김종석 | B82: 삼안 | C82: 기술개발센터 | D82: B25020 | E82: 선임연구원 | F82: 3급 | G82: 1 | I82: 45740
A83: 문준혁 | B83: 바론 | C83: 기술개발센터 | D83: B25028 | E83: 선임연구원 | F83: 3급 | G83: 1 | I83: 45806
A84: 이배승 | B84: 바론 | C84: 기술개발센터 | D84: B25031 | E84: 선임연구원 | F84: 3급 | G84: 1 | H84: 45839 | I84: 45839
A85: 김명식 | B85: 삼안 | C85: 기술개발센터 | D85: B19310 | E85: 선임연구원 | F85: 3급 | G85: 1 | I85: 43739
A86: 김도현 | B86: 삼안 | C86: 기술개발센터 | D86: B22039 | E86: 선임연구원 | F86: 3급 | G86: 1 | I86: 44732
A87: 최진헌 | B87: 삼안 | C87: 기술개발센터 | D87: B22063 | E87: 선임연구원 | F87: 3급 | G87: 1 | I87: 44865
A88: 안효원 | B88: 삼안 | C88: 기술개발센터 | D88: B23040 | E88: 선임연구원 | F88: 3급 | G88: 1 | I88: 45117
A89: 김성엽 | B89: 삼안 | C89: 기술개발센터 | D89: B25011 | E89: 선임연구원 | F89: 3급 | G89: 1 | I89: 45705
A90: 이진수 | B90: 삼안 | C90: 기술개발센터 | D90: B21306 | E90: 선임연구원 | F90: 3급 | G90: 1 | I90: 44214
A91: 이주형 | B91: 삼안 | C91: 기술개발센터 | D91: B21315 | E91: 선임연구원 | F91: 3급 | G91: 1 | H91: 44207 | I91: 44257
A92: 이동호 | B92: 삼안 | C92: 기술개발센터 | D92: B22056 | E92: 선임연구원 | F92: 3급 | G92: 1 | H92: 43885 | I92: 44817
A93: 유승민 | B93: 삼안 | C93: 기술개발센터 | D93: B22058 | E93: 선임연구원 | F93: 3급 | G93: 1 | I93: 44835
A94: 김주영 | B94: 삼안 | C94: 기술개발센터 | D94: B23031 | E94: 선임연구원 | F94: 3급 | G94: 1 | I94: 45033
A95: 서동해 | B95: 바론 | C95: 기술개발센터 | D95: B24023 | E95: 선임연구원 | F95: 3급 | G95: 1 | I95: 45411
A96: 김규범 | B96: 삼안 | C96: 기술개발센터 | D96: B17308 | E96: 선임연구원 | F96: 3급 | G96: 1 | H96: 42865 | I96: 42865
A97: 최진영 | B97: 삼안 | C97: 기술개발센터 | D97: B18311 | E97: 선임연구원 | F97: 3급 | G97: 1 | I97: 43374
A98: 김영배 | B98: 바론 | C98: 기술개발센터 | D98: B20327 | E98: 선임연구원 | F98: 3급 | G98: 1 | H98: 44081 | I98: 46023
A99: 박정우 | B99: 삼안 | C99: 기술개발센터 | D99: B21309 | E99: 선임연구원 | F99: 3급 | G99: 1 | I99: 44242
A100: 황선필 | B100: 삼안 | C100: 기술개발센터 | D100: B21368 | E100: 선임연구원 | F100: 3급 | G100: 1 | I100: 44508
...
