Workbook
Name 계: [1]간지!#REF!
Name 계: [1]간지!#REF!
Name 계: [1]간지!#REF!
Name 계: [1]간지!#REF!
Name 계: [2]간지!#REF!
Name 계: [1]간지!#REF!
Name 번호: [1]간지!#REF!
Name 번호: [1]간지!#REF!
Name 번호: [1]간지!#REF!
Name 번호: [1]간지!#REF!
Name 번호: [2]간지!#REF!
Name 번호: [1]간지!#REF!
Name 수량: [2]간지!$C$8:$C$11
Name 수량: [1]간지!$C$8:$C$11
Name 장산교: [1]간지!#REF!
Name 장산교: [1]간지!#REF!
Name 장산교: [1]간지!#REF!
Name 장산교: [1]간지!#REF!
Name 장산교: [2]간지!#REF!
Name 장산교: [1]간지!#REF!

Sheet 표지
A1: d. U형측구

Sheet U형측구현황DB작업
A1: 번호 | B1: 측 점 | C1: 측 점 | D1: 방향 | E1: 연장(M) | F1: 연장(M) | G1: 연장(M) | H1: 연장(M) | I1: 연장(M) | J1: 연장(M) | K1: 연장(M) | L1: 비 고 | M1: 토공사 | N1: 토공사 | O1: 토공사 | P1: 토공사 | Q1: 토공사 | R1: 자재대 | S1: 자재대
B2: 시 점 | C2: 종 점 | E2: 형식-5 | F2: 형식-5 | G2: 형식-5 | H2: 형식-6 | I2: 형식-7 | J2: 형식-8 | K2: 형식-9 | M2: 측구터파기공 | N2: 측구터파기공 | O2: 측구터파기공 | P2: 측구되메우기및다짐 | Q2: 측구되메우기및다짐 | R2: 이형철근 | S2: 고철대(고재)
E3: 토사 | F3: 리핑 | G3: 발파 | H3: 토사 | I3: 토사 | J3: 토사 | K3: 토사 | M3: 토사 | N3: 리핑암 | O3: 발파암 | P3: 토사 | Q3: 리핑 | R3: 연강 | T3: 비닐깔기 | U3: 철근조립 | V3: 신축줄눈 | W3: 수축줄눈
A4: 1 | B4: 8090 | C4: 8225 | D4: 당진 | H4: 135 | L4: 본선, 방음벽배면 | M4: =SUMPRODUCT((E$3:K$3="토사")*(E4:K4)*((E$2:K$2="형식-5")*1.488+(E$2:K$2="형식-7")*1.463+(E$2:K$2="형식-8")*1.838)) -> 0 | N4: =SUMPRODUCT((E$3:K$3="리핑")*(E4:K4)*((E$2:K$2="형식-5")*1.488+(E$2:K$2="형식-7")*1.463+(E$2:K$2="형식-8")*1.838)) -> 0 | O4: =SUMPRODUCT((E$3:K$3="발파")*(E4:K4)*((E$2:K$2="형식-5")*0.546+(E$2:K$2="형식-7")*1.463+(E$2:K$2="형식-8")*1.838)) -> 0 | P4: =SUMPRODUCT((E$3:K$3="토사")*(E4:K4)*((E$2:K$2="형식-5")*0.942+(E$2:K$2="형식-7")*0.943+(E$2:K$2="형식-8")*1.163)) -> 0 | Q4: =SUMPRODUCT((E$3:K$3="리핑")*(E4:K4)*((E$2:K$2="형식-5")*0.942+(E$2:K$2="형식-7")*0.943+(E$2:K$2="형식-8")*1.163)) -> 0 | R4: =ROUND( 1.03* SUMPRODUCT( (E$2:K$2="형식-5")* ((E$3:K$3="토사")+(E$3:K$3="리핑")+(E$3:K$3="발파"))* (E4:K4) ) *0.00166,3) -> 0
A5: =A4+1 -> 2 | B5: 10690 | C5: 10750 | D5: 당진 | K5: 70.1 | L5: 본선, 옹벽상단 | M5: =SUMPRODUCT((E$3:K$3="토사")*(E5:K5)*((E$2:K$2="형식-5")*1.488+(E$2:K$2="형식-7")*1.463+(E$2:K$2="형식-8")*1.838)) -> 0 | N5: =SUMPRODUCT((E$3:K$3="리핑")*(E5:K5)*((E$2:K$2="형식-5")*1.488+(E$2:K$2="형식-7")*1.463+(E$2:K$2="형식-8")*1.838)) -> 0 | O5: =SUMPRODUCT((E$3:K$3="발파")*(E5:K5)*((E$2:K$2="형식-5")*0.546+(E$2:K$2="형식-7")*1.463+(E$2:K$2="형식-8")*1.838)) -> 0 | P5: =SUMPRODUCT((E$3:K$3="토사")*(E5:K5)*((E$2:K$2="형식-5")*0.942+(E$2:K$2="형식-7")*0.943+(E$2:K$2="형식-8")*1.163)) -> 0 | Q5: =SUMPRODUCT((E$3:K$3="리핑")*(E5:K5)*((E$2:K$2="형식-5")*0.942+(E$2:K$2="형식-7")*0.943+(E$2:K$2="형식-8")*1.163)) -> 0 | R5: =ROUND( 1.03* SUMPRODUCT( (E$2:K$2="형식-5")* ((E$3:K$3="토사")+(E$3:K$3="리핑")+(E$3:K$3="발파"))* (E5:K5) ) *0.00166,3) -> 0
A6: =A5+1 -> 3 | B6: 12506.25 | C6: 12575.54 | D6: 당진 | E6: =82.8-F6-G6 -> 19 | F6: =12570-12550 -> 20 | G6: =ROUND(12550-B6,1) -> 43.8 | L6: 본선 | M6: =SUMPRODUCT((E$3:K$3="토사")*(E6:K6)*((E$2:K$2="형식-5")*1.488+(E$2:K$2="형식-7")*1.463+(E$2:K$2="형식-8")*1.838)) -> 28.272 | N6: =SUMPRODUCT((E$3:K$3="리핑")*(E6:K6)*((E$2:K$2="형식-5")*1.488+(E$2:K$2="형식-7")*1.463+(E$2:K$2="형식-8")*1.838)) -> 29.76 | O6: =SUMPRODUCT((E$3:K$3="발파")*(E6:K6)*((E$2:K$2="형식-5")*0.546+(E$2:K$2="형식-7")*1.463+(E$2:K$2="형식-8")*1.838)) -> 23.9148 | P6: =SUMPRODUCT((E$3:K$3="토사")*(E6:K6)*((E$2:K$2="형식-5")*0.942+(E$2:K$2="형식-7")*0.943+(E$2:K$2="형식-8")*1.163)) -> 17.898 | Q6: =SUMPRODUCT((E$3:K$3="리핑")*(E6:K6)*((E$2:K$2="형식-5")*0.942+(E$2:K$2="형식-7")*0.943+(E$2:K$2="형식-8")*1.163)) -> 18.84 | R6: =ROUND( 1.03* SUMPRODUCT( (E$2:K$2="형식-5")* ((E$3:K$3="토사")+(E$3:K$3="리핑")+(E$3:K$3="발파"))* (E6:K6) ) *0.00166,3) -> 0.142 | S6: =ROUND( 0.03* SUMPRODUCT( (E$2:K$2="형식-5")* ((E$3:K$3="토사")+(E$3:K$3="리핑")+(E$3:K$3="발파"))* (E6:K6) ) *0.00166,3) -> 0.004
A7: =A6+1 -> 4 | B7: 8972.74 | C7: 8983.71 | D7: 대산 | E7: 45 | L7: 본선 | M7: =SUMPRODUCT((E$3:K$3="토사")*(E7:K7)*((E$2:K$2="형식-5")*1.488+(E$2:K$2="형식-7")*1.463+(E$2:K$2="형식-8")*1.838)) -> 66.96 | N7: =SUMPRODUCT((E$3:K$3="리핑")*(E7:K7)*((E$2:K$2="형식-5")*1.488+(E$2:K$2="형식-7")*1.463+(E$2:K$2="형식-8")*1.838)) -> 0 | O7: =SUMPRODUCT((E$3:K$3="발파")*(E7:K7)*((E$2:K$2="형식-5")*0.546+(E$2:K$2="형식-7")*1.463+(E$2:K$2="형식-8")*1.838)) -> 0 | P7: =SUMPRODUCT((E$3:K$3="토사")*(E7:K7)*((E$2:K$2="형식-5")*0.942+(E$2:K$2="형식-7")*0.943+(E$2:K$2="형식-8")*1.163)) -> 42.39 | Q7: =SUMPRODUCT((E$3:K$3="리핑")*(E7:K7)*((E$2:K$2="형식-5")*0.942+(E$2:K$2="형식-7")*0.943+(E$2:K$2="형식-8")*1.163)) -> 0 | R7: =ROUND( 1.03* SUMPRODUCT( (E$2:K$2="형식-5")* ((E$3:K$3="토사")+(E$3:K$3="리핑")+(E$3:K$3="발파"))* (E7:K7) ) *0.00166,3) -> 0.077 | S7: =ROUND( 0.03* SUMPRODUCT( (E$2:K$2="형식-5")* ((E$3:K$3="토사")+(E$3:K$3="리핑")+(E$3:K$3="발파"))* (E7:K7) ) *0.00166,3) -> 0.002
A8: =A7+1 -> 5 | B8: 9623 | C8: 9860 | D8: 대산 | E8: 240.1 | L8: 본선 | M8: =SUMPRODUCT((E$3:K$3="토사")*(E8:K8)*((E$2:K$2="형식-5")*1.488+(E$2:K$2="형식-7")*1.463+(E$2:K$2="형식-8")*1.838)) -> 357.2688 | N8: =SUMPRODUCT((E$3:K$3="리핑")*(E8:K8)*((E$2:K$2="형식-5")*1.488+(E$2:K$2="형식-7")*1.463+(E$2:K$2="형식-8")*1.838)) -> 0 | O8: =SUMPRODUCT((E$3:K$3="발파")*(E8:K8)*((E$2:K$2="형식-5")*0.546+(E$2:K$2="형식-7")*1.463+(E$2:K$2="형식-8")*1.838)) -> 0 | P8: =SUMPRODUCT((E$3:K$3="토사")*(E8:K8)*((E$2:K$2="형식-5")*0.942+(E$2:K$2="형식-7")*0.943+(E$2:K$2="형식-8")*1.163)) -> 226.1742 | Q8: =SUMPRODUCT((E$3:K$3="리핑")*(E8:K8)*((E$2:K$2="형식-5")*0.942+(E$2:K$2="형식-7")*0.943+(E$2:K$2="형식-8")*1.163)) -> 0 | R8: =ROUND( 1.03* SUMPRODUCT( (E$2:K$2="형식-5")* ((E$3:K$3="토사")+(E$3:K$3="리핑")+(E$3:K$3="발파"))* (E8:K8) ) *0.00166,3) -> 0.411 | S8: =ROUND( 0.03* SUMPRODUCT( (E$2:K$2="형식-5")* ((E$3:K$3="토사")+(E$3:K$3="리핑")+(E$3:K$3="발파"))* (E8:K8) ) *0.00166,3) -> 0.012
A9: =A8+1 -> 6 | B9: 12500 | C9: 12571 | D9: 대산 | E9: =90.6-F9-G9 -> 35.6 | F9: =12555-12545 -> 10 | G9: =ROUND(12545-B9,1) -> 45 | L9: 본선 | M9: =SUMPRODUCT((E$3:K$3="토사")*(E9:K9)*((E$2:K$2="형식-5")*1.488+(E$2:K$2="형식-7")*1.463+(E$2:K$2="형식-8")*1.838)) -> 52.9728 | N9: =SUMPRODUCT((E$3:K$3="리핑")*(E9:K9)*((E$2:K$2="형식-5")*1.488+(E$2:K$2="형식-7")*1.463+(E$2:K$2="형식-8")*1.838)) -> 14.88 | O9: =SUMPRODUCT((E$3:K$3="발파")*(E9:K9)*((E$2:K$2="형식-5")*0.546+(E$2:K$2="형식-7")*1.463+(E$2:K$2="형식-8")*1.838)) -> 24.57 | P9: =SUMPRODUCT((E$3:K$3="토사")*(E9:K9)*((E$2:K$2="형식-5")*0.942+(E$2:K$2="형식-7")*0.943+(E$2:K$2="형식-8")*1.163)) -> 33.5352 | Q9: =SUMPRODUCT((E$3:K$3="리핑")*(E9:K9)*((E$2:K$2="형식-5")*0.942+(E$2:K$2="형식-7")*0.943+(E$2:K$2="형식-8")*1.163)) -> 9.42 | R9: =ROUND( 1.03* SUMPRODUCT( (E$2:K$2="형식-5")* ((E$3:K$3="토사")+(E$3:K$3="리핑")+(E$3:K$3="발파"))* (E9:K9) ) *0.00166,3) -> 0.155 | S9: =ROUND( 0.03* SUMPRODUCT( (E$2:K$2="형식-5")* ((E$3:K$3="토사")+(E$3:K$3="리핑")+(E$3:K$3="발파"))* (E9:K9) ) *0.00166,3) -> 0.005
A10: =A9+1 -> 7 | B10: 125 | C10: 184.96 | D10: 좌 | J10: 66.9 | L10: 시도14호선 | M10: =SUMPRODUCT((E$3:K$3="토사")*(E10:K10)*((E$2:K$2="형식-5")*1.488+(E$2:K$2="형식-7")*1.463+(E$2:K$2="형식-8")*1.838)) -> 122.9622 | N10: =SUMPRODUCT((E$3:K$3="리핑")*(E10:K10)*((E$2:K$2="형식-5")*1.488+(E$2:K$2="형식-7")*1.463+(E$2:K$2="형식-8")*1.838)) -> 0 | O10: =SUMPRODUCT((E$3:K$3="발파")*(E10:K10)*((E$2:K$2="형식-5")*0.546+(E$2:K$2="형식-7")*1.463+(E$2:K$2="형식-8")*1.838)) -> 0 | P10: =SUMPRODUCT((E$3:K$3="토사")*(E10:K10)*((E$2:K$2="형식-5")*0.942+(E$2:K$2="형식-7")*0.943+(E$2:K$2="형식-8")*1.163)) -> 77.8047 | Q10: =SUMPRODUCT((E$3:K$3="리핑")*(E10:K10)*((E$2:K$2="형식-5")*0.942+(E$2:K$2="형식-7")*0.943+(E$2:K$2="형식-8")*1.163)) -> 0 | R10: =ROUND( 1.03* SUMPRODUCT( (E$2:K$2="형식-5")* ((E$3:K$3="토사")+(E$3:K$3="리핑")+(E$3:K$3="발파"))* (E10:K10) ) *0.00166,3) -> 0 | S10: =ROUND( 0.03* SUMPRODUCT( (E$2:K$2="형식-5")* ((E$3:K$3="토사")+(E$3:K$3="리핑")+(E$3:K$3="발파"))* (E10:K10) ) *0.00166,3) -> 0 | T10: 73.59 | U10: 0.676 | V10: 1.806 | W10: 14.718
A11: =A10+1 -> 8 | B11: 27 | C11: 98.3 | D11: 좌 | I11: 82.8 | L11: 부체#04 | M11: =SUMPRODUCT((E$3:K$3="토사")*(E11:K11)*((E$2:K$2="형식-5")*1.488+(E$2:K$2="형식-7")*1.463+(E$2:K$2="형식-8")*1.838)) -> 121.1364 | N11: =SUMPRODUCT((E$3:K$3="리핑")*(E11:K11)*((E$2:K$2="형식-5")*1.488+(E$2:K$2="형식-7")*1.463+(E$2:K$2="형식-8")*1.838)) -> 0 | O11: =SUMPRODUCT((E$3:K$3="발파")*(E11:K11)*((E$2:K$2="형식-5")*0.546+(E$2:K$2="형식-7")*1.463+(E$2:K$2="형식-8")*1.838)) -> 0 | P11: =SUMPRODUCT((E$3:K$3="토사")*(E11:K11)*((E$2:K$2="형식-5")*0.942+(E$2:K$2="형식-7")*0.943+(E$2:K$2="형식-8")*1.163)) -> 78.0804 | Q11: =SUMPRODUCT((E$3:K$3="리핑")*(E11:K11)*((E$2:K$2="형식-5")*0.942+(E$2:K$2="형식-7")*0.943+(E$2:K$2="형식-8")*1.163)) -> 0 | R11: =ROUND( 1.03* SUMPRODUCT( (E$2:K$2="형식-5")* ((E$3:K$3="토사")+(E$3:K$3="리핑")+(E$3:K$3="발파"))* (E11:K11) ) *0.00166,3) -> 0 | S11: =ROUND( 0.03* SUMPRODUCT( (E$2:K$2="형식-5")* ((E$3:K$3="토사")+(E$3:K$3="리핑")+(E$3:K$3="발파"))* (E11:K11) ) *0.00166,3) -> 0 | T11: 82.8 | U11: 0.795 | V11: 1.904 | W11: 16.56
A12: =A11+1 -> 9 | B12: 1e-16 | C12: 3.74 | D12: 우 | E12: 18.3 | L12: 부체#13 | M12: =SUMPRODUCT((E$3:K$3="토사")*(E12:K12)*((E$2:K$2="형식-5")*1.488+(E$2:K$2="형식-7")*1.463+(E$2:K$2="형식-8")*1.838)) -> 27.2304 | N12: =SUMPRODUCT((E$3:K$3="리핑")*(E12:K12)*((E$2:K$2="형식-5")*1.488+(E$2:K$2="형식-7")*1.463+(E$2:K$2="형식-8")*1.838)) -> 0 | O12: =SUMPRODUCT((E$3:K$3="발파")*(E12:K12)*((E$2:K$2="형식-5")*0.546+(E$2:K$2="형식-7")*1.463+(E$2:K$2="형식-8")*1.838)) -> 0 | P12: =SUMPRODUCT((E$3:K$3="토사")*(E12:K12)*((E$2:K$2="형식-5")*0.942+(E$2:K$2="형식-7")*0.943+(E$2:K$2="형식-8")*1.163)) -> 17.2386 | Q12: =SUMPRODUCT((E$3:K$3="리핑")*(E12:K12)*((E$2:K$2="형식-5")*0.942+(E$2:K$2="형식-7")*0.943+(E$2:K$2="형식-8")*1.163)) -> 0 | R12: =ROUND( 1.03* SUMPRODUCT( (E$2:K$2="형식-5")* ((E$3:K$3="토사")+(E$3:K$3="리핑")+(E$3:K$3="발파"))* (E12:K12) ) *0.00166,3) -> 0.031 | S12: =ROUND( 0.03* SUMPRODUCT( (E$2:K$2="형식-5")* ((E$3:K$3="토사")+(E$3:K$3="리핑")+(E$3:K$3="발파"))* (E12:K12) ) *0.00166,3) -> 0.001
A20: 계 | E20: =SUM(E4:E19) -> 358 | F20: =SUM(F4:F19) -> 30 | G20: =SUM(G4:G19) -> 88.8 | H20: =SUM(H4:H19) -> 135 | I20: =SUM(I4:I19) -> 82.8 | J20: =SUM(J4:J19) -> 66.9 | K20: =SUM(K4:K19) -> 70.1 | M20: =SUM(M4:M19) -> 776.8026 | N20: =SUM(N4:N19) -> 44.64 | O20: =SUM(O4:O19) -> 48.4848 | P20: =SUM(P4:P19) -> 493.1211 | Q20: =SUM(Q4:Q19) -> 28.26 | R20: =SUM(R4:R19) -> 0.816 | S20: =SUM(S4:S19) -> 0.024 | T20: =SUM(T4:T19) -> 156.39 | ... W20: =SUM(W4:W19) -> 31.278

Sheet U형측구수량집계
W1: (단위수량/수량)
A2: 종 류 | B2: 구분 | C2: 연 장 | E2: 무근 콘크리트 소형구조물 | H2: 철근콘크리트 소형구조물 | I2: 거푸집(유로폼) | L2: 철 근 | O2: 터파기 | P2: 되메우기 | Q2: 되메우기 부족토 | R2: 유용토 | U2: 스틸그레이팅 | V2: P.V.C관 | W2: 비닐깔기 | X2: 신축이음 | Y2: 수축줄눈 | Z2: 공제수량 | AB2: 비 고
E3: 25-24-8 | F3: 25-21-15 | G3: 40-15-8 | H3: 25-21-8 | I3: 수직면 | J3: 경사면 | K3: 강재 | L3: D 10 | M3: D 13 | N3: D 16 | R3: 토사 | S3: 리핑 | T3: 발파 | U3: 995X430 | V3: Φ30m/m | W3: T=0.08mm | X3: 스치로폴t=10mm | Y3: 6×50mm | Z3: 되메우기 | AA3: 뒷채움(깬잡석)
E4: M3 | F4: M3 | G4: M3 | H4: M3 | I4: M2 | J4: M2 | K4: M2 | L4: TON | M4: TON | N4: TON | O4: M3 | P4: M3 | Q4: M3 | R4: M3 | S4: M3 | T4: M3 | U4: NR | V4: m | W4: M2 | X4: M2 | Y4: m | Z4: M3 | AA4: M3 | AD4: 연장집계용
A5: b-1 형식-1-1 (H=0.3) | B5: 토사 | E5: 0.175 | I5: 1.5 | U5: 1 | W5: 0.6 | X5: =E5/12 -> 0.014583333 | Y5: 0.2 | AD5: U
E6: =ROUNDDOWN($C$5*E5,2) -> 0 | I6: =ROUNDDOWN($C$5*I5,2) -> 0 | U6: =ROUNDDOWN($C$5*U5,2) -> 0 | W6: =ROUNDDOWN($C$5*W5,2) -> 0 | X6: =ROUNDDOWN($C$5*X5,2) -> 0 | Y6: =ROUNDDOWN($C$5*Y5,2) -> 0
A7: b-1 형식-1-1 (H=0.3) | B7: 리핑 | E7: =E5 -> 0.175 | I7: =I5 -> 1.5 | U7: =U5 -> 1 | W7: =W5 -> 0.6 | X7: 0.011 | Y7: 0.15
E8: =ROUNDDOWN($C$7*E7,2) -> 0 | I8: =ROUNDDOWN($C$7*I7,2) -> 0 | U8: =ROUNDDOWN($C$7*U7,2) -> 0 | W8: =ROUNDDOWN($C$7*W7,2) -> 0 | X8: =ROUNDDOWN($C$7*X7,2) -> 0 | Y8: =ROUNDDOWN($C$7*Y7,2) -> 0
A9: c-1 형식-1-1 (H=0.3) | B9: 발파 | E9: =E7 -> 0.175 | I9: =I7 -> 1.5 | U9: =U5 -> 1 | W9: =W7 -> 0.6 | X9: 0.011 | Y9: 0.15
E10: =ROUNDDOWN($C$9*E9,2) -> 0 | I10: =ROUNDDOWN($C$9*I9,2) -> 0 | U10: =ROUNDDOWN($C$9*U9,2) -> 0 | W10: =ROUNDDOWN($C$9*W9,2) -> 0 | X10: =ROUNDDOWN($C$9*X9,2) -> 0 | Y10: =ROUNDDOWN($C$9*Y9,2) -> 0
A11: 소 계 | E11: =E6+E8+E10 -> 0 | F11: =F6+F8+F10 -> 0 | G11: =G6+G8+G10 -> 0 | H11: =H6+H8+H10 -> 0 | I11: =I6+I8+I10 -> 0 | J11: =J6+J8+J10 -> 0 | K11: =K6+K8+K10 -> 0 | L11: =L6+L8+L10 -> 0 | ... AA11: =AA6+AA8+AA10 -> 0
A12: b-2 형식-2 (H=0.6) | B12: 토사 | D12: 구체 | H12: 0.627 | I12: 3.98 | M12: 0.01472 | O12: 2.014 | R12: =O12 -> 2.014 | V12: 0.5 | W12: 1.08 | X12: 0.052 | Y12: 0.38 | AD12: U
H13: =ROUNDDOWN($C$12*H12,2) -> 0 | I13: =ROUNDDOWN($C$12*I12,2) -> 0 | M13: =ROUNDDOWN($C$12*M12,3) -> 0 | O13: =ROUNDDOWN($C$12*O12,2) -> 0 | R13: =ROUNDDOWN($C$12*R12,2) -> 0 | V13: =ROUNDDOWN($C$12*V12,2) -> 0 | W13: =ROUNDDOWN($C$12*W12,2) -> 0 | X13: =ROUNDDOWN($C$12*X12,2) -> 0 | Y13: =ROUNDDOWN($C$12*Y12,2) -> 0
D14: 뚜껑 | H14: =0.144*2 -> 0.288 | K14: =0.948*2 -> 1.896 | M14: =0.0032*2 -> 0.0064 | N14: =0.00615*2 -> 0.0123
H15: =ROUNDDOWN($C$12*H14,2) -> 0 | K15: =ROUNDDOWN($C$12*K14,2) -> 0 | M15: =ROUNDDOWN($C$12*M14,3) -> 0 | N15: =ROUNDDOWN($C$12*N14,3) -> 0
A16: b-2 형식-2 (H=0.6) | B16: 리핑 | D16: 구체 | H16: 0.627 | I16: 3.98 | M16: 0.01472 | O16: 2.014 | S16: =O16 -> 2.014 | V16: 0.5 | W16: 1.08 | X16: 0.052 | Y16: 0.38
H17: =ROUNDDOWN($C$16*H16,2) -> 0 | I17: =ROUNDDOWN($C$16*I16,2) -> 0 | M17: =ROUNDDOWN($C$16*M16,3) -> 0 | O17: =ROUNDDOWN($C$16*O16,2) -> 0 | S17: =ROUNDDOWN($C$16*S16,2) -> 0 | V17: =ROUNDDOWN($C$16*V16,2) -> 0 | W17: =ROUNDDOWN($C$16*W16,2) -> 0 | X17: =ROUNDDOWN($C$16*X16,2) -> 0 | Y17: =ROUNDDOWN($C$16*Y16,2) -> 0
D18: 뚜껑 | H18: =0.144*2 -> 0.288 | K18: =0.948*2 -> 1.896 | M18: =0.0032*2 -> 0.0064 | N18: =0.00615*2 -> 0.0123
H19: =ROUNDDOWN($C$16*H18,2) -> 0 | K19: =ROUNDDOWN($C$16*K18,2) -> 0 | M19: =ROUNDDOWN($C$16*M18,3) -> 0 | N19: =ROUNDDOWN($C$16*N18,3) -> 0
A20: b-2 형식-2 (H=0.6) | B20: 발파 | D20: 구체 | H20: 0.627 | I20: 3.98 | M20: 0.01472 | O20: 2.014 | T20: =O20 -> 2.014 | V20: 0.5 | W20: 1.08 | X20: 0.052 | Y20: 0.38
H21: =ROUNDDOWN($C$20*H20,2) -> 0 | I21: =ROUNDDOWN($C$20*I20,2) -> 0 | M21: =ROUNDDOWN($C$20*M20,3) -> 0 | O21: =ROUNDDOWN($C$20*O20,2) -> 0 | T21: =ROUNDDOWN($C$20*T20,2) -> 0 | V21: =ROUNDDOWN($C$20*V20,2) -> 0 | W21: =ROUNDDOWN($C$20*W20,2) -> 0 | X21: =ROUNDDOWN($C$20*X20,2) -> 0 | Y21: =ROUNDDOWN($C$20*Y20,2) -> 0
D22: 뚜껑 | H22: 0.288 | K22: 1.896 | M22: =0.0032*2 -> 0.0064 | N22: =0.00615*2 -> 0.0123
H23: =ROUNDDOWN($C$20*H22,2) -> 0 | K23: =ROUNDDOWN($C$20*K22,2) -> 0 | M23: =ROUNDDOWN($C$20*M22,3) -> 0 | N23: =ROUNDDOWN($C$20*N22,3) -> 0
A24: 소 계 | E24: =E13+E15+E17+E19+E21+E23 -> 0 | F24: =F13+F15+F17+F19+F21+F23 -> 0 | G24: =G13+G15+G17+G19+G21+G23 -> 0 | H24: =H13+H15+H17+H19+H21+H23 -> 0 | I24: =I13+I15+I17+I19+I21+I23 -> 0 | J24: =J13+J15+J17+J19+J21+J23 -> 0 | K24: =K13+K15+K17+K19+K21+K23 -> 0 | L24: =L13+L15+L17+L19+L21+L23 -> 0 | ... AA24: =AA13+AA15+AA17+AA19+AA21+AA23 -> 0
A25: b-3 형식-3 (H=0.8) | B25: 토사 | D25: 구체 | H25: 0.723 | I25: 4.78 | M25: 0.01604 | O25: 2.484 | R25: =O25 -> 2.484 | V25: 0.5 | W25: 1.08 | X25: 0.06 | Y25: 0.447 | AD25: U
H26: =ROUNDDOWN($C$25*H25,2) -> 0 | I26: =ROUNDDOWN($C$25*I25,2) -> 0 | M26: =ROUNDDOWN($C$25*M25,3) -> 0 | O26: =ROUNDDOWN($C$25*O25,2) -> 0 | R26: =ROUNDDOWN($C$25*R25,2) -> 0 | V26: =ROUNDDOWN($C$25*V25,2) -> 0 | W26: =ROUNDDOWN($C$25*W25,2) -> 0 | X26: =ROUNDDOWN($C$25*X25,2) -> 0 | Y26: =ROUNDDOWN($C$25*Y25,2) -> 0
D27: 뚜껑 | H27: =0.144*2 -> 0.288 | K27: =0.948*2 -> 1.896 | M27: =0.0032*2 -> 0.0064 | N27: =0.00615*2 -> 0.0123
H28: =ROUNDDOWN($C$25*H27,2) -> 0 | K28: =ROUNDDOWN($C$25*K27,2) -> 0 | M28: =ROUNDDOWN($C$25*M27,3) -> 0 | N28: =ROUNDDOWN($C$25*N27,3) -> 0
A29: b-3 형식-3 (H=0.8) | B29: 리핑 | D29: 구체 | H29: 0.723 | I29: 4.78 | M29: 0.01604 | O29: 2.484 | S29: =O29 -> 2.484 | V29: 0.5 | W29: 1.08 | X29: 0.06 | Y29: 0.447
H30: =ROUNDDOWN($C$29*H29,2) -> 0 | I30: =ROUNDDOWN($C$29*I29,2) -> 0 | M30: =ROUNDDOWN($C$29*M29,3) -> 0 | O30: =ROUNDDOWN($C$29*O29,2) -> 0 | S30: =ROUNDDOWN($C$23*S29,2) -> 0 | V30: =ROUNDDOWN($C$29*V29,2) -> 0 | W30: =ROUNDDOWN($C$29*W29,2) -> 0 | X30: =ROUNDDOWN($C$29*X29,2) -> 0 | Y30: =ROUNDDOWN($C$29*Y29,2) -> 0
D31: 뚜껑 | H31: =0.144*2 -> 0.288 | K31: =0.948*2 -> 1.896 | M31: =0.0032*2 -> 0.0064 | N31: =0.00615*2 -> 0.0123
H32: =ROUNDDOWN($C$29*H31,2) -> 0 | K32: =ROUNDDOWN($C$29*K31,2) -> 0 | M32: =ROUNDDOWN($C$29*M31,3) -> 0 | N32: =ROUNDDOWN($C$29*N31,3) -> 0
A33: b-3 형식-3 (H=0.8) | B33: 발파 | D33: 구체 | H33: 0.723 | I33: 4.78 | M33: 0.01604 | O33: 2.484 | T33: =O33 -> 2.484 | V33: 0.5 | W33: 1.08 | X33: 0.06 | Y33: 0.447
H34: =ROUNDDOWN($C$33*H33,2) -> 0 | I34: =ROUNDDOWN($C$33*I33,2) -> 0 | M34: =ROUNDDOWN($C$33*M33,3) -> 0 | O34: =ROUNDDOWN($C$33*O33,2) -> 0 | T34: =ROUNDDOWN($C$26*T33,2) -> 0 | V34: =ROUNDDOWN($C$33*V33,2) -> 0 | W34: =ROUNDDOWN($C$33*W33,2) -> 0 | X34: =ROUNDDOWN($C$33*X33,2) -> 0 | Y34: =ROUNDDOWN($C$33*Y33,2) -> 0
D35: 뚜껑 | H35: =0.144*2 -> 0.288 | K35: =0.948*2 -> 1.896 | M35: =0.0032*2 -> 0.0064 | N35: =0.00615*2 -> 0.0123
H36: =ROUNDDOWN($C$33*H35,2) -> 0 | K36: =ROUNDDOWN($C$33*K35,2) -> 0 | M36: =ROUNDDOWN($C$33*M35,3) -> 0 | N36: =ROUNDDOWN($C$33*N35,3) -> 0
A37: 소 계 | E37: =E26+E28+E30+E32+E34+E36 -> 0 | F37: =F26+F28+F30+F32+F34+F36 -> 0 | G37: =G26+G28+G30+G32+G34+G36 -> 0 | H37: =H26+H28+H30+H32+H34+H36 -> 0 | I37: =I26+I28+I30+I32+I34+I36 -> 0 | J37: =J26+J28+J30+J32+J34+J36 -> 0 | K37: =K26+K28+K30+K32+K34+K36 -> 0 | L37: =L26+L28+L30+L32+L34+L36 -> 0 | ... AA37: =AA26+AA28+AA30+AA32+AA34+AA36 -> 0
A38: b-4 형식-4 (H=1.0) | B38: 토사 | D38: 구체 | H38: 0.819 | I38: 5.58 | M38: 0.01737 | O38: 2.978 | R38: 2.978 | V38: 0.5 | W38: 1.08 | X38: 0.068 | Y38: 0.513 | AD38: U
H39: =ROUNDDOWN($C$38*H38,2) -> 0 | I39: =ROUNDDOWN($C$38*I38,2) -> 0 | M39: =ROUNDDOWN($C$38*M38,3) -> 0 | O39: =ROUNDDOWN($C$38*O38,2) -> 0 | R39: =ROUNDDOWN($C$38*R38,2) -> 0 | V39: =ROUNDDOWN($C$38*V38,2) -> 0 | W39: =$C$38*W38 -> 0 | X39: =$C$38*X38 -> 0 | Y39: =$C$38*Y38 -> 0
D40: 뚜껑 | H40: =0.144*2 -> 0.288 | K40: =0.948*2 -> 1.896 | M40: =0.0032*2 -> 0.0064 | N40: =0.00615*2 -> 0.0123
H41: =ROUNDDOWN($C$38*H40,2) -> 0 | K41: =ROUNDDOWN($C$38*K40,2) -> 0 | M41: =ROUNDDOWN($C$38*M40,3) -> 0 | N41: =ROUNDDOWN($C$38*N40,3) -> 0
A42: b-4 형식-4 (H=1.0) | B42: 리핑 | D42: 구체 | H42: 0.819 | I42: 5.58 | M42: 0.01737 | O42: 2.978 | S42: =O42 -> 2.978 | V42: 0.5 | W42: 1.08 | X42: 0.068 | Y42: 0.513
H43: =ROUNDDOWN($C$42*H42,2) -> 0 | I43: =ROUNDDOWN($C$42*I42,2) -> 0 | M43: =ROUNDDOWN($C$42*M42,3) -> 0 | O43: =ROUNDDOWN($C$42*O42,2) -> 0 | S43: =ROUNDDOWN($C$23*S42,2) -> 0 | V43: =ROUNDDOWN($C$42*V42,2) -> 0 | W43: =ROUNDDOWN($C$42*W42,2) -> 0 | X43: =ROUNDDOWN($C$42*X42,2) -> 0 | Y43: =ROUNDDOWN($C$42*Y42,2) -> 0
D44: 뚜껑 | H44: =0.144*2 -> 0.288 | K44: =0.948*2 -> 1.896 | M44: =0.0032*2 -> 0.0064 | N44: =0.00615*2 -> 0.0123
H45: =ROUNDDOWN($C$42*H44,2) -> 0 | K45: =ROUNDDOWN($C$42*K44,2) -> 0 | M45: =ROUNDDOWN($C$42*M44,3) -> 0 | N45: =ROUNDDOWN($C$42*N44,3) -> 0
A46: b-4 형식-4 (H=1.0) | B46: 발파 | D46: 구체 | H46: 0.819 | I46: 5.58 | M46: 0.01737 | O46: 2.978 | T46: =O46 -> 2.978 | V46: 0.5 | W46: 1.08 | X46: 0.068 | Y46: 0.513
H47: =ROUNDDOWN($C$46*H46,2) -> 0 | I47: =ROUNDDOWN($C$46*I46,2) -> 0 | M47: =ROUNDDOWN($C$46*M46,3) -> 0 | O47: =ROUNDDOWN($C$46*O46,2) -> 0 | T47: =ROUNDDOWN($C$26*T46,2) -> 0 | V47: =ROUNDDOWN($C$46*V46,2) -> 0 | W47: =ROUNDDOWN($C$46*W46,2) -> 0 | X47: =ROUNDDOWN($C$46*X46,2) -> 0 | Y47: =ROUNDDOWN($C$46*Y46,2) -> 0
D48: 뚜껑 | H48: =0.144*2 -> 0.288 | K48: =0.948*2 -> 1.896 | M48: =0.0032*2 -> 0.0064 | N48: =0.00615*2 -> 0.0123
H49: =ROUNDDOWN($C$46*H48,2) -> 0 | K49: =ROUNDDOWN($C$46*K48,2) -> 0 | M49: =ROUNDDOWN($C$46*M48,2) -> 0 | N49: =ROUNDDOWN($C$46*N48,2) -> 0
A50: 소 계 | E50: =E39+E41+E43+E45+E47+E49 -> 0 | F50: =F39+F41+F43+F45+F47+F49 -> 0 | G50: =G39+G41+G43+G45+G47+G49 -> 0 | H50: =H39+H41+H43+H45+H47+H49 -> 0 | I50: =I39+I41+I43+I45+I47+I49 -> 0 | J50: =J39+J41+J43+J45+J47+J49 -> 0 | K50: =K39+K41+K43+K45+K47+K49 -> 0 | L50: =L39+L41+L43+L45+L47+L49 -> 0 | ... AA50: =AA39+AA41+AA43+AA45+AA47+AA49 -> 0
A51: b-5 형식-5 (H=0.5) | B51: 토사 | C51: =U형측구현황!N24 -> 358 | E51: 0.321 | I51: 1.3 | J51: 1.044 | M51: 0.00166 | O51: 1.488 | P51: 0.942 | R51: =O51-P51 -> 0.546 | W51: 0.9 | X51: 0.034 | Y51: 0.274 | AD51: U
E52: =ROUNDDOWN($C$51*E51,2) -> 114.91 | F52: =ROUNDDOWN($C$51*F51,2) -> 0 | I52: =ROUNDDOWN($C$51*I51,2) -> 465.4 | J52: =ROUNDDOWN($C$51*J51,2) -> 373.75 | M52: =ROUNDDOWN($C$51*M51,3) -> 0.594 | O52: =ROUNDDOWN($C$51*O51,2) -> 532.7 | P52: =ROUNDDOWN($C$51*P51,2) -> 337.23 | R52: =ROUNDDOWN($C$51*R51,2) -> 195.46 | W52: =ROUNDDOWN($C$51*W51,2) -> 322.2 | X52: =ROUNDDOWN($C$51*X51,2) -> 12.17 | Y52: =ROUNDDOWN($C$51*Y51,2) -> 98.09
B53: 리핑 | C53: =U형측구현황!O24 -> 30 | E53: 0.321 | I53: 1.3 | J53: 1.044 | M53: 0.00166 | O53: 1.488 | P53: 0.942 | Q53: =P53 -> 0.942 | S53: =O53-P53 -> 0.546 | W53: 0.9 | X53: 0.034 | Y53: 0.274 | AD53: U
E54: =ROUNDDOWN($C$53*E53,2) -> 9.63 | F54: =ROUNDDOWN($C$51*F53,2) -> 0 | I54: =ROUNDDOWN($C$53*I53,2) -> 39 | J54: =ROUNDDOWN($C$53*J53,2) -> 31.32 | M54: =ROUNDDOWN($C$53*M53,3) -> 0.049 | O54: =ROUNDDOWN($C$53*O53,2) -> 44.64 | P54: =ROUNDDOWN($C$53*P53,2) -> 28.26 | Q54: =ROUNDDOWN($C$53*Q53,2) -> 28.26 | R54: =ROUNDDOWN($C$53*R53,2) -> 0 | S54: =ROUNDDOWN($C$53*S53,2) -> 16.38 | T54: =ROUNDDOWN($C$53*T53,2) -> 0 | W54: =ROUNDDOWN($C$53*W53,2) -> 27 | X54: =ROUNDDOWN($C$53*X53,2) -> 1.02 | Y54: =ROUNDDOWN($C$53*Y53,2) -> 8.22
B55: 발파 | C55: =U형측구현황!P24 -> 88.8 | E55: =E51 -> 0.321 | F55: =F53 -> 0 | I55: =I51 -> 1.3 | J55: =J51 -> 1.044 | M55: =M51 -> 0.00166 | O55: =0.84*0.65 -> 0.546 | T55: =O55 -> 0.546 | W55: =W51 -> 0.9 | X55: =X51 -> 0.034 | Y55: =Y51 -> 0.274 | AD55: U
E56: =ROUNDDOWN($C$55*E55,2) -> 28.5 | F56: =ROUNDDOWN($C$55*F55,2) -> 0 | I56: =ROUNDDOWN($C$55*I55,2) -> 115.44 | J56: =ROUNDDOWN($C$55*J55,2) -> 92.7 | M56: =ROUNDDOWN($C$55*M55,3) -> 0.147 | O56: =ROUNDDOWN($C$55*O55,2) -> 48.48 | P56: =ROUNDDOWN($C$55*P55,2) -> 0 | Q56: =ROUNDDOWN($C$55*Q55,2) -> 0 | R56: =ROUNDDOWN($C$55*R55,2) -> 0 | T56: =ROUNDDOWN($C$55*T55,2) -> 48.48 | W56: =ROUNDDOWN($C$55*W55,2) -> 79.92 | X56: =ROUNDDOWN($C$55*X55,2) -> 3.01 | Y56: =ROUNDDOWN($C$55*Y55,2) -> 24.33
A57: 소 계 | E57: =E52+E54+E56 -> 153.04 | F57: =F52+F54+F56 -> 0 | G57: =G52+G54+G56 -> 0 | H57: =H52+H54+H56 -> 0 | I57: =I52+I54+I56 -> 619.84 | J57: =J52+J54+J56 -> 497.77 | K57: =K52+K54+K56 -> 0 | L57: =L52+L54+L56 -> 0 | ... Y57: =Y52+Y54+Y56 -> 130.64
A58: b-6 형식-6 (H=0.4) | B58: 토사 | C58: =U형측구현황!Q24 -> 135 | F58: ='U형측구 단위수량(형식6_옹벽상단)'!AI15 -> 0.225 | I58: ='U형측구 단위수량(형식6_옹벽상단)'!AI18 -> 1.9 | W58: ='U형측구 단위수량(형식6_옹벽상단)'!AI22 -> 0.7 | X58: ='U형측구 단위수량(형식6_옹벽상단)'!AI26 -> 0.018 | Y58: ='U형측구 단위수량(형식6_옹벽상단)'!AI30 -> 0.25 | AD58: U
E59: =ROUNDDOWN($C$58*E58,2) -> 0 | F59: =ROUNDDOWN($C$58*F58,2) -> 30.37 | G59: =ROUNDDOWN($C$58*G58,2) -> 0 | I59: =ROUNDDOWN($C$58*I58,2) -> 256.5 | J59: =ROUNDDOWN($C$58*J58,2) -> 0 | L59: =ROUNDDOWN($C$58*L58,2) -> 0 | O59: =ROUNDDOWN($C$58*O58,2) -> 0 | P59: =ROUNDDOWN($C$58*P58,2) -> 0 | R59: =ROUNDDOWN($C$58*R58,2) -> 0 | V59: =ROUNDDOWN($C$58*V58,2) -> 0 | W59: =ROUNDDOWN($C$58*W58,2) -> 94.5 | X59: =ROUNDDOWN($C$58*X58,2) -> 2.43 | Y59: =ROUNDDOWN($C$58*Y58,2) -> 33.75 | Z59: =ROUNDDOWN($C$58*Z58,2) -> 0 | AA59: =ROUNDDOWN($C$58*AA58,2) -> 0
A60: 소 계 | E60: =E59 -> 0 | F60: =F59 -> 30.37 | G60: =G59 -> 0 | H60: =H59 -> 0 | I60: =I59 -> 256.5 | J60: =J59 -> 0 | K60: =K59 -> 0 | L60: =L59 -> 0 | ... P60: =P59 -> 0 | R60: =R59 -> 0 | S60: =S59 -> 0 | T60: =T59 -> 0 | U60: =U59 -> 0 | V60: =V59 -> 0 | W60: =W59 -> 94.5 | X60: =X59 -> 2.43 | Y60: =Y59 -> 33.75 | ... AA60: =AA59 -> 0
A61: b-7 형식-7 (H=0.5) | B61: 토사 | C61: =U형측구현황!R24 -> 82.8 | F61: ='U형측구 단위수량(형식7_500x500)'!AI15 -> 0.27 | I61: ='U형측구 단위수량(형식7_500x500)'!AI18 -> 2.3 | O61: ='U형측구 단위수량(형식7_500x500)'!AI33 -> 1.463 | P61: ='U형측구 단위수량(형식7_500x500)'!AI36 -> 0.943 | R61: ='U형측구 단위수량(형식7_500x500)'!AI39 -> 0.52 | W61: ='U형측구 단위수량(형식7_500x500)'!AI22 -> 0.8 | X61: ='U형측구 단위수량(형식7_500x500)'!AI26 -> 0.022 | Y61: ='U형측구 단위수량(형식7_500x500)'!AI30 -> 0.3 | AB61: 용수용 | AD61: U
E62: =ROUNDDOWN($C$61*E61,2) -> 0 | F62: =ROUNDDOWN($C$61*F61,2) -> 22.35 | I62: =ROUNDDOWN($C$61*I61,2) -> 190.44 | J62: =ROUNDDOWN($C$61*J61,2) -> 0 | L62: =ROUNDDOWN($C$61*L61,2) -> 0 | O62: =ROUNDDOWN($C$61*O61,2) -> 121.13 | P62: =ROUNDDOWN($C$61*P61,2) -> 78.08 | R62: =ROUNDDOWN($C$61*R61,2) -> 43.05 | V62: =ROUNDDOWN($C$61*V61,2) -> 0 | W62: =ROUNDDOWN($C$61*W61,2) -> 66.24 | X62: =ROUNDDOWN($C$61*X61,2) -> 1.82 | Y62: =ROUNDDOWN($C$61*Y61,2) -> 24.84 | Z62: =ROUNDDOWN($C$61*Z61,2) -> 0 | AA62: =ROUNDDOWN($C$61*AA61,2) -> 0
A63: 소 계 | E63: =E62 -> 0 | F63: =F62 -> 22.35 | G63: =G62 -> 0 | H63: =H62 -> 0 | I63: =I62 -> 190.44 | J63: =J62 -> 0 | K63: =K62 -> 0 | L63: =L62 -> 0 | ... P63: =P62 -> 78.08 | R63: =R62 -> 43.05 | S63: =S62 -> 0 | T63: =T62 -> 0 | U63: =U62 -> 0 | V63: =V62 -> 0 | W63: =W62 -> 66.24 | X63: =X62 -> 1.82 | Y63: =Y62 -> 24.84 | ... AA63: =AA62 -> 0
A64: b-8 형식-8 (H=0.6) | B64: 토사 | C64: =U형측구현황!S24 -> 66.9 | F64: ='U형측구 단위수량(형식8_600x600)'!AI15 -> 0.315 | I64: ='U형측구 단위수량(형식8_600x600)'!AI18 -> 2.7 | O64: ='U형측구 단위수량(형식8_600x600)'!AI33 -> 1.838 | P64: ='U형측구 단위수량(형식8_600x600)'!AI36 -> 1.163 | R64: ='U형측구 단위수량(형식8_600x600)'!AI39 -> 0.675 | W64: ='U형측구 단위수량(형식8_600x600)'!AI22 -> 0.9 | X64: ='U형측구 단위수량(형식8_600x600)'!AI26 -> 0.026 | Y64: ='U형측구 단위수량(형식8_600x600)'!AI30 -> 0.35 | AB64: 용수용 | AD64: U
E65: =ROUNDDOWN($C$64*E64,2) -> 0 | F65: =ROUNDDOWN($C$64*F64,2) -> 21.07 | I65: =ROUNDDOWN($C$64*I64,2) -> 180.63 | J65: =ROUNDDOWN($C$64*J64,2) -> 0 | L65: =ROUNDDOWN($C$64*L64,2) -> 0 | O65: =ROUNDDOWN($C$64*O64,2) -> 122.96 | P65: =ROUNDDOWN($C$64*P64,2) -> 77.8 | R65: =ROUNDDOWN($C$64*R64,2) -> 45.15 | V65: =ROUNDDOWN($C$64*V64,2) -> 0 | W65: =ROUNDDOWN($C$64*W64,2) -> 60.21 | X65: =ROUNDDOWN($C$64*X64,2) -> 1.73 | Y65: =ROUNDDOWN($C$64*Y64,2) -> 23.41 | Z65: =ROUNDDOWN($C$64*Z64,2) -> 0 | AA65: =ROUNDDOWN($C$64*AA64,2) -> 0
A66: 소 계 | E66: =E65 -> 0 | F66: =F65 -> 21.07 | G66: =G65 -> 0 | H66: =H65 -> 0 | I66: =I65 -> 180.63 | J66: =J65 -> 0 | K66: =K65 -> 0 | L66: =L65 -> 0 | ... P66: =P65 -> 77.8 | R66: =R65 -> 45.15 | S66: =S65 -> 0 | T66: =T65 -> 0 | U66: =U65 -> 0 | V66: =V65 -> 0 | W66: =W65 -> 60.21 | X66: =X65 -> 1.73 | Y66: =Y65 -> 23.41 | ... AA66: =AA65 -> 0
A67: b-9 형식-9 (H=0.2) | B67: 토사 | C67: =U형측구현황!T24 -> 70.1 | F67: ='U형측구 단위수량(형식-9_보강토옹벽상단)'!AI15 -> 0.165 | I67: ='U형측구 단위수량(형식-9_보강토옹벽상단)'!AI18 -> 1.1 | W67: ='U형측구 단위수량(형식-9_보강토옹벽상단)'!AI22 -> 0.7 | X67: ='U형측구 단위수량(형식-9_보강토옹벽상단)'!AI26 -> 0.013 | Y67: ='U형측구 단위수량(형식-9_보강토옹벽상단)'!AI30 -> 0.183 | AB67: 보강토 옹벽 상단 | AD67: U
E68: =ROUNDDOWN($C$64*E67,2) -> 0 | F68: =ROUNDDOWN($C$64*F67,2) -> 11.03 | I68: =ROUNDDOWN($C$64*I67,2) -> 73.59 | J68: =ROUNDDOWN($C$64*J67,2) -> 0 | L68: =ROUNDDOWN($C$64*L67,2) -> 0 | O68: =ROUNDDOWN($C$64*O67,2) -> 0 | P68: =ROUNDDOWN($C$64*P67,2) -> 0 | R68: =ROUNDDOWN($C$64*R67,2) -> 0 | V68: =ROUNDDOWN($C$64*V67,2) -> 0 | W68: =ROUNDDOWN($C$64*W67,2) -> 46.83 | X68: =ROUNDDOWN($C$64*X67,2) -> 0.86 | Y68: =ROUNDDOWN($C$64*Y67,2) -> 12.24 | Z68: =ROUNDDOWN($C$64*Z67,2) -> 0 | AA68: =ROUNDDOWN($C$64*AA67,2) -> 0
A69: 소 계 | E69: =E68 -> 0 | F69: =F68 -> 11.03 | G69: =G68 -> 0 | H69: =H68 -> 0 | I69: =I68 -> 73.59 | J69: =J68 -> 0 | K69: =K68 -> 0 | L69: =L68 -> 0 | ... P69: =P68 -> 0 | R69: =R68 -> 0 | S69: =S68 -> 0 | T69: =T68 -> 0 | U69: =U68 -> 0 | V69: =V68 -> 0 | W69: =W68 -> 46.83 | X69: =X68 -> 0.86 | Y69: =Y68 -> 12.24 | ... AA69: =AA68 -> 0
A70: 계 | C70: =SUMIF($AD$5:$AD$69,"U",$C$5:$C$69) -> 831.6 | E70: =SUMIF($A$5:$A$69,"소 계",E$5:E$69) -> 153.04 | F70: =SUMIF($A$5:$A$69,"소 계",F$5:F$69) -> 84.82 | G70: =SUMIF($A$5:$A$69,"소 계",G$5:G$69) -> 0 | H70: =SUMIF($A$5:$A$69,"소 계",H$5:H$69) -> 0 | I70: =SUMIF($A$5:$A$69,"소 계",I$5:I$69) -> 1321 | J70: =SUMIF($A$5:$A$69,"소 계",J$5:J$69) -> 497.77 | K70: =SUMIF($A$5:$A$69,"소 계",K$5:K$69) -> 0 | L70: =SUMIF($A$5:$A$69,"소 계",L$5:L$69) -> 0 | ... AA70: =SUMIF($A$5:$A$69,"소 계",AA$5:AA$69) -> 0

Sheet U형측구현황
A1: 번호 | B1: 측 점 | D1: 방향 | E1: 연 장 (M) | W1: 비 고
E2: 형식-1 | H2: 형식1-1 | K2: 형식-2 | L2: 형식-3 | M2: 형식-4 | N2: 형식-5 | Q2: 형식-6 | R2: 형식-7 | S2: 형식-8 | T2: 형식-9 | U2: 형식-10 | V2: 형식-11
B3: 시 점 | C3: 종 점 | E3: 토사 | F3: 리핑 | G3: 발파 | H3: 토사 | I3: 리핑 | J3: 발파 | K3: 토사 | L3: 토사 | M3: 토사 | N3: 토사 | O3: 리핑 | P3: 발파 | Q3: 토사 | R3: 토사 | S3: 토사 | T3: 토사 | U3: 토사 | V3: 토사
A4: 1 | B4: 8090 | C4: 8225 | D4: 당진 | Q4: 135 | W4: 방음벽배면 | X4: 1
A5: =A4+1 -> 2 | B5: 10690 | C5: 10750 | D5: 당진 | T5: 70.1 | W5: 옹벽상단 | X5: 1
A6: =A5+1 -> 3 | B6: 12506.25 | C6: 12575.54 | D6: 당진 | N6: =82.8-O6-P6 -> 19 | O6: =12570-12550 -> 20 | P6: =ROUND(12550-B6,1) -> 43.8 | X6: 1
A7: =A6+1 -> 4 | B7: 8972.74 | C7: 8983.71 | D7: 대산 | N7: 45 | X7: 1
A8: =A7+1 -> 5 | B8: 9623 | C8: 9860 | D8: 대산 | N8: 240.1 | X8: 1
A9: =A8+1 -> 6 | B9: 12500 | C9: 12571 | D9: 대산 | N9: =90.6-O9-P9 -> 35.6 | O9: =12555-12545 -> 10 | P9: =ROUND(12545-B9,1) -> 45 | X9: 1
A10: =A9+1 -> 7 | B10: 125 | C10: 184.96 | D10: 좌 | S10: 66.9 | W10: 시도14호선 | X10: 3
A11: =A10+1 -> 8 | B11: 27 | C11: 98.3 | D11: 좌 | R11: 82.8 | W11: 부체도로#04 | X11: 7
A12: =A11+1 -> 9 | B12: 1e-16 | C12: 3.74 | D12: 우 | N12: 18.3 | W12: 부체도로#13 | X12: 7
A24: 계 | E24: =SUM(E4:E23) -> 0 | F24: =SUM(F4:F23) -> 0 | G24: =SUM(G4:G23) -> 0 | H24: =SUM(H4:H23) -> 0 | I24: =SUM(I4:I23) -> 0 | J24: =SUM(J4:J23) -> 0 | K24: =SUM(K4:K23) -> 0 | L24: =SUM(L4:L23) -> 0 | ... V24: =SUM(V4:V23) -> 0

Sheet U형측구 단위수량(1-5)

Sheet U형측구 단위수량(형식6_옹벽상단)
A1: 공 종 | D1: 산 출 근 거 | AH1: 비 고
B3: U 형 측 구 | E3: ▶ 형 식 - 6
B4: 단 위 수 량
B5: (옹벽상단)
B15: 1.무근콘크리트 | F15: ( | G15: 0.7 | J15: × | K15: 0.15 | N15: ) | O15: ＋ | P15: ( | Q15: 0.15 | T15: × | U15: 0.4 | X15: × | Y15: 2 | AB15: ) | AF15: = | AI15: =ROUND((G15*K15)+(Q15*U15*Y15),3) -> 0.225 | AJ15: ㎥
B16: 강도21,골재25
B18: 2.거 푸 집 | F18: 수직면: | J18: ( | K18: 0.55 | M18: × | N18: 2 | P18: ) | Q18: ＋ | R18: ( | S18: 0.4 | V18: × | W18: 2 | Z18: ) | AF18: = | AI18: =(K18*N18)+(S18*W18) -> 1.9 | AJ18: ㎡
B19: 유로폼
B22: 3.비닐깔기 | F22: 0.7 | I22: × | J22: 1 | AF22: = | AI22: =F22*J22 -> 0.7 | AJ22: ㎡
B26: 4.신축이음 | F26: =AI15 -> 0.225 | I26: × | J26: 0.083333333 | AF26: = | AI26: =ROUNDDOWN(F26*J26,3) -> 0.018 | AJ26: ㎡
B27: (스치로폴T=10mm)
B30: 5.수축줄눈 | E30: {( | F30: 0.15 | I30: ＋ | J30: 0.4 | M30: ) | N30: × | O30: 2 | R30: ＋ | S30: 0.4 | V30: } | W30: × | X30: 0.16666667 | AF30: = | AI30: =ROUND(((F30+J30)*O30+S30)*X30,3) -> 0.25 | AJ30: m
B31: (6mm×50mm)

Sheet U형측구 단위수량(형식7_500x500)
A1: 공 종 | D1: 산 출 근 거 | AH1: 비 고
B3: U 형 측 구 | E3: ▶ 형 식 - 7
B4: 단 위 수 량
B15: 1.무근콘크리트 | F15: ( | G15: 0.8 | J15: × | K15: 0.15 | N15: ) | O15: ＋ | P15: ( | Q15: 0.15 | T15: × | U15: 0.5 | X15: × | Y15: 2 | AB15: ) | AF15: = | AI15: =ROUND((G15*K15)+(Q15*U15*Y15),3) -> 0.27 | AJ15: ㎥
B16: 강도21,골재25
B18: 2.거 푸 집 | F18: 수직면: | J18: ( | K18: 0.65 | M18: × | N18: 2 | P18: ) | Q18: ＋ | R18: ( | S18: 0.5 | V18: × | W18: 2 | Z18: ) | AF18: = | AI18: =(K18*N18)+(S18*W18) -> 2.3 | AJ18: ㎡
B19: 유로폼
B22: 3.비닐깔기 | F22: 0.8 | I22: × | J22: 1 | AF22: = | AI22: =F22*J22 -> 0.8 | AJ22: ㎡
B26: 4.신축이음 | F26: =AI15 -> 0.27 | I26: × | J26: 0.083333333 | AF26: = | AI26: =ROUNDDOWN(F26*J26,3) -> 0.022 | AJ26: ㎡
B27: (스치로폴T=10mm)
B30: 5.수축줄눈 | E30: {( | F30: 0.15 | I30: ＋ | J30: 0.5 | M30: ) | N30: × | O30: 2 | R30: ＋ | S30: 0.5 | V30: } | W30: × | X30: 0.16666667 | AF30: = | AI30: =ROUND(((F30+J30)*O30+S30)*X30,3) -> 0.3 | AJ30: m
B31: (6mm×50mm)
B33: 6.터파기 | F33: ( | G33: =0.8+0.4*2 -> 1.6 | J33: + | K33: =G33+0.65*2 -> 2.9 | N33: ) | O33: × | P33: 0.5 | R33: × | S33: 0.65 | AF33: = | AI33: =ROUND((G33+K33)*P33*S33,3) -> 1.463 | AJ33: ㎥
B34: 토사
B36: 7.되메우기 | F36: =AI33 -> 1.463 | I36: - | J36: ( | K36: 0.8 | N36: × | O36: 0.65 | R36: ) | AF36: = | AI36: =ROUND(F36-(K36*O36),3) -> 0.943 | AJ36: ㎥
B37: 토사
B39: 8.유용토 | F39: =AI33 -> 1.463 | I39: - | J39: =AI36 -> 0.943 | AF39: = | AI39: =ROUND(F39-J39,3) -> 0.52 | AJ39: ㎥
B40: 토사

Sheet U형측구 단위수량(형식8_600x600)
A1: 공 종 | D1: 산 출 근 거 | AH1: 비 고
B3: U 형 측 구 | E3: ▶ 형 식 - 8
B4: 단 위 수 량
B15: 1.무근콘크리트 | F15: ( | G15: 0.9 | J15: × | K15: 0.15 | N15: ) | O15: ＋ | P15: ( | Q15: 0.15 | T15: × | U15: 0.6 | X15: × | Y15: 2 | AB15: ) | AF15: = | AI15: =ROUND((G15*K15)+(Q15*U15*Y15),3) -> 0.315 | AJ15: ㎥
B16: 강도21,골재25
B18: 2.거 푸 집 | F18: 수직면: | J18: ( | K18: 0.75 | M18: × | N18: 2 | P18: ) | Q18: ＋ | R18: ( | S18: 0.6 | V18: × | W18: 2 | Z18: ) | AF18: = | AI18: =(K18*N18)+(S18*W18) -> 2.7 | AJ18: ㎡
B19: 유로폼
B22: 3.비닐깔기 | F22: 0.9 | I22: × | J22: 1 | AF22: = | AI22: =F22*J22 -> 0.9 | AJ22: ㎡
B26: 4.신축이음 | F26: =AI15 -> 0.315 | I26: × | J26: 0.083333333 | AF26: = | AI26: =ROUNDDOWN(F26*J26,3) -> 0.026 | AJ26: ㎡
B27: (스치로폴T=10mm)
B30: 5.수축줄눈 | E30: {( | F30: 0.15 | I30: ＋ | J30: 0.6 | M30: ) | N30: × | O30: 2 | R30: ＋ | S30: 0.6 | V30: } | W30: × | X30: 0.16666667 | AF30: = | AI30: =ROUND(((F30+J30)*O30+S30)*X30,3) -> 0.35 | AJ30: m
B31: (6mm×50mm)
B33: 6.터파기 | F33: ( | G33: =0.9+0.4*2 -> 1.7 | J33: + | K33: =G33+0.75*2 -> 3.2 | N33: ) | O33: × | P33: 0.5 | R33: × | S33: 0.75 | AF33: = | AI33: =ROUND((G33+K33)*P33*S33,3) -> 1.838 | AJ33: ㎥
B34: 토사
B36: 7.되메우기 | F36: =AI33 -> 1.838 | I36: - | J36: ( | K36: 0.9 | N36: × | O36: 0.75 | R36: ) | AF36: = | AI36: =ROUND(F36-(K36*O36),3) -> 1.163 | AJ36: ㎥
B37: 토사
B39: 8.유용토 | F39: =AI33 -> 1.838 | I39: - | J39: =AI36 -> 1.163 | AF39: = | AI39: =ROUND(F39-J39,3) -> 0.675 | AJ39: ㎥
B40: 토사

Sheet U형측구 단위수량 (형식6)
A1: U형측구 | V1: 형식6 | AD1: 0.5 | AF1: X | AG1: 0.5
AQ3: 철근콘크리트개거 제원표
N4: =F6+K6+N6+S6+W6 -> 2.3 | AP4: 개거 가로폭 : | AV4: =AD1 -> 0.5 | AY4: M
AP5: 개거 세로폭 : | AV5: =AG1 -> 0.5 | AY5: M
F6: =(AG11*0.5)+I17 -> 0.75 | K6: =AV6 -> 0.15 | N6: =AD1 -> 0.5 | S6: =AV6 -> 0.15 | W6: =(AG11*0.5)+U17 -> 0.75 | AP6: 벽체 상단폭 : | AV6: 0.15 | AY6: M
AP7: 벽체 하단폭 : | AV7: 0.15 | AY7: M
AP8: 기초 하단폭 : | AV8: 0.15 | AY8: M
AP9: 헌 치 : | AV9: 0 | AY9: M
AJ10: =AV5 -> 0.5 | AL10: =AJ13+AJ10 -> 0.65
Y11: 1:0.5 | AG11: =AJ10+AJ13+AJ16 -> 0.7
AJ13: =AV8 -> 0.15
AJ16: 0.05
I17: 0.4 | N17: =AD1 -> 0.5 | U17: 0.4
K18: =AV7 -> 0.15 | S18: =AV7 -> 0.15
N19: =I17+K18+N17+S18+U17 -> 1.6 | AA19: 헌치 : | AD19: =AV9*1000 -> 0 | AF19: x | AG19: =AD19 -> 0
A21: 공 종 | H21: 산 출 근 거 | AW21: 결 과
A23: 터 파 기 | H23: (육상)
A24: 토 사 (0~2m) | I24: ( | J24: =N19 -> 1.6 | M24: + | N24: =N4 -> 2.3 | Q24: ) | R24: X | S24: 1/2 | U24: X | V24: =AG11 -> 0.7 | Y24: X | Z24: 1 | AB24: M | AU24: = | AW24: =ROUNDDOWN((J24+N24)*0.5*V24*Z24,3) -> 1.365
A26: 유 용 토
C27: 토 사 | J27: =AW24+AW25 -> 1.365 | N27: - | O27: =AW29 -> 0.795 | AU27: = | AW27: =J27-O27 -> 0.57
A29: 되 메 우 기 | I29: {( | J29: =I17 -> 0.4 | M29: + | N29: =F6 -> 0.75 | Q29: ) | R29: X | S29: 1/2 | U29: X | V29: =AG11 -> 0.7 | Y29: X | Z29: 2 | AA29: EA | AC29: - | AD29: ( | AE29: =AJ16 -> 0.05 | AH29: X | AI29: 0.1 | AL29: ) | AM29: X | AN29: 2 | AO29: EA | AQ29: } | AR29: X | AS29: 1 | AU29: M | AV29: = | AW29: =((J29+N29)*0.5*V29*Z29-(AE29*AI29)*AN29)*AS29 -> 0.795
A31: 콘크리트타설 | H31: (철근)
A32: (강도=210,골재=25) | H32: 벽체및기둥 : | M32: {( | N32: =AV6 -> 0.15 | Q32: + | R32: =(AV6+AV9) -> 0.15 | U32: ) | V32: X | W32: 1/2 | Y32: X | Z32: =AV9 -> 0 | AC32: X | AD32: 2 | AE32: EA | AG32: + | AH32: ( | AI32: =AV6 -> 0.15 | AL32: X | AM32: =AV5-AV9 -> 0.5 | AP32: ) | AQ32: X | AR32: 2 | AS32: EA | AU32: = | AW32: =ROUNDDOWN(((N32+R32)/2*Z32*AD32)+(AI32*AM32*AR32),3) -> 0.15
H34: 기 초 : | M34: ( | N34: =K18+N17+S18 -> 0.8 | Q34: X | R34: =AJ13 -> 0.15 | U34: ) | V34: X | W34: 1 | Y34: M | AU34: = | AW34: =ROUNDDOWN((N34*R34)*W34,3) -> 0.12
AT35: 계 | AU35: ) | AW35: =AW34+AW32 -> 0.27
H36: (무근)
A37: (강도=150,골재=40) | H37: 빈 배 합 : | M37: ( | N37: =AV4+AV7*2+0.2 -> 1 | Q37: X | R37: =AJ16 -> 0.05 | U37: ) | V37: X | W37: 1 | Y37: M | AA37: (제외) | AU37: = | AW37: =ROUNDDOWN((N37*R37)*W37,3)*0 -> 0
A39: 철 근
C40: D13 | J40: 0.00166 | AU40: = | AW40: =J40 -> 0.00166
A42: 거 푸 집
C43: 보 통 마 감 | H43: 수 직 면 : | M43: {( | N43: =AJ10+AJ13 -> 0.65 | Q43: + | R43: =AV5-AV9 -> 0.5 | U43: ) | V43: X | W43: 2 | X43: EA | AU43: = | AW43: =(N43+R43)*W43 -> 2.3
H44: 경 사 면 : | M44: √( | N44: =AV9 -> 0 | Q44: 2 | R44: + | S44: =AV9 -> 0 | V44: 2 | W44: ) | X44: X | Y44: 2 | Z44: EA | AB44: X | AC44: 1 | AE44: M | AU44: = | AW44: =SQRT(N44^2+S44^2)*Y44*AC44 -> 0
A45: P. V. C 관 | I45: 1 | K45: X | L45: 1/9 | AU45: = | AW45: =I45*(1/9) -> 0.11111111
A47: 비 닐 깔 기 | I47: =K18+N17+S18+0.2 -> 1 | K47: X | L47: 1 | AU47: = | AW47: =L47*I47 -> 1
A49: 신 축 이 음 | I49: =AW35 -> 0.27 | L49: X | M49: 1/12 | AU49: = | AW49: =I49*(1/12) -> 0.0225
A51: 수 축 줄 눈 | I51: {( | J51: √( | L51: =AV9 -> 0 | O51: ² | P51: ＋ | Q51: =L51 -> 0 | T51: ²) | V51: + | W51: 0.15 | Z51: + | AA51: =AV5-AV9 -> 0.5 | AD51: ) | AE51: X | AF51: 2 | AH51: + | AI51: =AV4-AV9*2 -> 0.5 | AK51: } | AL51: X | AM51: 1/6 | AU51: = | AW51: =SQRT(((L51^2+Q51^2)+W51+AA51)*AF51+AI51)*(1/6) -> 0.2236068

Sheet U형측구 단위수량 (형식7)
A1: U형측구 | V1: 형식7 | AD1: 0.6 | AF1: X | AG1: 0.6
AQ3: 철근콘크리트개거 제원표
N4: =F6+K6+N6+S6+W6 -> 2.5 | AP4: 개거 가로폭 : | AV4: =AD1 -> 0.6 | AY4: M
AP5: 개거 세로폭 : | AV5: =AG1 -> 0.6 | AY5: M
F6: =(AG11*0.5)+I17 -> 0.8 | K6: =AV6 -> 0.15 | N6: =AD1 -> 0.6 | S6: =AV6 -> 0.15 | W6: =(AG11*0.5)+U17 -> 0.8 | AP6: 벽체 상단폭 : | AV6: 0.15 | AY6: M
AP7: 벽체 하단폭 : | AV7: 0.15 | AY7: M
AP8: 기초 하단폭 : | AV8: 0.15 | AY8: M
AP9: 헌 치 : | AV9: 0 | AY9: M
AJ10: =AV5 -> 0.6 | AL10: =AJ13+AJ10 -> 0.75
Y11: 1:0.5 | AG11: =AJ10+AJ13+AJ16 -> 0.8
AJ13: =AV8 -> 0.15
AJ16: 0.05
I17: 0.4 | N17: =AD1 -> 0.6 | U17: 0.4
K18: =AV7 -> 0.15 | S18: =AV7 -> 0.15
N19: =I17+K18+N17+S18+U17 -> 1.7 | AA19: 헌치 : | AD19: =AV9*1000 -> 0 | AF19: x | AG19: =AD19 -> 0
A21: 공 종 | H21: 산 출 근 거 | AW21: 결 과
A23: 터 파 기 | H23: (육상)
A24: 토 사 (0~2m) | I24: ( | J24: =N19 -> 1.7 | M24: + | N24: =N4 -> 2.5 | Q24: ) | R24: X | S24: 1/2 | U24: X | V24: =AG11 -> 0.8 | Y24: X | Z24: 1 | AB24: M | AU24: = | AW24: =ROUNDDOWN((J24+N24)*0.5*V24*Z24,3) -> 1.68
A26: 유 용 토
C27: 토 사 | J27: =AW24+AW25 -> 1.68 | N27: - | O27: =AW29 -> 0.95 | AU27: = | AW27: =J27-O27 -> 0.73
A29: 되 메 우 기 | I29: {( | J29: =I17 -> 0.4 | M29: + | N29: =F6 -> 0.8 | Q29: ) | R29: X | S29: 1/2 | U29: X | V29: =AG11 -> 0.8 | Y29: X | Z29: 2 | AA29: EA | AC29: - | AD29: ( | AE29: =AJ16 -> 0.05 | AH29: X | AI29: 0.1 | AL29: ) | AM29: X | AN29: 2 | AO29: EA | AQ29: } | AR29: X | AS29: 1 | AU29: M | AV29: = | AW29: =((J29+N29)*0.5*V29*Z29-(AE29*AI29)*AN29)*AS29 -> 0.95
A31: 콘크리트타설 | H31: (철근)
A32: (강도=210,골재=25) | H32: 벽체및기둥 : | M32: {( | N32: =AV6 -> 0.15 | Q32: + | R32: =(AV6+AV9) -> 0.15 | U32: ) | V32: X | W32: 1/2 | Y32: X | Z32: =AV9 -> 0 | AC32: X | AD32: 2 | AE32: EA | AG32: + | AH32: ( | AI32: =AV6 -> 0.15 | AL32: X | AM32: =AV5-AV9 -> 0.6 | AP32: ) | AQ32: X | AR32: 2 | AS32: EA | AU32: = | AW32: =ROUNDDOWN(((N32+R32)/2*Z32*AD32)+(AI32*AM32*AR32),3) -> 0.18
H34: 기 초 : | M34: ( | N34: =K18+N17+S18 -> 0.9 | Q34: X | R34: =AJ13 -> 0.15 | U34: ) | V34: X | W34: 1 | Y34: M | AU34: = | AW34: =ROUNDDOWN((N34*R34)*W34,3) -> 0.135
AT35: 계 | AU35: ) | AW35: =AW34+AW32 -> 0.315
H36: (무근)
A37: (강도=150,골재=40) | H37: 빈 배 합 : | M37: ( | N37: =AV4+AV7*2+0.2 -> 1.1 | Q37: X | R37: =AJ16 -> 0.05 | U37: ) | V37: X | W37: 1 | Y37: M | AA37: (제외) | AU37: = | AW37: =ROUNDDOWN((N37*R37)*W37,3)*0 -> 0
A39: 철 근
C40: D10 | J40: 0.00166 | AU40: = | AW40: 0.00166
A42: 거 푸 집
C43: 보 통 마 감 | H43: 수 직 면 : | M43: {( | N43: =AJ10+AJ13 -> 0.75 | Q43: + | R43: =AV5-AV9 -> 0.6 | U43: ) | V43: X | W43: 2 | X43: EA | AU43: = | AW43: =(N43+R43)*W43 -> 2.7
H44: 경 사 면 : | M44: √( | N44: =AV9 -> 0 | Q44: 2 | R44: + | S44: =AV9 -> 0 | V44: 2 | W44: ) | X44: X | Y44: 2 | Z44: EA | AB44: X | AC44: 1 | AE44: M | AU44: = | AW44: =SQRT(N44^2+S44^2)*Y44*AC44 -> 0
A45: P. V. C 관 | I45: 1 | K45: X | L45: 1/9 | AU45: = | AW45: =I45*(1/9) -> 0.11111111
A47: 비 닐 깔 기 | I47: =K18+N17+S18+0.2 -> 1.1 | K47: X | L47: 1 | AU47: = | AW47: =I47*L47 -> 1.1
A49: 신 축 이 음 | I49: =AW35 -> 0.315 | L49: X | M49: 1/12 | AU49: = | AW49: =I49*(1/12) -> 0.02625
A51: 수 축 줄 눈 | I51: {( | J51: √( | L51: =AV9 -> 0 | O51: ² | P51: ＋ | Q51: =L51 -> 0 | T51: ²) | V51: + | W51: 0.15 | Z51: + | AA51: =AV5-AV9 -> 0.6 | AD51: ) | AE51: X | AF51: 2 | AH51: + | AI51: =AV4-AV9*2 -> 0.6 | AK51: } | AL51: X | AM51: 1/6 | AU51: = | AW51: =SQRT(((L51^2+Q51^2)+W51+AA51)*AF51+AI51)*(1/6) -> 0.24152295

Sheet U형측구 단위수량(형식-8_400x400)
A1: 공 종 | D1: 산 출 근 거 | AH1: 비 고
B3: U 형 측 구 | E3: ▶ 형 식 - 8
B4: 단 위 수 량
B15: 1.무근콘크리트 | F15: ( | G15: 0.7 | J15: × | K15: 0.15 | N15: ) | O15: ＋ | P15: ( | Q15: 0.15 | T15: × | U15: 0.4 | X15: × | Y15: 2 | AB15: ) | AF15: = | AI15: =ROUND((G15*K15)+(Q15*U15*Y15),3) -> 0.225 | AJ15: ㎥
B16: 강도21,골재25
B18: 2.거 푸 집 | F18: 수직면: | J18: ( | K18: 0.55 | M18: × | N18: 2 | P18: ) | Q18: ＋ | R18: ( | S18: 0.4 | V18: × | W18: 2 | Z18: ) | AF18: = | AI18: =(K18*N18)+(S18*W18) -> 1.9 | AJ18: ㎡
B19: 유로폼
B22: 3.비닐깔기 | F22: 0.7 | I22: × | J22: 1 | AF22: = | AI22: =F22*J22 -> 0.7 | AJ22: ㎡
B26: 4.신축이음 | F26: =AI15 -> 0.225 | I26: × | J26: 0.083333333 | AF26: = | AI26: =ROUNDDOWN(F26*J26,3) -> 0.018 | AJ26: ㎡
B27: (스치로폴T=10mm)
B30: 5.수축줄눈 | E30: {( | F30: 0.15 | I30: ＋ | J30: 0.4 | M30: ) | N30: × | O30: 2 | R30: ＋ | S30: 0.4 | V30: } | W30: × | X30: 0.16666667 | AF30: = | AI30: =ROUND(((F30+J30)*O30+S30)*X30,3) -> 0.25 | AJ30: m
B31: (6mm×50mm)
B33: 6.터파기 | F33: ( | G33: 1.3 | J33: + | K33: =0.7+0.3*2+0.55*2 -> 2.4 | N33: ) | O33: × | P33: 0.5 | R33: × | S33: 0.55 | AF33: = | AI33: =ROUND((G33+K33)*P33*S33,3) -> 1.018 | AJ33: ㎥
B34: 토사
B36: 7.되메우기 | F36: =AI33 -> 1.018 | I36: - | J36: ( | K36: 0.7 | N36: × | O36: 0.55 | R36: ) | AF36: = | AI36: =ROUND(F36-(K36*O36),3) -> 0.633 | AJ36: ㎥
B37: 토사
B39: 8.유용토 | F39: =AI33 -> 1.018 | I39: - | J39: =AI36 -> 0.633 | AF39: = | AI39: =ROUND(F39-J39,3) -> 0.385 | AJ39: ㎥
B40: 토사

Sheet U형측구 단위수량(형식-12_옹벽상단)
A1: 공 종 | D1: 산 출 근 거 | AH1: 비 고
B3: U 형 측 구 | E3: ▶ 형 식 - 14(옹벽상단)
B4: 단 위 수 량
B15: 1.무근콘크리트 | F15: ( | G15: 0.3 | J15: × | K15: 0.15 | N15: ) | O15: ＋ | P15: ( | Q15: 0.12 | T15: × | U15: 0.6 | X15: × | Y15: 2 | AB15: ) | AF15: = | AI15: =ROUND((G15*K15)+(Q15*U15*Y15),3) -> 0.189 | AJ15: ㎥
B16: 강도21,골재25
B18: 2.거 푸 집 | F18: 수직면: | J18: ( | K18: 0.6 | M18: × | N18: 2 | P18: ) | Q18: ＋ | R18: ( | S18: 0.3 | V18: × | W18: 2 | Z18: ) | AF18: = | AI18: =(K18*N18)+(S18*W18) -> 1.8 | AJ18: ㎡
B19: 유로폼
B22: 3.비닐깔기 | F22: 0.54 | I22: × | J22: 1 | AF22: = | AI22: =F22*J22 -> 0.54 | AJ22: ㎡
B26: 4.신축이음 | F26: =AI15 -> 0.189 | I26: × | J26: 0.083333333 | AF26: = | AI26: =ROUNDDOWN(F26*J26,3) -> 0.015 | AJ26: ㎡
B27: (스치로폴T=10mm)
B30: 5.수축줄눈 | E30: {( | F30: 0.12 | I30: ＋ | J30: 0.45 | M30: ) | N30: × | O30: 2 | R30: ＋ | S30: 0.3 | V30: } | W30: × | X30: 0.16666667 | AF30: = | AI30: =ROUND(((F30+J30)*O30+S30)*X30,3) -> 0.24 | AJ30: m
B31: (6mm×50mm)

Sheet U형측구 단위수량(형식-8_옹벽상단)
A1: 공 종 | D1: 산 출 근 거 | AH1: 비 고
B3: U 형 측 구 | E3: ▶ 형 식 - 8(옹벽상단)
B4: 단 위 수 량
B15: 1.무근콘크리트 | F15: ( | G15: 0.3 | J15: × | K15: 0.15 | N15: ) | O15: ＋ | P15: ( | Q15: 0.12 | T15: × | U15: 0.75 | X15: × | Y15: 2 | AB15: ) | AF15: = | AI15: =ROUND((G15*K15)+(Q15*U15*Y15),3) -> 0.225 | AJ15: ㎥
B16: 강도24,골재25
B18: 2.거 푸 집 | F18: 수직면: | J18: ( | K18: 0.75 | M18: × | N18: 2 | P18: ) | Q18: ＋ | R18: ( | S18: 0.6 | V18: × | W18: 2 | Z18: ) | AF18: = | AI18: =(K18*N18)+(S18*W18) -> 2.7 | AJ18: ㎡
B19: 유로폼
B22: 3.비닐깔기 | F22: 0.54 | I22: × | J22: 1 | AF22: = | AI22: =F22*J22 -> 0.54 | AJ22: ㎡
B26: 4.신축이음 | F26: =AI15 -> 0.225 | I26: × | J26: 0.083333333 | AF26: = | AI26: =ROUNDDOWN(F26*J26,3) -> 0.018 | AJ26: ㎡
B27: (스치로폴T=10mm)
B30: 5.수축줄눈 | E30: {( | F30: 0.12 | I30: ＋ | J30: 0.6 | M30: ) | N30: × | O30: 2 | R30: ＋ | S30: 0.3 | V30: } | W30: × | X30: 0.16666667 | AF30: = | AI30: =ROUND(((F30+J30)*O30+S30)*X30,3) -> 0.29 | AJ30: m
B31: (6mm×50mm)

Sheet U형측구 단위수량(형식-16_(0.45x1.00)
A1: 공 종 | D1: 산 출 근 거 | AH1: 비 고
B3: U 형 측 구 | E3: ▶ 형 식 - 13
B4: 단 위 수 량 | N4: 0.15 | Q4: 0.45 | V4: 0.15
Z6: 1
Z12: 0.15
B15: 1.무근콘크리트 | F15: ( | G15: =(N4+Q4+V4) -> 0.75 | J15: × | K15: =Z12 -> 0.15 | N15: ) | O15: ＋ | P15: ( | Q15: =N4 -> 0.15 | T15: × | U15: =Z6 -> 1 | X15: × | Y15: 2 | AB15: ) | AF15: = | AI15: =ROUND((G15*K15)+(Q15*U15*Y15),3) -> 0.413 | AJ15: ㎥
B16: 강도21,골재25
B18: 2.거 푸 집 | F18: 수직면: | J18: ( | K18: =(Z6+Z12) -> 1.15 | M18: × | N18: 2 | P18: ) | Q18: ＋ | R18: ( | S18: =Q4 -> 0.45 | V18: × | W18: 2 | Z18: ) | AF18: = | AI18: =(K18*N18)+(S18*W18) -> 3.2 | AJ18: ㎡
B19: 유로폼
B22: 3.비닐깔기 | F22: =G15 -> 0.75 | I22: × | J22: 1 | AF22: = | AI22: =F22*J22 -> 0.75 | AJ22: ㎡
B26: 4.신축이음 | F26: =AI15 -> 0.413 | I26: × | J26: 0.083333333 | AF26: = | AI26: =ROUNDDOWN(F26*J26,3) -> 0.034 | AJ26: ㎡
B27: (스치로폴T=10mm)
B30: 5.수축줄눈 | E30: {( | F30: =N4 -> 0.15 | I30: ＋ | J30: =Z6 -> 1 | M30: ) | N30: × | O30: 2 | R30: ＋ | S30: =Q4 -> 0.45 | V30: } | W30: × | X30: 0.16666667 | AF30: = | AI30: =ROUND(((F30+J30)*O30+S30)*X30,3) -> 0.458 | AJ30: m
B31: (6mm×50mm)

Sheet U형측구단위수량 (형식28)
A1: U형측구 | V1: 형식28 | AD1: 0.4 | AF1: X | AG1: 0.4
AQ3: 철근콘크리트개거 제원표
N4: =F6+K6+N6+S6+W6 -> 2.1 | AP4: 개거 가로폭 : | AV4: =AD1 -> 0.4 | AY4: M
AP5: 개거 세로폭 : | AV5: =AG1 -> 0.4 | AY5: M
F6: =(AG11*0.5)+I17 -> 0.7 | K6: =AV6 -> 0.15 | N6: =AD1 -> 0.4 | S6: =AV6 -> 0.15 | W6: =(AG11*0.5)+U17 -> 0.7 | AP6: 벽체 상단폭 : | AV6: 0.15 | AY6: M
AP7: 벽체 하단폭 : | AV7: 0.15 | AY7: M
AP8: 기초 하단폭 : | AV8: 0.15 | AY8: M
AP9: 헌 치 : | AV9: 0.1 | AY9: M
AJ10: =AV5 -> 0.4 | AL10: =AJ13+AJ10 -> 0.55
Y11: 1:0.5 | AG11: =AJ10+AJ13+AJ16 -> 0.6
AJ13: =AV8 -> 0.15
AJ16: 0.05
I17: 0.4 | N17: =AD1 -> 0.4 | U17: 0.4
K18: =AV7 -> 0.15 | S18: =AV7 -> 0.15
N19: =I17+K18+N17+S18+U17 -> 1.5 | AA19: 헌치 : | AD19: =AV9*1000 -> 100 | AF19: x | AG19: =AD19 -> 100
A21: 공 종 | H21: 산 출 근 거 | AW21: 결 과
A23: 터 파 기 | H23: (육상)
A24: 토 사 (0~2m) | I24: ( | J24: =N19 -> 1.5 | M24: + | N24: =N4 -> 2.1 | Q24: ) | R24: X | S24: 1/2 | U24: X | V24: =AG11 -> 0.6 | Y24: X | Z24: 1 | AB24: M | AU24: = | AW24: =ROUNDDOWN((J24+N24)*0.5*V24*Z24,3) -> 1.08
A26: 유 용 토
C27: 토 사 | J27: =AW24+AW25 -> 1.08 | N27: - | O27: =AW29 -> 0.65 | AU27: = | AW27: =J27-O27 -> 0.43
A29: 되 메 우 기 | I29: {( | J29: =I17 -> 0.4 | M29: + | N29: =F6 -> 0.7 | Q29: ) | R29: X | S29: 1/2 | U29: X | V29: =AG11 -> 0.6 | Y29: X | Z29: 2 | AA29: EA | AC29: - | AD29: ( | AE29: =AJ16 -> 0.05 | AH29: X | AI29: 0.1 | AL29: ) | AM29: X | AN29: 2 | AO29: EA | AQ29: } | AR29: X | AS29: 1 | AU29: M | AV29: = | AW29: =((J29+N29)*0.5*V29*Z29-(AE29*AI29)*AN29)*AS29 -> 0.65
A31: 콘크리트타설 | H31: (철근)
A32: (강도=210,골재=25) | H32: 벽체및기둥 : | M32: {( | N32: =AV6 -> 0.15 | Q32: + | R32: =(AV6+AV9) -> 0.25 | U32: ) | V32: X | W32: 1/2 | Y32: X | Z32: =AV9 -> 0.1 | AC32: X | AD32: 2 | AE32: EA | AG32: + | AH32: ( | AI32: =AV6 -> 0.15 | AL32: X | AM32: =AV5-AV9 -> 0.3 | AP32: ) | AQ32: X | AR32: 2 | AS32: EA | AU32: = | AW32: =ROUNDDOWN(((N32+R32)/2*Z32*AD32)+(AI32*AM32*AR32),3) -> 0.13
H34: 기 초 : | M34: ( | N34: =K18+N17+S18 -> 0.7 | Q34: X | R34: =AJ13 -> 0.15 | U34: ) | V34: X | W34: 1 | Y34: M | AU34: = | AW34: =ROUNDDOWN((N34*R34)*W34,3) -> 0.105
AT35: 계 | AU35: ) | AW35: =AW34+AW32 -> 0.235
H36: (무근)
A37: (강도=150,골재=40) | H37: 빈 배 합 : | M37: ( | N37: =AV4+AV7*2+0.2 -> 0.9 | Q37: X | R37: =AJ16 -> 0.05 | U37: ) | V37: X | W37: 1 | Y37: M | AU37: = | AW37: =ROUNDDOWN((N37*R37)*W37,3) -> 0.045
A39: 철 근
C40: D10 | I40: (( | J40: 5.19 | N40: X | O40: =+AV4 -> 0.4 | R40: ) | T40: + | U40: 7.08 | Y40: kg | Z40: ) | AU40: = | AW40: 0.01
A42: 거 푸 집
C43: 보 통 마 감 | H43: 수 직 면 : | M43: {( | N43: =AJ10+AJ13 -> 0.55 | Q43: + | R43: =AV5-AV9 -> 0.3 | U43: ) | V43: X | W43: 2 | X43: EA | AU43: = | AW43: =(N43+R43)*W43 -> 1.7
H44: 경 사 면 : | M44: √( | N44: =AV9 -> 0.1 | Q44: 2 | R44: + | S44: =AV9 -> 0.1 | V44: 2 | W44: ) | X44: X | Y44: 2 | Z44: EA | AB44: X | AC44: 1 | AE44: M | AU44: = | AW44: =SQRT(N44^2+S44^2)*Y44*AC44 -> 0.28284271
A45: P. V. C 관 | I45: 1 | K45: X | L45: 1/9 | AU45: = | AW45: =I45*(1/9) -> 0.11111111
A47: 비 닐 깔 기 | I47: =K18+N17+S18+0.2 -> 0.9 | K47: X | L47: 1 | AU47: = | AW47: =I47*L47 -> 0.9
A49: 신 축 이 음 | I49: =AW35 -> 0.235 | L49: X | M49: 1/12 | AU49: = | AW49: =I49*(1/12) -> 0.019583333
A51: 수 축 줄 눈 | I51: {( | J51: √( | L51: =AV9 -> 0.1 | O51: ² | P51: ＋ | Q51: =L51 -> 0.1 | T51: ²) | V51: + | W51: 0.15 | Z51: + | AA51: =AV5-AV9 -> 0.3 | AD51: ) | AE51: X | AF51: 2 | AH51: + | AI51: =AV4-AV9*2 -> 0.2 | AK51: } | AL51: X | AM51: 1/6 | AU51: = | AW51: =SQRT(((L51^2+Q51^2)+W51+AA51)*AF51+AI51)*(1/6) -> 0.1779513

Sheet U형측구단위수량 (형식-29)
A1: U형측구 | V1: 형식29 | AD1: 0.6 | AF1: X | AG1: 0.4
AQ3: 철근콘크리트개거 제원표
N4: =F6+K6+N6+S6+W6 -> 2.3 | AP4: 개거 가로폭 : | AV4: =AD1 -> 0.6 | AY4: M
AP5: 개거 세로폭 : | AV5: =AG1 -> 0.4 | AY5: M
F6: =(AG11*0.5)+I17 -> 0.7 | K6: =AV6 -> 0.15 | N6: =AD1 -> 0.6 | S6: =AV6 -> 0.15 | W6: =(AG11*0.5)+U17 -> 0.7 | AP6: 벽체 상단폭 : | AV6: 0.15 | AY6: M
AP7: 벽체 하단폭 : | AV7: 0.15 | AY7: M
AP8: 기초 하단폭 : | AV8: 0.15 | AY8: M
AP9: 헌 치 : | AV9: 0.1 | AY9: M
AJ10: =AV5 -> 0.4 | AL10: =AJ13+AJ10 -> 0.55
Y11: 1:0.5 | AG11: =AJ10+AJ13+AJ16 -> 0.6
AJ13: =AV8 -> 0.15
AJ16: 0.05
I17: 0.4 | N17: =AD1 -> 0.6 | U17: 0.4
K18: =AV7 -> 0.15 | S18: =AV7 -> 0.15
N19: =I17+K18+N17+S18+U17 -> 1.7 | AA19: 헌치 : | AD19: =AV9*1000 -> 100 | AF19: x | AG19: =AD19 -> 100
A21: 공 종 | H21: 산 출 근 거 | AW21: 결 과
A23: 터 파 기 | H23: (육상)
A24: 토 사 (0~2m) | I24: ( | J24: =N19 -> 1.7 | M24: + | N24: =N4 -> 2.3 | Q24: ) | R24: X | S24: 1/2 | U24: X | V24: =AG11 -> 0.6 | Y24: X | Z24: 1 | AB24: M | AU24: = | AW24: =ROUNDDOWN((J24+N24)*0.5*V24*Z24,3) -> 1.2
A26: 유 용 토
C27: 토 사 | J27: =AW24+AW25 -> 1.2 | N27: - | O27: =AW29 -> 0.65 | AU27: = | AW27: =J27-O27 -> 0.55
A29: 되 메 우 기 | I29: {( | J29: =I17 -> 0.4 | M29: + | N29: =F6 -> 0.7 | Q29: ) | R29: X | S29: 1/2 | U29: X | V29: =AG11 -> 0.6 | Y29: X | Z29: 2 | AA29: EA | AC29: - | AD29: ( | AE29: =AJ16 -> 0.05 | AH29: X | AI29: 0.1 | AL29: ) | AM29: X | AN29: 2 | AO29: EA | AQ29: } | AR29: X | AS29: 1 | AU29: M | AV29: = | AW29: =((J29+N29)*0.5*V29*Z29-(AE29*AI29)*AN29)*AS29 -> 0.65
A31: 콘크리트타설 | H31: (철근)
A32: (강도=210,골재=25) | H32: 벽체및기둥 : | M32: {( | N32: =AV6 -> 0.15 | Q32: + | R32: =(AV6+AV9) -> 0.25 | U32: ) | V32: X | W32: 1/2 | Y32: X | Z32: =AV9 -> 0.1 | AC32: X | AD32: 2 | AE32: EA | AG32: + | AH32: ( | AI32: =AV6 -> 0.15 | AL32: X | AM32: =AV5-AV9 -> 0.3 | AP32: ) | AQ32: X | AR32: 2 | AS32: EA | AU32: = | AW32: =ROUNDDOWN(((N32+R32)/2*Z32*AD32)+(AI32*AM32*AR32),3) -> 0.13
H34: 기 초 : | M34: ( | N34: =K18+N17+S18 -> 0.9 | Q34: X | R34: =AJ13 -> 0.15 | U34: ) | V34: X | W34: 1 | Y34: M | AU34: = | AW34: =ROUNDDOWN((N34*R34)*W34,3) -> 0.135
AT35: 계 | AU35: ) | AW35: =AW34+AW32 -> 0.265
H36: (무근)
A37: (강도=150,골재=40) | H37: 빈 배 합 : | M37: ( | N37: =AV4+AV7*2+0.2 -> 1.1 | Q37: X | R37: =AJ16 -> 0.05 | U37: ) | V37: X | W37: 1 | Y37: M | AU37: = | AW37: =ROUNDDOWN((N37*R37)*W37,3) -> 0.055
A39: 철 근
C40: D10 | I40: (( | J40: 5.19 | N40: X | O40: =+AV4 -> 0.6 | R40: ) | T40: + | U40: 7.08 | Y40: kg | Z40: ) | AU40: = | AW40: 0.01
A42: 거 푸 집
C43: 보 통 마 감 | H43: 수 직 면 : | M43: {( | N43: =AJ10+AJ13 -> 0.55 | Q43: + | R43: =AV5-AV9 -> 0.3 | U43: ) | V43: X | W43: 2 | X43: EA | AU43: = | AW43: =(N43+R43)*W43 -> 1.7
H44: 경 사 면 : | M44: √( | N44: =AV9 -> 0.1 | Q44: 2 | R44: + | S44: =AV9 -> 0.1 | V44: 2 | W44: ) | X44: X | Y44: 2 | Z44: EA | AB44: X | AC44: 1 | AE44: M | AU44: = | AW44: =SQRT(N44^2+S44^2)*Y44*AC44 -> 0.28284271
A45: P. V. C 관 | I45: 1 | K45: X | L45: 1/9 | AU45: = | AW45: =I45*(1/9) -> 0.11111111
A47: 비 닐 깔 기 | I47: =K18+N17+S18+0.2 -> 1.1 | K47: X | L47: 1 | AU47: = | AW47: =I47*L47 -> 1.1
A49: 신 축 이 음 | I49: =AW35 -> 0.265 | L49: X | M49: 1/12 | AU49: = | AW49: =I49*(1/12) -> 0.022083333
A51: 수 축 줄 눈 | I51: {( | J51: √( | L51: =AV9 -> 0.1 | O51: ² | P51: ＋ | Q51: =L51 -> 0.1 | T51: ²) | V51: + | W51: 0.15 | Z51: + | AA51: =AV5-AV9 -> 0.3 | AD51: ) | AE51: X | AF51: 2 | AH51: + | AI51: =AV4-AV9*2 -> 0.4 | AK51: } | AL51: X | AM51: 1/6 | AU51: = | AW51: =SQRT(((L51^2+Q51^2)+W51+AA51)*AF51+AI51)*(1/6) -> 0.19293062

Sheet U형측구 단위수량(형식-7_옹벽상단300X300) (2)
A1: 공 종 | D1: 산 출 근 거 | AH1: 비 고
B3: U 형 측 구 | E3: ▶ 형 식 - 6
B4: 단 위 수 량
B15: 1.무근콘크리트 | F15: ( | G15: 0.54 | J15: × | K15: 0.15 | N15: ) | O15: ＋ | P15: ( | Q15: 0.12 | T15: × | U15: 0.3 | X15: × | Y15: 2 | AB15: ) | AF15: = | AI15: =ROUND((G15*K15)+(Q15*U15*Y15),3) -> 0.153 | AJ15: ㎥
B16: 강도21,골재25
B18: 2.거 푸 집 | F18: 수직면: | J18: ( | K18: 0.45 | M18: × | N18: 2 | P18: ) | Q18: ＋ | R18: ( | S18: 0.3 | V18: × | W18: 2 | Z18: ) | AF18: = | AI18: =(K18*N18)+(S18*W18) -> 1.5 | AJ18: ㎡
B19: 유로폼
B22: 3.비닐깔기 | F22: 0.54 | I22: × | J22: 1 | AF22: = | AI22: =F22*J22 -> 0.54 | AJ22: ㎡
B26: 4.신축이음 | F26: =AI15 -> 0.153 | I26: × | J26: 0.083333333 | AF26: = | AI26: =ROUNDDOWN(F26*J26,3) -> 0.012 | AJ26: ㎡
B27: (스치로폴T=10mm)
B30: 5.수축줄눈 | E30: {( | F30: 0.12 | I30: ＋ | J30: 0.3 | M30: ) | N30: × | O30: 2 | R30: ＋ | S30: 0.3 | V30: } | W30: × | X30: 0.16666667 | AF30: = | AI30: =ROUND(((F30+J30)*O30+S30)*X30,3) -> 0.19 | AJ30: m
B31: (6mm×50mm)

Sheet U형측구단위수량 (형식9)
A1: U형측구 | V1: 형식9 | AD1: 0.5 | AF1: X | AG1: 0.5
AQ3: 철근콘크리트개거 제원표
N4: =F6+K6+N6+S6+W6 -> 2.3 | AP4: 개거 가로폭 : | AV4: =AD1 -> 0.5 | AY4: M
AP5: 개거 세로폭 : | AV5: =AG1 -> 0.5 | AY5: M
F6: =(AG11*0.5)+I17 -> 0.75 | K6: =AV6 -> 0.15 | N6: =AD1 -> 0.5 | S6: =AV6 -> 0.15 | W6: =(AG11*0.5)+U17 -> 0.75 | AP6: 벽체 상단폭 : | AV6: 0.15 | AY6: M
AP7: 벽체 하단폭 : | AV7: 0.15 | AY7: M
AP8: 기초 하단폭 : | AV8: 0.15 | AY8: M
AP9: 헌 치 : | AV9: 0.1 | AY9: M
AJ10: =AV5 -> 0.5 | AL10: =AJ13+AJ10 -> 0.65
Y11: 1:0.5 | AG11: =AJ10+AJ13+AJ16 -> 0.7
AJ13: =AV8 -> 0.15
AJ16: 0.05
I17: 0.4 | N17: =AD1 -> 0.5 | U17: 0.4
K18: =AV7 -> 0.15 | S18: =AV7 -> 0.15
N19: =I17+K18+N17+S18+U17 -> 1.6 | AA19: 헌치 : | AD19: =AV9*1000 -> 100 | AF19: x | AG19: =AD19 -> 100
A21: 공 종 | H21: 산 출 근 거 | AW21: 결 과
A23: 터 파 기 | H23: (육상)
A24: 토 사 (0~2m) | I24: ( | J24: =N19 -> 1.6 | M24: + | N24: =N4 -> 2.3 | Q24: ) | R24: X | S24: 1/2 | U24: X | V24: =AG11 -> 0.7 | Y24: X | Z24: 1 | AB24: M | AU24: = | AW24: =ROUNDDOWN((J24+N24)*0.5*V24*Z24,3) -> 1.365
A26: 유 용 토
C27: 토 사 | J27: =AW24+AW25 -> 1.365 | N27: - | O27: =AW29 -> 0.795 | AU27: = | AW27: =J27-O27 -> 0.57
A29: 되 메 우 기 | I29: {( | J29: =I17 -> 0.4 | M29: + | N29: =F6 -> 0.75 | Q29: ) | R29: X | S29: 1/2 | U29: X | V29: =AG11 -> 0.7 | Y29: X | Z29: 2 | AA29: EA | AC29: - | AD29: ( | AE29: =AJ16 -> 0.05 | AH29: X | AI29: 0.1 | AL29: ) | AM29: X | AN29: 2 | AO29: EA | AQ29: } | AR29: X | AS29: 1 | AU29: M | AV29: = | AW29: =((J29+N29)*0.5*V29*Z29-(AE29*AI29)*AN29)*AS29 -> 0.795
A31: 콘크리트타설 | H31: (철근)
A32: (강도=210,골재=25) | H32: 벽체및기둥 : | M32: {( | N32: =AV6 -> 0.15 | Q32: + | R32: =(AV6+AV9) -> 0.25 | U32: ) | V32: X | W32: 1/2 | Y32: X | Z32: =AV9 -> 0.1 | AC32: X | AD32: 2 | AE32: EA | AG32: + | AH32: ( | AI32: =AV6 -> 0.15 | AL32: X | AM32: =AV5-AV9 -> 0.4 | AP32: ) | AQ32: X | AR32: 2 | AS32: EA | AU32: = | AW32: =ROUNDDOWN(((N32+R32)/2*Z32*AD32)+(AI32*AM32*AR32),3) -> 0.16
H34: 기 초 : | M34: ( | N34: =K18+N17+S18 -> 0.8 | Q34: X | R34: =AJ13 -> 0.15 | U34: ) | V34: X | W34: 1 | Y34: M | AU34: = | AW34: =ROUNDDOWN((N34*R34)*W34,3) -> 0.12
AT35: 계 | AU35: ) | AW35: =AW34+AW32 -> 0.28
H36: (무근)
A37: (강도=150,골재=40) | H37: 빈 배 합 : | M37: ( | N37: =AV4+AV7*2+0.2 -> 1 | Q37: X | R37: =AJ16 -> 0.05 | U37: ) | V37: X | W37: 1 | Y37: M | AU37: = | AW37: =ROUNDDOWN((N37*R37)*W37,3) -> 0.05
A39: 철 근
C40: D10 | I40: (( | J40: 5.19 | N40: X | O40: =+AV4 -> 0.5 | R40: ) | T40: + | U40: 7.08 | Y40: kg | Z40: ) | AU40: = | AW40: 0.01
A42: 거 푸 집
C43: 보 통 마 감 | H43: 수 직 면 : | M43: {( | N43: =AJ10+AJ13 -> 0.65 | Q43: + | R43: =AV5-AV9 -> 0.4 | U43: ) | V43: X | W43: 2 | X43: EA | AU43: = | AW43: =(N43+R43)*W43 -> 2.1
H44: 경 사 면 : | M44: √( | N44: =AV9 -> 0.1 | Q44: 2 | R44: + | S44: =AV9 -> 0.1 | V44: 2 | W44: ) | X44: X | Y44: 2 | Z44: EA | AB44: X | AC44: 1 | AE44: M | AU44: = | AW44: =SQRT(N44^2+S44^2)*Y44*AC44 -> 0.28284271
A45: P. V. C 관 | I45: 1 | K45: X | L45: 1/9 | AU45: = | AW45: =I45*(1/9) -> 0.11111111
A47: 비 닐 깔 기 | I47: =K18+N17+S18+0.2 -> 1 | K47: X | L47: 1 | AU47: = | AW47: =I47*L47 -> 1
A49: 신 축 이 음 | I49: =AW35 -> 0.28 | L49: X | M49: 1/12 | AU49: = | AW49: =I49*(1/12) -> 0.023333333
A51: 수 축 줄 눈 | I51: {( | J51: √( | L51: =AV9 -> 0.1 | O51: ² | P51: ＋ | Q51: =L51 -> 0.1 | T51: ²) | V51: + | W51: 0.15 | Z51: + | AA51: =AV5-AV9 -> 0.4 | AD51: ) | AE51: X | AF51: 2 | AH51: + | AI51: =AV4-AV9*2 -> 0.3 | AK51: } | AL51: X | AM51: 1/6 | AU51: = | AW51: =SQRT(((L51^2+Q51^2)+W51+AA51)*AF51+AI51)*(1/6) -> 0.2

Sheet U형측구단위수량 (형식10)
A1: U형측구 | V1: 형식6 | AD1: 0.6 | AF1: X | AG1: 0.6
AQ3: 철근콘크리트개거 제원표
N4: =F6+K6+N6+S6+W6 -> 2.5 | AP4: 개거 가로폭 : | AV4: =AD1 -> 0.6 | AY4: M
AP5: 개거 세로폭 : | AV5: =AG1 -> 0.6 | AY5: M
F6: =(AG11*0.5)+I17 -> 0.8 | K6: =AV6 -> 0.15 | N6: =AD1 -> 0.6 | S6: =AV6 -> 0.15 | W6: =(AG11*0.5)+U17 -> 0.8 | AP6: 벽체 상단폭 : | AV6: 0.15 | AY6: M
AP7: 벽체 하단폭 : | AV7: 0.15 | AY7: M
AP8: 기초 하단폭 : | AV8: 0.15 | AY8: M
AP9: 헌 치 : | AV9: 0.1 | AY9: M
AJ10: =AV5 -> 0.6 | AL10: =AJ13+AJ10 -> 0.75
Y11: 1:0.5 | AG11: =AJ10+AJ13+AJ16 -> 0.8
AJ13: =AV8 -> 0.15
AJ16: 0.05
I17: 0.4 | N17: =AD1 -> 0.6 | U17: 0.4
K18: =AV7 -> 0.15 | S18: =AV7 -> 0.15
N19: =I17+K18+N17+S18+U17 -> 1.7 | AA19: 헌치 : | AD19: =AV9*1000 -> 100 | AF19: x | AG19: =AD19 -> 100
A21: 공 종 | H21: 산 출 근 거 | AW21: 결 과
A23: 터 파 기 | H23: (육상)
A24: 토 사 (0~2m) | I24: ( | J24: =N19 -> 1.7 | M24: + | N24: =N4 -> 2.5 | Q24: ) | R24: X | S24: 1/2 | U24: X | V24: =AG11 -> 0.8 | Y24: X | Z24: 1 | AB24: M | AU24: = | AW24: =ROUNDDOWN((J24+N24)*0.5*V24*Z24,3) -> 1.68
A26: 유 용 토
C27: 토 사 | J27: =AW24+AW25 -> 1.68 | N27: - | O27: =AW29 -> 0.95 | AU27: = | AW27: =J27-O27 -> 0.73
A29: 되 메 우 기 | I29: {( | J29: =I17 -> 0.4 | M29: + | N29: =F6 -> 0.8 | Q29: ) | R29: X | S29: 1/2 | U29: X | V29: =AG11 -> 0.8 | Y29: X | Z29: 2 | AA29: EA | AC29: - | AD29: ( | AE29: =AJ16 -> 0.05 | AH29: X | AI29: 0.1 | AL29: ) | AM29: X | AN29: 2 | AO29: EA | AQ29: } | AR29: X | AS29: 1 | AU29: M | AV29: = | AW29: =((J29+N29)*0.5*V29*Z29-(AE29*AI29)*AN29)*AS29 -> 0.95
A31: 콘크리트타설 | H31: (철근)
A32: (강도=210,골재=25) | H32: 벽체및기둥 : | M32: {( | N32: =AV6 -> 0.15 | Q32: + | R32: =(AV6+AV9) -> 0.25 | U32: ) | V32: X | W32: 1/2 | Y32: X | Z32: =AV9 -> 0.1 | AC32: X | AD32: 2 | AE32: EA | AG32: + | AH32: ( | AI32: =AV6 -> 0.15 | AL32: X | AM32: =AV5-AV9 -> 0.5 | AP32: ) | AQ32: X | AR32: 2 | AS32: EA | AU32: = | AW32: =ROUNDDOWN(((N32+R32)/2*Z32*AD32)+(AI32*AM32*AR32),3) -> 0.19
H34: 기 초 : | M34: ( | N34: =K18+N17+S18 -> 0.9 | Q34: X | R34: =AJ13 -> 0.15 | U34: ) | V34: X | W34: 1 | Y34: M | AU34: = | AW34: =ROUNDDOWN((N34*R34)*W34,3) -> 0.135
AT35: 계 | AU35: ) | AW35: =AW34+AW32 -> 0.325
H36: (무근)
A37: (강도=150,골재=40) | H37: 빈 배 합 : | M37: ( | N37: =AV4+AV7*2+0.2 -> 1.1 | Q37: X | R37: =AJ16 -> 0.05 | U37: ) | V37: X | W37: 1 | Y37: M | AU37: = | AW37: =ROUNDDOWN((N37*R37)*W37,3) -> 0.055
A39: 철 근
C40: D10 | I40: (( | J40: 5.19 | N40: X | O40: =+AV4 -> 0.6 | R40: ) | T40: + | U40: 7.08 | Y40: kg | Z40: ) | AU40: = | AW40: 0.01
A42: 거 푸 집
C43: 보 통 마 감 | H43: 수 직 면 : | M43: {( | N43: =AJ10+AJ13 -> 0.75 | Q43: + | R43: =AV5-AV9 -> 0.5 | U43: ) | V43: X | W43: 2 | X43: EA | AU43: = | AW43: =(N43+R43)*W43 -> 2.5
H44: 경 사 면 : | M44: √( | N44: =AV9 -> 0.1 | Q44: 2 | R44: + | S44: =AV9 -> 0.1 | V44: 2 | W44: ) | X44: X | Y44: 2 | Z44: EA | AB44: X | AC44: 1 | AE44: M | AU44: = | AW44: =SQRT(N44^2+S44^2)*Y44*AC44 -> 0.28284271
A45: P. V. C 관 | I45: 1 | K45: X | L45: 1/9 | AU45: = | AW45: =I45*(1/9) -> 0.11111111
A47: 비 닐 깔 기 | I47: =K18+N17+S18+0.2 -> 1.1 | K47: X | L47: 1 | AU47: = | AW47: =I47*L47 -> 1.1
A49: 신 축 이 음 | I49: =AW35 -> 0.325 | L49: X | M49: 1/12 | AU49: = | AW49: =I49*(1/12) -> 0.027083333
A51: 수 축 줄 눈 | I51: {( | J51: √( | L51: =AV9 -> 0.1 | O51: ² | P51: ＋ | Q51: =L51 -> 0.1 | T51: ²) | V51: + | W51: 0.15 | Z51: + | AA51: =AV5-AV9 -> 0.5 | AD51: ) | AE51: X | AF51: 2 | AH51: + | AI51: =AV4-AV9*2 -> 0.4 | AK51: } | AL51: X | AM51: 1/6 | AU51: = | AW51: =SQRT(((L51^2+Q51^2)+W51+AA51)*AF51+AI51)*(1/6) -> 0.21984843

Sheet U형측구 단위수량 (형식31)
A1: U형측구 | V1: 형식31 | AD1: 0.7 | AF1: X | AG1: 0.5
AQ3: 철근콘크리트개거 제원표
N4: =F6+K6+N6+S6+W6 -> 2.5 | AP4: 개거 가로폭 : | AV4: =AD1 -> 0.7 | AY4: M
AP5: 개거 세로폭 : | AV5: =AG1 -> 0.5 | AY5: M
F6: =(AG11*0.5)+I17 -> 0.75 | K6: =AV6 -> 0.15 | N6: =AD1 -> 0.7 | S6: =AV6 -> 0.15 | W6: =(AG11*0.5)+U17 -> 0.75 | AP6: 벽체 상단폭 : | AV6: 0.15 | AY6: M
AP7: 벽체 하단폭 : | AV7: 0.15 | AY7: M
AP8: 기초 하단폭 : | AV8: 0.15 | AY8: M
AP9: 헌 치 : | AV9: 0.1 | AY9: M
AJ10: =AV5 -> 0.5 | AL10: =AJ13+AJ10 -> 0.65
Y11: 1:0.5 | AG11: =AJ10+AJ13+AJ16 -> 0.7
AJ13: =AV8 -> 0.15
AJ16: 0.05
I17: 0.4 | N17: =AD1 -> 0.7 | U17: 0.4
K18: =AV7 -> 0.15 | S18: =AV7 -> 0.15
N19: =I17+K18+N17+S18+U17 -> 1.8 | AA19: 헌치 : | AD19: =AV9*1000 -> 100 | AF19: x | AG19: =AD19 -> 100
A21: 공 종 | H21: 산 출 근 거 | AW21: 결 과
A23: 터 파 기 | H23: (육상)
A24: 토 사 (0~2m) | I24: ( | J24: =N19 -> 1.8 | M24: + | N24: =N4 -> 2.5 | Q24: ) | R24: X | S24: 1/2 | U24: X | V24: =AG11 -> 0.7 | Y24: X | Z24: 1 | AB24: M | AU24: = | AW24: =ROUNDDOWN((J24+N24)*0.5*V24*Z24,3) -> 1.505
A26: 유 용 토
C27: 토 사 | J27: =AW24+AW25 -> 1.505 | N27: - | O27: =AW29 -> 0.795 | AU27: = | AW27: =J27-O27 -> 0.71
A29: 되 메 우 기 | I29: {( | J29: =I17 -> 0.4 | M29: + | N29: =F6 -> 0.75 | Q29: ) | R29: X | S29: 1/2 | U29: X | V29: =AG11 -> 0.7 | Y29: X | Z29: 2 | AA29: EA | AC29: - | AD29: ( | AE29: =AJ16 -> 0.05 | AH29: X | AI29: 0.1 | AL29: ) | AM29: X | AN29: 2 | AO29: EA | AQ29: } | AR29: X | AS29: 1 | AU29: M | AV29: = | AW29: =((J29+N29)*0.5*V29*Z29-(AE29*AI29)*AN29)*AS29 -> 0.795
A31: 콘크리트타설 | H31: (철근)
A32: (강도=210,골재=25) | H32: 벽체및기둥 : | M32: {( | N32: =AV6 -> 0.15 | Q32: + | R32: =(AV6+AV9) -> 0.25 | U32: ) | V32: X | W32: 1/2 | Y32: X | Z32: =AV9 -> 0.1 | AC32: X | AD32: 2 | AE32: EA | AG32: + | AH32: ( | AI32: =AV6 -> 0.15 | AL32: X | AM32: =AV5-AV9 -> 0.4 | AP32: ) | AQ32: X | AR32: 2 | AS32: EA | AU32: = | AW32: =ROUNDDOWN(((N32+R32)/2*Z32*AD32)+(AI32*AM32*AR32),3) -> 0.16
H34: 기 초 : | M34: ( | N34: =K18+N17+S18 -> 1 | Q34: X | R34: =AJ13 -> 0.15 | U34: ) | V34: X | W34: 1 | Y34: M | AU34: = | AW34: =ROUNDDOWN((N34*R34)*W34,3) -> 0.15
AT35: 계 | AU35: ) | AW35: =AW34+AW32 -> 0.31
H36: (무근)
A37: (강도=150,골재=40) | H37: 빈 배 합 : | M37: ( | N37: =AV4+AV7*2+0.2 -> 1.2 | Q37: X | R37: =AJ16 -> 0.05 | U37: ) | V37: X | W37: 1 | Y37: M | AU37: = | AW37: =ROUNDDOWN((N37*R37)*W37,3) -> 0.06
A39: 철 근
C40: D10 | I40: (( | J40: 5.19 | N40: X | O40: =+AV4 -> 0.7 | R40: ) | T40: + | U40: 7.08 | Y40: kg | Z40: ) | AU40: = | AW40: 0.01
A42: 거 푸 집
C43: 보 통 마 감 | H43: 수 직 면 : | M43: {( | N43: =AJ10+AJ13 -> 0.65 | Q43: + | R43: =AV5-AV9 -> 0.4 | U43: ) | V43: X | W43: 2 | X43: EA | AU43: = | AW43: =(N43+R43)*W43 -> 2.1
H44: 경 사 면 : | M44: √( | N44: =AV9 -> 0.1 | Q44: 2 | R44: + | S44: =AV9 -> 0.1 | V44: 2 | W44: ) | X44: X | Y44: 2 | Z44: EA | AB44: X | AC44: 1 | AE44: M | AU44: = | AW44: =SQRT(N44^2+S44^2)*Y44*AC44 -> 0.28284271
A45: P. V. C 관 | I45: 1 | K45: X | L45: 1/9 | AU45: = | AW45: =I45*(1/9) -> 0.11111111
A47: 비 닐 깔 기 | I47: =(K18+N17+S18)+0.2 -> 1.2 | K47: X | L47: 1 | AU47: = | AW47: =I47*L47 -> 1.2
A49: 신 축 이 음 | I49: =AW35 -> 0.31 | L49: X | M49: 1/12 | AU49: = | AW49: =I49*(1/12) -> 0.025833333
A51: 수 축 줄 눈 | I51: {( | J51: √( | L51: =AV9 -> 0.1 | O51: ² | P51: ＋ | Q51: =L51 -> 0.1 | T51: ²) | V51: + | W51: 0.15 | Z51: + | AA51: =AV5-AV9 -> 0.4 | AD51: ) | AE51: X | AF51: 2 | AH51: + | AI51: =AV4-AV9*2 -> 0.5 | AK51: } | AL51: X | AM51: 1/6 | AU51: = | AW51: =SQRT(((L51^2+Q51^2)+W51+AA51)*AF51+AI51)*(1/6) -> 0.21343747

Sheet U형측구 단위수량(형식-9_보강토옹벽상단)
A1: 공 종 | D1: 산 출 근 거 | AH1: 비 고
B3: U 형 측 구 | E3: ▶ 형 식 - 9(보강토옹벽상단)
B4: 단 위 수 량
B15: 1.무근콘크리트 | F15: ( | G15: 0.7 | J15: × | K15: 0.15 | N15: ) | O15: ＋ | P15: ( | Q15: 0.15 | T15: × | U15: 0.2 | X15: × | Y15: 2 | AB15: ) | AF15: = | AI15: =ROUND((G15*K15)+(Q15*U15*Y15),3) -> 0.165 | AJ15: ㎥
B16: 강도21,골재25
B18: 2.거 푸 집 | F18: 수직면: | J18: ( | K18: 0.35 | M18: × | N18: 2 | P18: ) | Q18: ＋ | R18: ( | S18: 0.2 | V18: × | W18: 2 | Z18: ) | AF18: = | AI18: =(K18*N18)+(S18*W18) -> 1.1 | AJ18: ㎡
B19: 유로폼
B22: 3.비닐깔기 | F22: 0.7 | I22: × | J22: 1 | AF22: = | AI22: =F22*J22 -> 0.7 | AJ22: ㎡
B26: 4.신축이음 | F26: =AI15 -> 0.165 | I26: × | J26: 0.083333333 | AF26: = | AI26: =ROUNDDOWN(F26*J26,3) -> 0.013 | AJ26: ㎡
B27: (스치로폴T=10mm)
B30: 5.수축줄눈 | E30: {( | F30: 0.15 | I30: ＋ | J30: 0.2 | M30: ) | N30: × | O30: 2 | R30: ＋ | S30: 0.4 | V30: } | W30: × | X30: 0.16666667 | AF30: = | AI30: =ROUND(((F30+J30)*O30+S30)*X30,3) -> 0.183 | AJ30: m
B31: (6mm×50mm)
